BEGIN:VCALENDAR
VERSION:2.0
PRODID:-//Silpa S.r.l. - ECPv6.15.16.1//NONSGML v1.0//EN
CALSCALE:GREGORIAN
METHOD:PUBLISH
X-ORIGINAL-URL:https://www.silpa.org
X-WR-CALDESC:Eventi per Silpa S.r.l.
REFRESH-INTERVAL;VALUE=DURATION:PT1H
X-Robots-Tag:noindex
X-PUBLISHED-TTL:PT1H
BEGIN:VTIMEZONE
TZID:Europe/Helsinki
BEGIN:DAYLIGHT
TZOFFSETFROM:+0200
TZOFFSETTO:+0300
TZNAME:EEST
DTSTART:20230326T010000
END:DAYLIGHT
BEGIN:STANDARD
TZOFFSETFROM:+0300
TZOFFSETTO:+0200
TZNAME:EET
DTSTART:20231029T010000
END:STANDARD
BEGIN:DAYLIGHT
TZOFFSETFROM:+0200
TZOFFSETTO:+0300
TZNAME:EEST
DTSTART:20240331T010000
END:DAYLIGHT
BEGIN:STANDARD
TZOFFSETFROM:+0300
TZOFFSETTO:+0200
TZNAME:EET
DTSTART:20241027T010000
END:STANDARD
BEGIN:DAYLIGHT
TZOFFSETFROM:+0200
TZOFFSETTO:+0300
TZNAME:EEST
DTSTART:20250330T010000
END:DAYLIGHT
BEGIN:STANDARD
TZOFFSETFROM:+0300
TZOFFSETTO:+0200
TZNAME:EET
DTSTART:20251026T010000
END:STANDARD
END:VTIMEZONE
BEGIN:VTIMEZONE
TZID:Europe/Paris
BEGIN:DAYLIGHT
TZOFFSETFROM:+0100
TZOFFSETTO:+0200
TZNAME:CEST
DTSTART:20230326T010000
END:DAYLIGHT
BEGIN:STANDARD
TZOFFSETFROM:+0200
TZOFFSETTO:+0100
TZNAME:CET
DTSTART:20231029T010000
END:STANDARD
BEGIN:DAYLIGHT
TZOFFSETFROM:+0100
TZOFFSETTO:+0200
TZNAME:CEST
DTSTART:20240331T010000
END:DAYLIGHT
BEGIN:STANDARD
TZOFFSETFROM:+0200
TZOFFSETTO:+0100
TZNAME:CET
DTSTART:20241027T010000
END:STANDARD
BEGIN:DAYLIGHT
TZOFFSETFROM:+0100
TZOFFSETTO:+0200
TZNAME:CEST
DTSTART:20250330T010000
END:DAYLIGHT
BEGIN:STANDARD
TZOFFSETFROM:+0200
TZOFFSETTO:+0100
TZNAME:CET
DTSTART:20251026T010000
END:STANDARD
END:VTIMEZONE
BEGIN:VEVENT
DTSTART;TZID=Europe/Helsinki:20241218T083000
DTEND;TZID=Europe/Helsinki:20241218T173000
DTSTAMP:20260422T014722
CREATED:20241121T151204Z
LAST-MODIFIED:20241121T151204Z
UID:1675-1734510600-1734543000@www.silpa.org
SUMMARY:Corso Base di Primo Soccorso per Aziende di Gruppo A - 2°Giorno
DESCRIPTION:16 ore \nRICHIEDI INFO
URL:https://www.silpa.org/corso/corso-base-di-primo-soccorso-per-aziende-di-gruppo-a-dicembre-2024-2giorno/
LOCATION:Centro Addestramento Vimodrone\, Largo F.lli Cervi\, 8\, Vimodrone\, MI\, 20900\, Italia
ATTACH;FMTTYPE=image/jpeg:https://www.silpa.org/wp-content/uploads/2022/11/cpr-training.jpg
END:VEVENT
BEGIN:VEVENT
DTSTART;TZID=Europe/Helsinki:20241217T083000
DTEND;TZID=Europe/Helsinki:20241217T173000
DTSTAMP:20260422T014722
CREATED:20241121T151129Z
LAST-MODIFIED:20241121T151129Z
UID:1673-1734424200-1734456600@www.silpa.org
SUMMARY:Corso Base di Primo Soccorso per Aziende di Gruppo A - 1°Giorno
DESCRIPTION:16 ore \nRICHIEDI INFO
URL:https://www.silpa.org/corso/corso-base-di-primo-soccorso-per-aziende-di-gruppo-a-dicembre-2024-1giorno/
LOCATION:Centro Addestramento Vimodrone\, Largo F.lli Cervi\, 8\, Vimodrone\, MI\, 20900\, Italia
ATTACH;FMTTYPE=image/jpeg:https://www.silpa.org/wp-content/uploads/2022/11/cpr-training.jpg
END:VEVENT
BEGIN:VEVENT
DTSTART;TZID=Europe/Helsinki:20241217T083000
DTEND;TZID=Europe/Helsinki:20241217T173000
DTSTAMP:20260422T014722
CREATED:20241121T150741Z
LAST-MODIFIED:20241211T095719Z
UID:1667-1734424200-1734456600@www.silpa.org
SUMMARY:Corso Base Primo Soccorso per Aziende di Gruppo B e C - 1°Giorno
DESCRIPTION:12 ore \nRICHIEDI INFO
URL:https://www.silpa.org/corso/corso-base-primo-soccorso-per-aziende-di-gruppo-b-c-dicembre-2024-1giorno/
LOCATION:Centro Addestramento Vimodrone\, Largo F.lli Cervi\, 8\, Vimodrone\, MI\, 20900\, Italia
ATTACH;FMTTYPE=image/jpeg:https://www.silpa.org/wp-content/uploads/2022/11/cpr-training.jpg
END:VEVENT
BEGIN:VEVENT
DTSTART;TZID=Europe/Paris:20241212T083000
DTEND;TZID=Europe/Paris:20241212T173000
DTSTAMP:20260422T014722
CREATED:20241121T150633Z
LAST-MODIFIED:20241121T150633Z
UID:1665-1733992200-1734024600@www.silpa.org
SUMMARY:Corso Antincendio Livello II
DESCRIPTION:8 ore \n\nRICHIEDI INFO
URL:https://www.silpa.org/corso/corso-antincendio-livello-2-dicembre-2024/
LOCATION:Centro Addestramento Vimodrone\, Largo F.lli Cervi\, 8\, Vimodrone\, MI\, 20900\, Italia
ATTACH;FMTTYPE=image/jpeg:https://www.silpa.org/wp-content/uploads/2022/06/Silpa-Livello3.jpg
END:VEVENT
BEGIN:VEVENT
DTSTART;TZID=Europe/Helsinki:20241210T083000
DTEND;TZID=Europe/Helsinki:20241210T173000
DTSTAMP:20260422T014722
CREATED:20241121T150433Z
LAST-MODIFIED:20241121T150433Z
UID:1661-1733819400-1733851800@www.silpa.org
SUMMARY:Corso Antincendio Aggiornamento Livello III
DESCRIPTION:8 ore \nRICHIEDI INFO
URL:https://www.silpa.org/corso/corso-antincendio-aggiornamento-livello-3-dicembre-2024/
LOCATION:Centro Addestramento Vimodrone\, Largo F.lli Cervi\, 8\, Vimodrone\, MI\, 20900\, Italia
ATTACH;FMTTYPE=image/jpeg:https://www.silpa.org/wp-content/uploads/2022/06/Silpa-Aggiornamento-Livello3.jpg
END:VEVENT
BEGIN:VEVENT
DTSTART;TZID=Europe/Helsinki:20241206T083000
DTEND;TZID=Europe/Helsinki:20241206T133000
DTSTAMP:20260422T014722
CREATED:20241121T150547Z
LAST-MODIFIED:20241121T150547Z
UID:1663-1733473800-1733491800@www.silpa.org
SUMMARY:Corso Antincendio Aggiornamento Livello II
DESCRIPTION:5 ore \nRICHIEDI INFO
URL:https://www.silpa.org/corso/corso-antincendio-aggiornamento-livello-2-dicembre-2024/
LOCATION:Centro Addestramento Vimodrone\, Largo F.lli Cervi\, 8\, Vimodrone\, MI\, 20900\, Italia
ATTACH;FMTTYPE=image/jpeg:https://www.silpa.org/wp-content/uploads/2022/06/Silpa-Aggiornamento-Livello3.jpg
END:VEVENT
BEGIN:VEVENT
DTSTART;TZID=Europe/Paris:20241203T083000
DTEND;TZID=Europe/Paris:20241203T173000
DTSTAMP:20260422T014722
CREATED:20241121T150349Z
LAST-MODIFIED:20241121T150349Z
UID:1659-1733214600-1733247000@www.silpa.org
SUMMARY:Corso Antincendio Livello III - 2°Giorno
DESCRIPTION:16 ore \n\nRICHIEDI INFO
URL:https://www.silpa.org/corso/corso-antincendio-livello-3-dicembre-2024-2giorno/
LOCATION:Centro Addestramento Vimodrone\, Largo F.lli Cervi\, 8\, Vimodrone\, MI\, 20900\, Italia
ATTACH;FMTTYPE=image/jpeg:https://www.silpa.org/wp-content/uploads/2022/06/Silpa-Livello3.jpg
END:VEVENT
BEGIN:VEVENT
DTSTART;TZID=Europe/Paris:20241202T083000
DTEND;TZID=Europe/Paris:20241202T173000
DTSTAMP:20260422T014722
CREATED:20241121T150310Z
LAST-MODIFIED:20241121T150310Z
UID:1657-1733128200-1733160600@www.silpa.org
SUMMARY:Corso Antincendio Livello III - 1°Giorno
DESCRIPTION:16 ore \n\nRICHIEDI INFO
URL:https://www.silpa.org/corso/corso-antincendio-livello-3-dicembre-2024-1giorno/
LOCATION:Centro Addestramento Vimodrone\, Largo F.lli Cervi\, 8\, Vimodrone\, MI\, 20900\, Italia
ATTACH;FMTTYPE=image/jpeg:https://www.silpa.org/wp-content/uploads/2022/06/Silpa-Livello3.jpg
END:VEVENT
BEGIN:VEVENT
DTSTART;TZID=Europe/Helsinki:20241127T083000
DTEND;TZID=Europe/Helsinki:20241127T173000
DTSTAMP:20260422T014722
CREATED:20241023T071404Z
LAST-MODIFIED:20241023T071404Z
UID:1637-1732696200-1732728600@www.silpa.org
SUMMARY:Corso Antincendio Aggiornamento Livello III
DESCRIPTION:8 ore \nRICHIEDI INFO
URL:https://www.silpa.org/corso/corso-antincendio-aggiornamento-livello-3-novembre-2024/
LOCATION:Centro Addestramento Vimodrone\, Largo F.lli Cervi\, 8\, Vimodrone\, MI\, 20900\, Italia
ATTACH;FMTTYPE=image/jpeg:https://www.silpa.org/wp-content/uploads/2022/06/Silpa-Aggiornamento-Livello3.jpg
END:VEVENT
BEGIN:VEVENT
DTSTART;TZID=Europe/Helsinki:20241125T083000
DTEND;TZID=Europe/Helsinki:20241125T173000
DTSTAMP:20260422T014722
CREATED:20241023T071728Z
LAST-MODIFIED:20241023T071728Z
UID:1643-1732523400-1732555800@www.silpa.org
SUMMARY:Corso Base di Primo Soccorso per Aziende di Gruppo A - 2°Giorno
DESCRIPTION:16 ore \nRICHIEDI INFO
URL:https://www.silpa.org/corso/corso-base-di-primo-soccorso-per-aziende-di-gruppo-a-novembre-2024-2giorno/
LOCATION:Centro Addestramento Vimodrone\, Largo F.lli Cervi\, 8\, Vimodrone\, MI\, 20900\, Italia
ATTACH;FMTTYPE=image/jpeg:https://www.silpa.org/wp-content/uploads/2022/11/cpr-training.jpg
END:VEVENT
BEGIN:VEVENT
DTSTART;TZID=Europe/Paris:20241125T083000
DTEND;TZID=Europe/Paris:20241125T173000
DTSTAMP:20260422T014722
CREATED:20241023T071550Z
LAST-MODIFIED:20241023T071550Z
UID:1641-1732523400-1732555800@www.silpa.org
SUMMARY:Corso Antincendio Livello II
DESCRIPTION:8 ore \n\nRICHIEDI INFO
URL:https://www.silpa.org/corso/corso-antincendio-livello-2-novembre-2024/
LOCATION:Centro Addestramento Vimodrone\, Largo F.lli Cervi\, 8\, Vimodrone\, MI\, 20900\, Italia
ATTACH;FMTTYPE=image/jpeg:https://www.silpa.org/wp-content/uploads/2022/06/Silpa-Livello3.jpg
END:VEVENT
BEGIN:VEVENT
DTSTART;TZID=Europe/Paris:20241122T083000
DTEND;TZID=Europe/Paris:20241122T173000
DTSTAMP:20260422T014722
CREATED:20241023T071314Z
LAST-MODIFIED:20241023T071314Z
UID:1635-1732264200-1732296600@www.silpa.org
SUMMARY:Corso Antincendio Livello III - 2°Giorno
DESCRIPTION:16 ore \n\nRICHIEDI INFO
URL:https://www.silpa.org/corso/corso-antincendio-livello-3-novembre-2024-2giorno/
LOCATION:Centro Addestramento Vimodrone\, Largo F.lli Cervi\, 8\, Vimodrone\, MI\, 20900\, Italia
ATTACH;FMTTYPE=image/jpeg:https://www.silpa.org/wp-content/uploads/2022/06/Silpa-Livello3.jpg
END:VEVENT
BEGIN:VEVENT
DTSTART;TZID=Europe/Helsinki:20241122T083000
DTEND;TZID=Europe/Helsinki:20241122T123000
DTSTAMP:20260422T014722
CREATED:20241023T072036Z
LAST-MODIFIED:20241023T072036Z
UID:1651-1732264200-1732278600@www.silpa.org
SUMMARY:Corso Aggiornamento Primo Soccorso per Aziende di Gruppo B e C
DESCRIPTION:4 ore \nRICHIEDI INFO
URL:https://www.silpa.org/corso/corso-aggiornamento-primo-soccorso-per-aziende-di-gruppo-b-c-novembre-2024/
LOCATION:Centro Addestramento Vimodrone\, Largo F.lli Cervi\, 8\, Vimodrone\, MI\, 20900\, Italia
ATTACH;FMTTYPE=image/jpeg:https://www.silpa.org/wp-content/uploads/2022/11/cpr-training.jpg
END:VEVENT
BEGIN:VEVENT
DTSTART;TZID=Europe/Helsinki:20241122T083000
DTEND;TZID=Europe/Helsinki:20241122T123000
DTSTAMP:20260422T014722
CREATED:20241023T071847Z
LAST-MODIFIED:20241023T071909Z
UID:1647-1732264200-1732278600@www.silpa.org
SUMMARY:Corso Base Primo Soccorso per Aziende di Gruppo B e C - 2°Giorno
DESCRIPTION:12 ore \nRICHIEDI INFO
URL:https://www.silpa.org/corso/corso-base-primo-soccorso-per-aziende-di-gruppo-b-c-novembre-2024-2giorno/
LOCATION:Centro Addestramento Vimodrone\, Largo F.lli Cervi\, 8\, Vimodrone\, MI\, 20900\, Italia
ATTACH;FMTTYPE=image/jpeg:https://www.silpa.org/wp-content/uploads/2022/11/cpr-training.jpg
END:VEVENT
BEGIN:VEVENT
DTSTART;TZID=Europe/Helsinki:20241121T083000
DTEND;TZID=Europe/Helsinki:20241121T173000
DTSTAMP:20260422T014722
CREATED:20241023T071759Z
LAST-MODIFIED:20241023T071759Z
UID:1645-1732177800-1732210200@www.silpa.org
SUMMARY:Corso Base di Primo Soccorso per Aziende di Gruppo A - 1°Giorno
DESCRIPTION:16 ore \nRICHIEDI INFO
URL:https://www.silpa.org/corso/corso-base-di-primo-soccorso-per-aziende-di-gruppo-a-novembre-2024-1giorno/
LOCATION:Centro Addestramento Vimodrone\, Largo F.lli Cervi\, 8\, Vimodrone\, MI\, 20900\, Italia
ATTACH;FMTTYPE=image/jpeg:https://www.silpa.org/wp-content/uploads/2022/11/cpr-training.jpg
END:VEVENT
BEGIN:VEVENT
DTSTART;TZID=Europe/Paris:20241121T083000
DTEND;TZID=Europe/Paris:20241121T173000
DTSTAMP:20260422T014722
CREATED:20241023T071239Z
LAST-MODIFIED:20241023T071239Z
UID:1633-1732177800-1732210200@www.silpa.org
SUMMARY:Corso Antincendio Livello III - 1°Giorno
DESCRIPTION:16 ore \n\nRICHIEDI INFO
URL:https://www.silpa.org/corso/corso-antincendio-livello-3-novembre-2024-1giorno/
LOCATION:Centro Addestramento Vimodrone\, Largo F.lli Cervi\, 8\, Vimodrone\, MI\, 20900\, Italia
ATTACH;FMTTYPE=image/jpeg:https://www.silpa.org/wp-content/uploads/2022/06/Silpa-Livello3.jpg
END:VEVENT
BEGIN:VEVENT
DTSTART;TZID=Europe/Helsinki:20241121T083000
DTEND;TZID=Europe/Helsinki:20241121T123000
DTSTAMP:20260422T014722
CREATED:20241023T071943Z
LAST-MODIFIED:20241023T071943Z
UID:1649-1732177800-1732192200@www.silpa.org
SUMMARY:Corso Base Primo Soccorso per Aziende di Gruppo B e C - 1°Giorno
DESCRIPTION:12 ore \nRICHIEDI INFO
URL:https://www.silpa.org/corso/corso-base-primo-soccorso-per-aziende-di-gruppo-b-c-novembre-2024-1giorno/
LOCATION:Centro Addestramento Vimodrone\, Largo F.lli Cervi\, 8\, Vimodrone\, MI\, 20900\, Italia
ATTACH;FMTTYPE=image/jpeg:https://www.silpa.org/wp-content/uploads/2022/11/cpr-training.jpg
END:VEVENT
BEGIN:VEVENT
DTSTART;TZID=Europe/Helsinki:20241115T083000
DTEND;TZID=Europe/Helsinki:20241115T133000
DTSTAMP:20260422T014722
CREATED:20241023T071505Z
LAST-MODIFIED:20241023T071505Z
UID:1639-1731659400-1731677400@www.silpa.org
SUMMARY:Corso Antincendio Aggiornamento Livello II
DESCRIPTION:5 ore \nRICHIEDI INFO
URL:https://www.silpa.org/corso/corso-antincendio-aggiornamento-livello-2-novembre-2024/
LOCATION:Centro Addestramento Vimodrone\, Largo F.lli Cervi\, 8\, Vimodrone\, MI\, 20900\, Italia
ATTACH;FMTTYPE=image/jpeg:https://www.silpa.org/wp-content/uploads/2022/06/Silpa-Aggiornamento-Livello3.jpg
END:VEVENT
BEGIN:VEVENT
DTSTART;TZID=Europe/Helsinki:20241031T083000
DTEND;TZID=Europe/Helsinki:20241031T133000
DTSTAMP:20260422T014722
CREATED:20240927T093605Z
LAST-MODIFIED:20240927T093605Z
UID:1615-1730363400-1730381400@www.silpa.org
SUMMARY:Corso Antincendio Aggiornamento Livello II
DESCRIPTION:5 ore \nRICHIEDI INFO
URL:https://www.silpa.org/corso/corso-antincendio-aggiornamento-livello-2-ottobre-2024/
LOCATION:Centro Addestramento Vimodrone\, Largo F.lli Cervi\, 8\, Vimodrone\, MI\, 20900\, Italia
ATTACH;FMTTYPE=image/jpeg:https://www.silpa.org/wp-content/uploads/2022/06/Silpa-Aggiornamento-Livello3.jpg
END:VEVENT
BEGIN:VEVENT
DTSTART;TZID=Europe/Helsinki:20241025T083000
DTEND;TZID=Europe/Helsinki:20241025T173000
DTSTAMP:20260422T014722
CREATED:20240927T093433Z
LAST-MODIFIED:20240927T093433Z
UID:1613-1729845000-1729877400@www.silpa.org
SUMMARY:Corso Antincendio Aggiornamento Livello III
DESCRIPTION:8 ore \nRICHIEDI INFO
URL:https://www.silpa.org/corso/corso-antincendio-aggiornamento-livello-3-ottobre-2024/
LOCATION:Centro Addestramento Vimodrone\, Largo F.lli Cervi\, 8\, Vimodrone\, MI\, 20900\, Italia
ATTACH;FMTTYPE=image/jpeg:https://www.silpa.org/wp-content/uploads/2022/06/Silpa-Aggiornamento-Livello3.jpg
END:VEVENT
BEGIN:VEVENT
DTSTART;TZID=Europe/Helsinki:20241025T083000
DTEND;TZID=Europe/Helsinki:20241025T123000
DTSTAMP:20260422T014722
CREATED:20240927T093927Z
LAST-MODIFIED:20240927T093927Z
UID:1623-1729845000-1729859400@www.silpa.org
SUMMARY:Corso Aggiornamento Primo Soccorso per Aziende di Gruppo B e C
DESCRIPTION:4 ore \nRICHIEDI INFO
URL:https://www.silpa.org/corso/corso-aggiornamento-primo-soccorso-per-aziende-di-gruppo-b-c-ottobre-2024/
LOCATION:Centro Addestramento Vimodrone\, Largo F.lli Cervi\, 8\, Vimodrone\, MI\, 20900\, Italia
ATTACH;FMTTYPE=image/jpeg:https://www.silpa.org/wp-content/uploads/2022/11/cpr-training.jpg
END:VEVENT
BEGIN:VEVENT
DTSTART;TZID=Europe/Helsinki:20241025T083000
DTEND;TZID=Europe/Helsinki:20241025T123000
DTSTAMP:20260422T014722
CREATED:20240927T093838Z
LAST-MODIFIED:20240927T093838Z
UID:1621-1729845000-1729859400@www.silpa.org
SUMMARY:Corso Base Primo Soccorso per Aziende di Gruppo B e C - 2°Giorno
DESCRIPTION:12 ore \nRICHIEDI INFO
URL:https://www.silpa.org/corso/corso-base-primo-soccorso-per-aziende-di-gruppo-b-c-ottobre-2024-2giorno/
LOCATION:Centro Addestramento Vimodrone\, Largo F.lli Cervi\, 8\, Vimodrone\, MI\, 20900\, Italia
ATTACH;FMTTYPE=image/jpeg:https://www.silpa.org/wp-content/uploads/2022/11/cpr-training.jpg
END:VEVENT
BEGIN:VEVENT
DTSTART;TZID=Europe/Helsinki:20241024T083000
DTEND;TZID=Europe/Helsinki:20241024T173000
DTSTAMP:20260422T014722
CREATED:20240927T094104Z
LAST-MODIFIED:20240927T094104Z
UID:1627-1729758600-1729791000@www.silpa.org
SUMMARY:Corso Base di Primo Soccorso per Aziende di Gruppo A - 2°Giorno
DESCRIPTION:16 ore \nRICHIEDI INFO
URL:https://www.silpa.org/corso/corso-base-di-primo-soccorso-per-aziende-di-gruppo-a-ottobre-2024-2giorno/
LOCATION:Centro Addestramento Vimodrone\, Largo F.lli Cervi\, 8\, Vimodrone\, MI\, 20900\, Italia
ATTACH;FMTTYPE=image/jpeg:https://www.silpa.org/wp-content/uploads/2022/11/cpr-training.jpg
END:VEVENT
BEGIN:VEVENT
DTSTART;TZID=Europe/Helsinki:20241021T083000
DTEND;TZID=Europe/Helsinki:20241021T173000
DTSTAMP:20260422T014722
CREATED:20240927T094019Z
LAST-MODIFIED:20240927T094019Z
UID:1625-1729499400-1729531800@www.silpa.org
SUMMARY:Corso Base di Primo Soccorso per Aziende di Gruppo A - 1°Giorno
DESCRIPTION:16 ore \nRICHIEDI INFO
URL:https://www.silpa.org/corso/corso-base-di-primo-soccorso-per-aziende-di-gruppo-a-ottobre-2024-1giorno/
LOCATION:Centro Addestramento Vimodrone\, Largo F.lli Cervi\, 8\, Vimodrone\, MI\, 20900\, Italia
ATTACH;FMTTYPE=image/jpeg:https://www.silpa.org/wp-content/uploads/2022/11/cpr-training.jpg
END:VEVENT
BEGIN:VEVENT
DTSTART;TZID=Europe/Helsinki:20241021T083000
DTEND;TZID=Europe/Helsinki:20241021T123000
DTSTAMP:20260422T014722
CREATED:20240927T093750Z
LAST-MODIFIED:20240927T093750Z
UID:1619-1729499400-1729513800@www.silpa.org
SUMMARY:Corso Base Primo Soccorso per Aziende di Gruppo B e C - 1°Giorno
DESCRIPTION:12 ore \nRICHIEDI INFO
URL:https://www.silpa.org/corso/corso-base-primo-soccorso-per-aziende-di-gruppo-b-c-ottobre-2024-1giorno/
LOCATION:Centro Addestramento Vimodrone\, Largo F.lli Cervi\, 8\, Vimodrone\, MI\, 20900\, Italia
ATTACH;FMTTYPE=image/jpeg:https://www.silpa.org/wp-content/uploads/2022/11/cpr-training.jpg
END:VEVENT
BEGIN:VEVENT
DTSTART;TZID=Europe/Paris:20241018T083000
DTEND;TZID=Europe/Paris:20241018T173000
DTSTAMP:20260422T014722
CREATED:20240927T093345Z
LAST-MODIFIED:20240927T093345Z
UID:1611-1729240200-1729272600@www.silpa.org
SUMMARY:Corso Antincendio Livello III - 2°Giorno
DESCRIPTION:16 ore \n\nRICHIEDI INFO
URL:https://www.silpa.org/corso/corso-antincendio-livello-3-ottobre-2024-2giorno/
LOCATION:Centro Addestramento Vimodrone\, Largo F.lli Cervi\, 8\, Vimodrone\, MI\, 20900\, Italia
ATTACH;FMTTYPE=image/jpeg:https://www.silpa.org/wp-content/uploads/2022/06/Silpa-Livello3.jpg
END:VEVENT
BEGIN:VEVENT
DTSTART;TZID=Europe/Paris:20241017T083000
DTEND;TZID=Europe/Paris:20241017T173000
DTSTAMP:20260422T014722
CREATED:20240927T093314Z
LAST-MODIFIED:20240927T093314Z
UID:1609-1729153800-1729186200@www.silpa.org
SUMMARY:Corso Antincendio Livello III - 1°Giorno
DESCRIPTION:16 ore \n\nRICHIEDI INFO
URL:https://www.silpa.org/corso/corso-antincendio-livello-3-ottobre-2024-1giorno/
LOCATION:Centro Addestramento Vimodrone\, Largo F.lli Cervi\, 8\, Vimodrone\, MI\, 20900\, Italia
ATTACH;FMTTYPE=image/jpeg:https://www.silpa.org/wp-content/uploads/2022/06/Silpa-Livello3.jpg
END:VEVENT
BEGIN:VEVENT
DTSTART;TZID=Europe/Paris:20241004T083000
DTEND;TZID=Europe/Paris:20241004T173000
DTSTAMP:20260422T014722
CREATED:20240927T093647Z
LAST-MODIFIED:20240927T093647Z
UID:1617-1728030600-1728063000@www.silpa.org
SUMMARY:Corso Antincendio Livello II
DESCRIPTION:8 ore \n\nRICHIEDI INFO
URL:https://www.silpa.org/corso/corso-antincendio-livello-2-ottobre-2024/
LOCATION:Centro Addestramento Vimodrone\, Largo F.lli Cervi\, 8\, Vimodrone\, MI\, 20900\, Italia
ATTACH;FMTTYPE=image/jpeg:https://www.silpa.org/wp-content/uploads/2022/06/Silpa-Livello3.jpg
END:VEVENT
BEGIN:VEVENT
DTSTART;TZID=Europe/Helsinki:20240923T083000
DTEND;TZID=Europe/Helsinki:20240923T173000
DTSTAMP:20260422T014722
CREATED:20240709T154529Z
LAST-MODIFIED:20240709T154529Z
UID:1585-1727080200-1727112600@www.silpa.org
SUMMARY:Corso Antincendio Aggiornamento Livello III
DESCRIPTION:8 ore \nRICHIEDI INFO
URL:https://www.silpa.org/corso/corso-antincendio-aggiornamento-livello-3-settembre-2024/
LOCATION:Centro Addestramento Vimodrone\, Largo F.lli Cervi\, 8\, Vimodrone\, MI\, 20900\, Italia
ATTACH;FMTTYPE=image/jpeg:https://www.silpa.org/wp-content/uploads/2022/06/Silpa-Aggiornamento-Livello3.jpg
END:VEVENT
BEGIN:VEVENT
DTSTART;TZID=Europe/Helsinki:20240913T083000
DTEND;TZID=Europe/Helsinki:20240913T123000
DTSTAMP:20260422T014722
CREATED:20240709T154951Z
LAST-MODIFIED:20240709T154951Z
UID:1593-1726216200-1726230600@www.silpa.org
SUMMARY:Corso Base Primo Soccorso per Aziende di Gruppo B e C - 2°Giorno
DESCRIPTION:12 ore \nRICHIEDI INFO
URL:https://www.silpa.org/corso/corso-base-primo-soccorso-per-aziende-di-gruppo-b-c-settembre-2024-2giorno/
LOCATION:Centro Addestramento Vimodrone\, Largo F.lli Cervi\, 8\, Vimodrone\, MI\, 20900\, Italia
ATTACH;FMTTYPE=image/jpeg:https://www.silpa.org/wp-content/uploads/2022/11/cpr-training.jpg
END:VEVENT
END:VCALENDAR