BEGIN:VCALENDAR
VERSION:2.0
PRODID:-//Silpa S.r.l. - ECPv6.15.16.1//NONSGML v1.0//EN
CALSCALE:GREGORIAN
METHOD:PUBLISH
X-WR-CALNAME:Silpa S.r.l.
X-ORIGINAL-URL:https://www.silpa.org
X-WR-CALDESC:Eventi per Silpa S.r.l.
REFRESH-INTERVAL;VALUE=DURATION:PT1H
X-Robots-Tag:noindex
X-PUBLISHED-TTL:PT1H
BEGIN:VTIMEZONE
TZID:Europe/Helsinki
BEGIN:DAYLIGHT
TZOFFSETFROM:+0200
TZOFFSETTO:+0300
TZNAME:EEST
DTSTART:20220327T010000
END:DAYLIGHT
BEGIN:STANDARD
TZOFFSETFROM:+0300
TZOFFSETTO:+0200
TZNAME:EET
DTSTART:20221030T010000
END:STANDARD
BEGIN:DAYLIGHT
TZOFFSETFROM:+0200
TZOFFSETTO:+0300
TZNAME:EEST
DTSTART:20230326T010000
END:DAYLIGHT
BEGIN:STANDARD
TZOFFSETFROM:+0300
TZOFFSETTO:+0200
TZNAME:EET
DTSTART:20231029T010000
END:STANDARD
BEGIN:DAYLIGHT
TZOFFSETFROM:+0200
TZOFFSETTO:+0300
TZNAME:EEST
DTSTART:20240331T010000
END:DAYLIGHT
BEGIN:STANDARD
TZOFFSETFROM:+0300
TZOFFSETTO:+0200
TZNAME:EET
DTSTART:20241027T010000
END:STANDARD
END:VTIMEZONE
BEGIN:VTIMEZONE
TZID:Europe/Paris
BEGIN:DAYLIGHT
TZOFFSETFROM:+0100
TZOFFSETTO:+0200
TZNAME:CEST
DTSTART:20220327T010000
END:DAYLIGHT
BEGIN:STANDARD
TZOFFSETFROM:+0200
TZOFFSETTO:+0100
TZNAME:CET
DTSTART:20221030T010000
END:STANDARD
BEGIN:DAYLIGHT
TZOFFSETFROM:+0100
TZOFFSETTO:+0200
TZNAME:CEST
DTSTART:20230326T010000
END:DAYLIGHT
BEGIN:STANDARD
TZOFFSETFROM:+0200
TZOFFSETTO:+0100
TZNAME:CET
DTSTART:20231029T010000
END:STANDARD
BEGIN:DAYLIGHT
TZOFFSETFROM:+0100
TZOFFSETTO:+0200
TZNAME:CEST
DTSTART:20240331T010000
END:DAYLIGHT
BEGIN:STANDARD
TZOFFSETFROM:+0200
TZOFFSETTO:+0100
TZNAME:CET
DTSTART:20241027T010000
END:STANDARD
END:VTIMEZONE
BEGIN:VEVENT
DTSTART;TZID=Europe/Helsinki:20231108T083000
DTEND;TZID=Europe/Helsinki:20231108T173000
DTSTAMP:20260423T051807
CREATED:20230627T075454Z
LAST-MODIFIED:20230627T075454Z
UID:1023-1699432200-1699464600@www.silpa.org
SUMMARY:Corso Base Primo Soccorso per Aziende di Gruppo B e C - 1°Giorno
DESCRIPTION:12 ore \nRICHIEDI INFO
URL:https://www.silpa.org/corso/corso-base-primo-soccorso-per-aziende-di-gruppo-b-e-c-1giorno-4/
LOCATION:Centro Addestramento Vimodrone\, Largo F.lli Cervi\, 8\, Vimodrone\, MI\, 20900\, Italia
ATTACH;FMTTYPE=image/jpeg:https://www.silpa.org/wp-content/uploads/2022/11/cpr-training.jpg
END:VEVENT
BEGIN:VEVENT
DTSTART;TZID=Europe/Helsinki:20231108T083000
DTEND;TZID=Europe/Helsinki:20231108T173000
DTSTAMP:20260423T051807
CREATED:20230627T075454Z
LAST-MODIFIED:20230627T075454Z
UID:1272-1699432200-1699464600@www.silpa.org
SUMMARY:Corso Base Primo Soccorso per Aziende di Gruppo B e C - 1°Giorno
DESCRIPTION:12 ore \nRICHIEDI INFO
URL:https://www.silpa.org/corso/corso-base-primo-soccorso-per-aziende-di-gruppo-b-e-c-1giorno-4-2/
LOCATION:Centro Addestramento Vimodrone\, Largo F.lli Cervi\, 8\, Vimodrone\, MI\, 20900\, Italia
ATTACH;FMTTYPE=image/jpeg:https://www.silpa.org/wp-content/uploads/2022/11/cpr-training.jpg
END:VEVENT
BEGIN:VEVENT
DTSTART;TZID=Europe/Helsinki:20231108T083000
DTEND;TZID=Europe/Helsinki:20231108T173000
DTSTAMP:20260423T051807
CREATED:20230627T075454Z
LAST-MODIFIED:20230627T075454Z
UID:1407-1699432200-1699464600@www.silpa.org
SUMMARY:Corso Base Primo Soccorso per Aziende di Gruppo B e C - 1°Giorno
DESCRIPTION:12 ore \nRICHIEDI INFO
URL:https://www.silpa.org/corso/corso-base-primo-soccorso-per-aziende-di-gruppo-b-e-c-1giorno-4-3/
LOCATION:Centro Addestramento Vimodrone\, Largo F.lli Cervi\, 8\, Vimodrone\, MI\, 20900\, Italia
ATTACH;FMTTYPE=image/jpeg:https://www.silpa.org/wp-content/uploads/2022/11/cpr-training.jpg
END:VEVENT
BEGIN:VEVENT
DTSTART;TZID=Europe/Helsinki:20231106T083000
DTEND;TZID=Europe/Helsinki:20231106T173000
DTSTAMP:20260423T051807
CREATED:20230627T075238Z
LAST-MODIFIED:20230627T075238Z
UID:1016-1699259400-1699291800@www.silpa.org
SUMMARY:Corso Antincendio Aggiornamento Livello III
DESCRIPTION:8 ore \nRICHIEDI INFO
URL:https://www.silpa.org/corso/corso-antincendio-aggiornamento-livello-iii-4/
LOCATION:Centro Addestramento Vimodrone\, Largo F.lli Cervi\, 8\, Vimodrone\, MI\, 20900\, Italia
ATTACH;FMTTYPE=image/jpeg:https://www.silpa.org/wp-content/uploads/2022/06/Silpa-Aggiornamento-Livello3.jpg
END:VEVENT
BEGIN:VEVENT
DTSTART;TZID=Europe/Helsinki:20231106T083000
DTEND;TZID=Europe/Helsinki:20231106T173000
DTSTAMP:20260423T051807
CREATED:20230627T075238Z
LAST-MODIFIED:20230627T075238Z
UID:1263-1699259400-1699291800@www.silpa.org
SUMMARY:Corso Antincendio Aggiornamento Livello III
DESCRIPTION:8 ore \nRICHIEDI INFO
URL:https://www.silpa.org/corso/corso-antincendio-aggiornamento-livello-iii-4-2/
LOCATION:Centro Addestramento Vimodrone\, Largo F.lli Cervi\, 8\, Vimodrone\, MI\, 20900\, Italia
ATTACH;FMTTYPE=image/jpeg:https://www.silpa.org/wp-content/uploads/2022/06/Silpa-Aggiornamento-Livello3.jpg
END:VEVENT
BEGIN:VEVENT
DTSTART;TZID=Europe/Helsinki:20231106T083000
DTEND;TZID=Europe/Helsinki:20231106T173000
DTSTAMP:20260423T051807
CREATED:20230627T075238Z
LAST-MODIFIED:20230627T075238Z
UID:1403-1699259400-1699291800@www.silpa.org
SUMMARY:Corso Antincendio Aggiornamento Livello III
DESCRIPTION:8 ore \nRICHIEDI INFO
URL:https://www.silpa.org/corso/corso-antincendio-aggiornamento-livello-iii-4-3/
LOCATION:Centro Addestramento Vimodrone\, Largo F.lli Cervi\, 8\, Vimodrone\, MI\, 20900\, Italia
ATTACH;FMTTYPE=image/jpeg:https://www.silpa.org/wp-content/uploads/2022/06/Silpa-Aggiornamento-Livello3.jpg
END:VEVENT
BEGIN:VEVENT
DTSTART;TZID=Europe/Paris:20231025T083000
DTEND;TZID=Europe/Paris:20231025T173000
DTSTAMP:20260423T051807
CREATED:20230627T074317Z
LAST-MODIFIED:20230627T074317Z
UID:992-1698222600-1698255000@www.silpa.org
SUMMARY:Corso Antincendio Livello III - 2°Giorno
DESCRIPTION:16 ore \n\nRICHIEDI INFO
URL:https://www.silpa.org/corso/corso-antincendio-livello-iii-2giorno-3/
LOCATION:Centro Addestramento Vimodrone\, Largo F.lli Cervi\, 8\, Vimodrone\, MI\, 20900\, Italia
ATTACH;FMTTYPE=image/jpeg:https://www.silpa.org/wp-content/uploads/2022/06/Silpa-Livello3.jpg
END:VEVENT
BEGIN:VEVENT
DTSTART;TZID=Europe/Paris:20231025T083000
DTEND;TZID=Europe/Paris:20231025T173000
DTSTAMP:20260423T051807
CREATED:20230627T074317Z
LAST-MODIFIED:20230627T074317Z
UID:1236-1698222600-1698255000@www.silpa.org
SUMMARY:Corso Antincendio Livello III - 2°Giorno
DESCRIPTION:16 ore \n\nRICHIEDI INFO
URL:https://www.silpa.org/corso/corso-antincendio-livello-iii-2giorno-3-2/
LOCATION:Centro Addestramento Vimodrone\, Largo F.lli Cervi\, 8\, Vimodrone\, MI\, 20900\, Italia
ATTACH;FMTTYPE=image/jpeg:https://www.silpa.org/wp-content/uploads/2022/06/Silpa-Livello3.jpg
END:VEVENT
BEGIN:VEVENT
DTSTART;TZID=Europe/Paris:20231025T083000
DTEND;TZID=Europe/Paris:20231025T173000
DTSTAMP:20260423T051807
CREATED:20230627T074317Z
LAST-MODIFIED:20230627T074317Z
UID:1391-1698222600-1698255000@www.silpa.org
SUMMARY:Corso Antincendio Livello III - 2°Giorno
DESCRIPTION:16 ore \n\nRICHIEDI INFO
URL:https://www.silpa.org/corso/corso-antincendio-livello-iii-2giorno-3-3/
LOCATION:Centro Addestramento Vimodrone\, Largo F.lli Cervi\, 8\, Vimodrone\, MI\, 20900\, Italia
ATTACH;FMTTYPE=image/jpeg:https://www.silpa.org/wp-content/uploads/2022/06/Silpa-Livello3.jpg
END:VEVENT
BEGIN:VEVENT
DTSTART;TZID=Europe/Paris:20231024T083000
DTEND;TZID=Europe/Paris:20231024T173000
DTSTAMP:20260423T051807
CREATED:20230627T074239Z
LAST-MODIFIED:20230627T074239Z
UID:990-1698136200-1698168600@www.silpa.org
SUMMARY:Corso Antincendio Livello III - 1°Giorno
DESCRIPTION:16 ore \n\nRICHIEDI INFO
URL:https://www.silpa.org/corso/corso-antincendio-livello-iii-1giorno-3/
LOCATION:Centro Addestramento Vimodrone\, Largo F.lli Cervi\, 8\, Vimodrone\, MI\, 20900\, Italia
ATTACH;FMTTYPE=image/jpeg:https://www.silpa.org/wp-content/uploads/2022/06/Silpa-Livello3.jpg
END:VEVENT
BEGIN:VEVENT
DTSTART;TZID=Europe/Paris:20231024T083000
DTEND;TZID=Europe/Paris:20231024T173000
DTSTAMP:20260423T051807
CREATED:20230627T074239Z
LAST-MODIFIED:20230627T074239Z
UID:1234-1698136200-1698168600@www.silpa.org
SUMMARY:Corso Antincendio Livello III - 1°Giorno
DESCRIPTION:16 ore \n\nRICHIEDI INFO
URL:https://www.silpa.org/corso/corso-antincendio-livello-iii-1giorno-3-2/
LOCATION:Centro Addestramento Vimodrone\, Largo F.lli Cervi\, 8\, Vimodrone\, MI\, 20900\, Italia
ATTACH;FMTTYPE=image/jpeg:https://www.silpa.org/wp-content/uploads/2022/06/Silpa-Livello3.jpg
END:VEVENT
BEGIN:VEVENT
DTSTART;TZID=Europe/Paris:20231024T083000
DTEND;TZID=Europe/Paris:20231024T173000
DTSTAMP:20260423T051807
CREATED:20230627T074239Z
LAST-MODIFIED:20230627T074239Z
UID:1390-1698136200-1698168600@www.silpa.org
SUMMARY:Corso Antincendio Livello III - 1°Giorno
DESCRIPTION:16 ore \n\nRICHIEDI INFO
URL:https://www.silpa.org/corso/corso-antincendio-livello-iii-1giorno-3-3/
LOCATION:Centro Addestramento Vimodrone\, Largo F.lli Cervi\, 8\, Vimodrone\, MI\, 20900\, Italia
ATTACH;FMTTYPE=image/jpeg:https://www.silpa.org/wp-content/uploads/2022/06/Silpa-Livello3.jpg
END:VEVENT
BEGIN:VEVENT
DTSTART;TZID=Europe/Paris:20231019T083000
DTEND;TZID=Europe/Paris:20231019T173000
DTSTAMP:20260423T051807
CREATED:20230627T074518Z
LAST-MODIFIED:20230627T074518Z
UID:998-1697704200-1697736600@www.silpa.org
SUMMARY:Corso Antincendio Livello II
DESCRIPTION:8 ore \n\nRICHIEDI INFO
URL:https://www.silpa.org/corso/corso-antincendio-livello-ii-3/
LOCATION:Centro Addestramento Vimodrone\, Largo F.lli Cervi\, 8\, Vimodrone\, MI\, 20900\, Italia
ATTACH;FMTTYPE=image/jpeg:https://www.silpa.org/wp-content/uploads/2022/06/Silpa-Livello3.jpg
END:VEVENT
BEGIN:VEVENT
DTSTART;TZID=Europe/Paris:20231019T083000
DTEND;TZID=Europe/Paris:20231019T173000
DTSTAMP:20260423T051807
CREATED:20230627T074518Z
LAST-MODIFIED:20230627T074518Z
UID:1243-1697704200-1697736600@www.silpa.org
SUMMARY:Corso Antincendio Livello II
DESCRIPTION:8 ore \n\nRICHIEDI INFO
URL:https://www.silpa.org/corso/corso-antincendio-livello-ii-3-2/
LOCATION:Centro Addestramento Vimodrone\, Largo F.lli Cervi\, 8\, Vimodrone\, MI\, 20900\, Italia
ATTACH;FMTTYPE=image/jpeg:https://www.silpa.org/wp-content/uploads/2022/06/Silpa-Livello3.jpg
END:VEVENT
BEGIN:VEVENT
DTSTART;TZID=Europe/Paris:20231019T083000
DTEND;TZID=Europe/Paris:20231019T173000
DTSTAMP:20260423T051807
CREATED:20230627T074518Z
LAST-MODIFIED:20230627T074518Z
UID:1394-1697704200-1697736600@www.silpa.org
SUMMARY:Corso Antincendio Livello II
DESCRIPTION:8 ore \n\nRICHIEDI INFO
URL:https://www.silpa.org/corso/corso-antincendio-livello-ii-3-3/
LOCATION:Centro Addestramento Vimodrone\, Largo F.lli Cervi\, 8\, Vimodrone\, MI\, 20900\, Italia
ATTACH;FMTTYPE=image/jpeg:https://www.silpa.org/wp-content/uploads/2022/06/Silpa-Livello3.jpg
END:VEVENT
BEGIN:VEVENT
DTSTART;TZID=Europe/Helsinki:20231013T083000
DTEND;TZID=Europe/Helsinki:20231013T133000
DTSTAMP:20260423T051807
CREATED:20230627T074437Z
LAST-MODIFIED:20230627T074437Z
UID:996-1697185800-1697203800@www.silpa.org
SUMMARY:Corso Antincendio Aggiornamento Livello II
DESCRIPTION:5 ore \nRICHIEDI INFO
URL:https://www.silpa.org/corso/corso-antincendio-aggiornamento-livello-ii-3/
LOCATION:Centro Addestramento Vimodrone\, Largo F.lli Cervi\, 8\, Vimodrone\, MI\, 20900\, Italia
ATTACH;FMTTYPE=image/jpeg:https://www.silpa.org/wp-content/uploads/2022/06/Silpa-Aggiornamento-Livello3.jpg
END:VEVENT
BEGIN:VEVENT
DTSTART;TZID=Europe/Helsinki:20231013T083000
DTEND;TZID=Europe/Helsinki:20231013T133000
DTSTAMP:20260423T051807
CREATED:20230627T074437Z
LAST-MODIFIED:20230627T074437Z
UID:1241-1697185800-1697203800@www.silpa.org
SUMMARY:Corso Antincendio Aggiornamento Livello II
DESCRIPTION:5 ore \nRICHIEDI INFO
URL:https://www.silpa.org/corso/corso-antincendio-aggiornamento-livello-ii-3-2/
LOCATION:Centro Addestramento Vimodrone\, Largo F.lli Cervi\, 8\, Vimodrone\, MI\, 20900\, Italia
ATTACH;FMTTYPE=image/jpeg:https://www.silpa.org/wp-content/uploads/2022/06/Silpa-Aggiornamento-Livello3.jpg
END:VEVENT
BEGIN:VEVENT
DTSTART;TZID=Europe/Helsinki:20231013T083000
DTEND;TZID=Europe/Helsinki:20231013T133000
DTSTAMP:20260423T051807
CREATED:20230627T074437Z
LAST-MODIFIED:20230627T074437Z
UID:1393-1697185800-1697203800@www.silpa.org
SUMMARY:Corso Antincendio Aggiornamento Livello II
DESCRIPTION:5 ore \nRICHIEDI INFO
URL:https://www.silpa.org/corso/corso-antincendio-aggiornamento-livello-ii-3-3/
LOCATION:Centro Addestramento Vimodrone\, Largo F.lli Cervi\, 8\, Vimodrone\, MI\, 20900\, Italia
ATTACH;FMTTYPE=image/jpeg:https://www.silpa.org/wp-content/uploads/2022/06/Silpa-Aggiornamento-Livello3.jpg
END:VEVENT
BEGIN:VEVENT
DTSTART;TZID=Europe/Helsinki:20231012T083000
DTEND;TZID=Europe/Helsinki:20231012T173000
DTSTAMP:20260423T051807
CREATED:20230627T074358Z
LAST-MODIFIED:20230627T074358Z
UID:994-1697099400-1697131800@www.silpa.org
SUMMARY:Corso Antincendio Aggiornamento Livello III
DESCRIPTION:8 ore \nRICHIEDI INFO
URL:https://www.silpa.org/corso/corso-antincendio-aggiornamento-livello-iii-3/
LOCATION:Centro Addestramento Vimodrone\, Largo F.lli Cervi\, 8\, Vimodrone\, MI\, 20900\, Italia
ATTACH;FMTTYPE=image/jpeg:https://www.silpa.org/wp-content/uploads/2022/06/Silpa-Aggiornamento-Livello3.jpg
END:VEVENT
BEGIN:VEVENT
DTSTART;TZID=Europe/Helsinki:20231012T083000
DTEND;TZID=Europe/Helsinki:20231012T173000
DTSTAMP:20260423T051807
CREATED:20230627T074358Z
LAST-MODIFIED:20230627T074358Z
UID:1239-1697099400-1697131800@www.silpa.org
SUMMARY:Corso Antincendio Aggiornamento Livello III
DESCRIPTION:8 ore \nRICHIEDI INFO
URL:https://www.silpa.org/corso/corso-antincendio-aggiornamento-livello-iii-3-2/
LOCATION:Centro Addestramento Vimodrone\, Largo F.lli Cervi\, 8\, Vimodrone\, MI\, 20900\, Italia
ATTACH;FMTTYPE=image/jpeg:https://www.silpa.org/wp-content/uploads/2022/06/Silpa-Aggiornamento-Livello3.jpg
END:VEVENT
BEGIN:VEVENT
DTSTART;TZID=Europe/Helsinki:20231012T083000
DTEND;TZID=Europe/Helsinki:20231012T173000
DTSTAMP:20260423T051807
CREATED:20230627T074358Z
LAST-MODIFIED:20230627T074358Z
UID:1392-1697099400-1697131800@www.silpa.org
SUMMARY:Corso Antincendio Aggiornamento Livello III
DESCRIPTION:8 ore \nRICHIEDI INFO
URL:https://www.silpa.org/corso/corso-antincendio-aggiornamento-livello-iii-3-3/
LOCATION:Centro Addestramento Vimodrone\, Largo F.lli Cervi\, 8\, Vimodrone\, MI\, 20900\, Italia
ATTACH;FMTTYPE=image/jpeg:https://www.silpa.org/wp-content/uploads/2022/06/Silpa-Aggiornamento-Livello3.jpg
END:VEVENT
BEGIN:VEVENT
DTSTART;TZID=Europe/Helsinki:20231010T083000
DTEND;TZID=Europe/Helsinki:20231010T153000
DTSTAMP:20260423T051807
CREATED:20230627T074825Z
LAST-MODIFIED:20230627T074825Z
UID:1006-1696926600-1696951800@www.silpa.org
SUMMARY:Corso Aggiornamento Primo Soccorso per Aziende di Gruppo A
DESCRIPTION:6 ore \nRICHIEDI INFO
URL:https://www.silpa.org/corso/corso-aggiornamento-primo-soccorso-per-aziende-di-gruppo-a-3/
LOCATION:Centro Addestramento Vimodrone\, Largo F.lli Cervi\, 8\, Vimodrone\, MI\, 20900\, Italia
ATTACH;FMTTYPE=image/jpeg:https://www.silpa.org/wp-content/uploads/2022/11/cpr-training.jpg
END:VEVENT
BEGIN:VEVENT
DTSTART;TZID=Europe/Helsinki:20231010T083000
DTEND;TZID=Europe/Helsinki:20231010T153000
DTSTAMP:20260423T051807
CREATED:20230627T074825Z
LAST-MODIFIED:20230627T074825Z
UID:1252-1696926600-1696951800@www.silpa.org
SUMMARY:Corso Aggiornamento Primo Soccorso per Aziende di Gruppo A
DESCRIPTION:6 ore \nRICHIEDI INFO
URL:https://www.silpa.org/corso/corso-aggiornamento-primo-soccorso-per-aziende-di-gruppo-a-3-2/
LOCATION:Centro Addestramento Vimodrone\, Largo F.lli Cervi\, 8\, Vimodrone\, MI\, 20900\, Italia
ATTACH;FMTTYPE=image/jpeg:https://www.silpa.org/wp-content/uploads/2022/11/cpr-training.jpg
END:VEVENT
BEGIN:VEVENT
DTSTART;TZID=Europe/Helsinki:20231010T083000
DTEND;TZID=Europe/Helsinki:20231010T153000
DTSTAMP:20260423T051807
CREATED:20230627T074825Z
LAST-MODIFIED:20230627T074825Z
UID:1398-1696926600-1696951800@www.silpa.org
SUMMARY:Corso Aggiornamento Primo Soccorso per Aziende di Gruppo A
DESCRIPTION:6 ore \nRICHIEDI INFO
URL:https://www.silpa.org/corso/corso-aggiornamento-primo-soccorso-per-aziende-di-gruppo-a-3-3/
LOCATION:Centro Addestramento Vimodrone\, Largo F.lli Cervi\, 8\, Vimodrone\, MI\, 20900\, Italia
ATTACH;FMTTYPE=image/jpeg:https://www.silpa.org/wp-content/uploads/2022/11/cpr-training.jpg
END:VEVENT
BEGIN:VEVENT
DTSTART;TZID=Europe/Helsinki:20231006T083000
DTEND;TZID=Europe/Helsinki:20231006T123000
DTSTAMP:20260423T051807
CREATED:20230627T074718Z
LAST-MODIFIED:20230627T074718Z
UID:1004-1696581000-1696595400@www.silpa.org
SUMMARY:Corso Aggiornamento Primo Soccorso per Aziende di Gruppo B e C
DESCRIPTION:4 ore \nRICHIEDI INFO
URL:https://www.silpa.org/corso/corso-aggiornamento-primo-soccorso-per-aziende-di-gruppo-b-e-c-3/
LOCATION:Centro Addestramento Vimodrone\, Largo F.lli Cervi\, 8\, Vimodrone\, MI\, 20900\, Italia
ATTACH;FMTTYPE=image/jpeg:https://www.silpa.org/wp-content/uploads/2022/11/cpr-training.jpg
END:VEVENT
BEGIN:VEVENT
DTSTART;TZID=Europe/Helsinki:20231006T083000
DTEND;TZID=Europe/Helsinki:20231006T123000
DTSTAMP:20260423T051807
CREATED:20230627T074718Z
LAST-MODIFIED:20230627T074718Z
UID:1250-1696581000-1696595400@www.silpa.org
SUMMARY:Corso Aggiornamento Primo Soccorso per Aziende di Gruppo B e C
DESCRIPTION:4 ore \nRICHIEDI INFO
URL:https://www.silpa.org/corso/corso-aggiornamento-primo-soccorso-per-aziende-di-gruppo-b-e-c-3-2/
LOCATION:Centro Addestramento Vimodrone\, Largo F.lli Cervi\, 8\, Vimodrone\, MI\, 20900\, Italia
ATTACH;FMTTYPE=image/jpeg:https://www.silpa.org/wp-content/uploads/2022/11/cpr-training.jpg
END:VEVENT
BEGIN:VEVENT
DTSTART;TZID=Europe/Helsinki:20231006T083000
DTEND;TZID=Europe/Helsinki:20231006T123000
DTSTAMP:20260423T051807
CREATED:20230627T074718Z
LAST-MODIFIED:20230627T074718Z
UID:1397-1696581000-1696595400@www.silpa.org
SUMMARY:Corso Aggiornamento Primo Soccorso per Aziende di Gruppo B e C
DESCRIPTION:4 ore \nRICHIEDI INFO
URL:https://www.silpa.org/corso/corso-aggiornamento-primo-soccorso-per-aziende-di-gruppo-b-e-c-3-3/
LOCATION:Centro Addestramento Vimodrone\, Largo F.lli Cervi\, 8\, Vimodrone\, MI\, 20900\, Italia
ATTACH;FMTTYPE=image/jpeg:https://www.silpa.org/wp-content/uploads/2022/11/cpr-training.jpg
END:VEVENT
BEGIN:VEVENT
DTSTART;TZID=Europe/Helsinki:20231006T083000
DTEND;TZID=Europe/Helsinki:20231006T123000
DTSTAMP:20260423T051807
CREATED:20230627T074635Z
LAST-MODIFIED:20230627T074635Z
UID:1001-1696581000-1696595400@www.silpa.org
SUMMARY:Corso Base Primo Soccorso per Aziende di Gruppo B e C - 2°Giorno
DESCRIPTION:12 ore \nRICHIEDI INFO
URL:https://www.silpa.org/corso/corso-base-primo-soccorso-per-aziende-di-gruppo-b-e-c-2giorno-3/
LOCATION:Centro Addestramento Vimodrone\, Largo F.lli Cervi\, 8\, Vimodrone\, MI\, 20900\, Italia
ATTACH;FMTTYPE=image/jpeg:https://www.silpa.org/wp-content/uploads/2022/11/cpr-training.jpg
END:VEVENT
BEGIN:VEVENT
DTSTART;TZID=Europe/Helsinki:20231006T083000
DTEND;TZID=Europe/Helsinki:20231006T123000
DTSTAMP:20260423T051807
CREATED:20230627T074635Z
LAST-MODIFIED:20230627T074635Z
UID:1248-1696581000-1696595400@www.silpa.org
SUMMARY:Corso Base Primo Soccorso per Aziende di Gruppo B e C - 2°Giorno
DESCRIPTION:12 ore \nRICHIEDI INFO
URL:https://www.silpa.org/corso/corso-base-primo-soccorso-per-aziende-di-gruppo-b-e-c-2giorno-3-2/
LOCATION:Centro Addestramento Vimodrone\, Largo F.lli Cervi\, 8\, Vimodrone\, MI\, 20900\, Italia
ATTACH;FMTTYPE=image/jpeg:https://www.silpa.org/wp-content/uploads/2022/11/cpr-training.jpg
END:VEVENT
BEGIN:VEVENT
DTSTART;TZID=Europe/Helsinki:20231006T083000
DTEND;TZID=Europe/Helsinki:20231006T123000
DTSTAMP:20260423T051807
CREATED:20230627T074635Z
LAST-MODIFIED:20230627T074635Z
UID:1396-1696581000-1696595400@www.silpa.org
SUMMARY:Corso Base Primo Soccorso per Aziende di Gruppo B e C - 2°Giorno
DESCRIPTION:12 ore \nRICHIEDI INFO
URL:https://www.silpa.org/corso/corso-base-primo-soccorso-per-aziende-di-gruppo-b-e-c-2giorno-3-3/
LOCATION:Centro Addestramento Vimodrone\, Largo F.lli Cervi\, 8\, Vimodrone\, MI\, 20900\, Italia
ATTACH;FMTTYPE=image/jpeg:https://www.silpa.org/wp-content/uploads/2022/11/cpr-training.jpg
END:VEVENT
END:VCALENDAR