BEGIN:VCALENDAR
VERSION:2.0
PRODID:-//Silpa S.r.l. - ECPv6.15.16.1//NONSGML v1.0//EN
CALSCALE:GREGORIAN
METHOD:PUBLISH
X-ORIGINAL-URL:https://www.silpa.org
X-WR-CALDESC:Eventi per Silpa S.r.l.
REFRESH-INTERVAL;VALUE=DURATION:PT1H
X-Robots-Tag:noindex
X-PUBLISHED-TTL:PT1H
BEGIN:VTIMEZONE
TZID:Europe/Paris
BEGIN:DAYLIGHT
TZOFFSETFROM:+0100
TZOFFSETTO:+0200
TZNAME:CEST
DTSTART:20220327T010000
END:DAYLIGHT
BEGIN:STANDARD
TZOFFSETFROM:+0200
TZOFFSETTO:+0100
TZNAME:CET
DTSTART:20221030T010000
END:STANDARD
BEGIN:DAYLIGHT
TZOFFSETFROM:+0100
TZOFFSETTO:+0200
TZNAME:CEST
DTSTART:20230326T010000
END:DAYLIGHT
BEGIN:STANDARD
TZOFFSETFROM:+0200
TZOFFSETTO:+0100
TZNAME:CET
DTSTART:20231029T010000
END:STANDARD
BEGIN:DAYLIGHT
TZOFFSETFROM:+0100
TZOFFSETTO:+0200
TZNAME:CEST
DTSTART:20240331T010000
END:DAYLIGHT
BEGIN:STANDARD
TZOFFSETFROM:+0200
TZOFFSETTO:+0100
TZNAME:CET
DTSTART:20241027T010000
END:STANDARD
END:VTIMEZONE
BEGIN:VTIMEZONE
TZID:Europe/Helsinki
BEGIN:DAYLIGHT
TZOFFSETFROM:+0200
TZOFFSETTO:+0300
TZNAME:EEST
DTSTART:20220327T010000
END:DAYLIGHT
BEGIN:STANDARD
TZOFFSETFROM:+0300
TZOFFSETTO:+0200
TZNAME:EET
DTSTART:20221030T010000
END:STANDARD
BEGIN:DAYLIGHT
TZOFFSETFROM:+0200
TZOFFSETTO:+0300
TZNAME:EEST
DTSTART:20230326T010000
END:DAYLIGHT
BEGIN:STANDARD
TZOFFSETFROM:+0300
TZOFFSETTO:+0200
TZNAME:EET
DTSTART:20231029T010000
END:STANDARD
BEGIN:DAYLIGHT
TZOFFSETFROM:+0200
TZOFFSETTO:+0300
TZNAME:EEST
DTSTART:20240331T010000
END:DAYLIGHT
BEGIN:STANDARD
TZOFFSETFROM:+0300
TZOFFSETTO:+0200
TZNAME:EET
DTSTART:20241027T010000
END:STANDARD
END:VTIMEZONE
BEGIN:VEVENT
DTSTART;TZID=Europe/Paris:20230907T083000
DTEND;TZID=Europe/Paris:20230907T173000
DTSTAMP:20260423T133545
CREATED:20230627T073524Z
LAST-MODIFIED:20230627T073524Z
UID:969-1694075400-1694107800@www.silpa.org
SUMMARY:Corso Antincendio Livello III - 2°Giorno
DESCRIPTION:16 ore \n\nRICHIEDI INFO
URL:https://www.silpa.org/corso/corso-antincendio-livello-iii-2giorno-2/
LOCATION:Centro Addestramento Vimodrone\, Largo F.lli Cervi\, 8\, Vimodrone\, MI\, 20900\, Italia
ATTACH;FMTTYPE=image/jpeg:https://www.silpa.org/wp-content/uploads/2022/06/Silpa-Livello3.jpg
END:VEVENT
BEGIN:VEVENT
DTSTART;TZID=Europe/Paris:20230907T083000
DTEND;TZID=Europe/Paris:20230907T173000
DTSTAMP:20260423T133545
CREATED:20230627T073524Z
LAST-MODIFIED:20230627T073524Z
UID:1211-1694075400-1694107800@www.silpa.org
SUMMARY:Corso Antincendio Livello III - 2°Giorno
DESCRIPTION:16 ore \n\nRICHIEDI INFO
URL:https://www.silpa.org/corso/corso-antincendio-livello-iii-2giorno-2-2/
LOCATION:Centro Addestramento Vimodrone\, Largo F.lli Cervi\, 8\, Vimodrone\, MI\, 20900\, Italia
ATTACH;FMTTYPE=image/jpeg:https://www.silpa.org/wp-content/uploads/2022/06/Silpa-Livello3.jpg
END:VEVENT
BEGIN:VEVENT
DTSTART;TZID=Europe/Paris:20230907T083000
DTEND;TZID=Europe/Paris:20230907T173000
DTSTAMP:20260423T133545
CREATED:20230627T073524Z
LAST-MODIFIED:20230627T073524Z
UID:1380-1694075400-1694107800@www.silpa.org
SUMMARY:Corso Antincendio Livello III - 2°Giorno
DESCRIPTION:16 ore \n\nRICHIEDI INFO
URL:https://www.silpa.org/corso/corso-antincendio-livello-iii-2giorno-2-3/
LOCATION:Centro Addestramento Vimodrone\, Largo F.lli Cervi\, 8\, Vimodrone\, MI\, 20900\, Italia
ATTACH;FMTTYPE=image/jpeg:https://www.silpa.org/wp-content/uploads/2022/06/Silpa-Livello3.jpg
END:VEVENT
BEGIN:VEVENT
DTSTART;TZID=Europe/Helsinki:20230907T083000
DTEND;TZID=Europe/Helsinki:20230907T153000
DTSTAMP:20260423T133545
CREATED:20230627T074130Z
LAST-MODIFIED:20230627T074130Z
UID:988-1694075400-1694100600@www.silpa.org
SUMMARY:Corso Aggiornamento Primo Soccorso per Aziende di Gruppo A
DESCRIPTION:6 ore \nRICHIEDI INFO
URL:https://www.silpa.org/corso/corso-aggiornamento-primo-soccorso-per-aziende-di-gruppo-a-2/
LOCATION:Centro Addestramento Vimodrone\, Largo F.lli Cervi\, 8\, Vimodrone\, MI\, 20900\, Italia
ATTACH;FMTTYPE=image/jpeg:https://www.silpa.org/wp-content/uploads/2022/11/cpr-training.jpg
END:VEVENT
BEGIN:VEVENT
DTSTART;TZID=Europe/Helsinki:20230907T083000
DTEND;TZID=Europe/Helsinki:20230907T153000
DTSTAMP:20260423T133545
CREATED:20230627T074130Z
LAST-MODIFIED:20230627T074130Z
UID:1232-1694075400-1694100600@www.silpa.org
SUMMARY:Corso Aggiornamento Primo Soccorso per Aziende di Gruppo A
DESCRIPTION:6 ore \nRICHIEDI INFO
URL:https://www.silpa.org/corso/corso-aggiornamento-primo-soccorso-per-aziende-di-gruppo-a-2-2/
LOCATION:Centro Addestramento Vimodrone\, Largo F.lli Cervi\, 8\, Vimodrone\, MI\, 20900\, Italia
ATTACH;FMTTYPE=image/jpeg:https://www.silpa.org/wp-content/uploads/2022/11/cpr-training.jpg
END:VEVENT
BEGIN:VEVENT
DTSTART;TZID=Europe/Helsinki:20230907T083000
DTEND;TZID=Europe/Helsinki:20230907T153000
DTSTAMP:20260423T133545
CREATED:20230627T074130Z
LAST-MODIFIED:20230627T074130Z
UID:1389-1694075400-1694100600@www.silpa.org
SUMMARY:Corso Aggiornamento Primo Soccorso per Aziende di Gruppo A
DESCRIPTION:6 ore \nRICHIEDI INFO
URL:https://www.silpa.org/corso/corso-aggiornamento-primo-soccorso-per-aziende-di-gruppo-a-2-3/
LOCATION:Centro Addestramento Vimodrone\, Largo F.lli Cervi\, 8\, Vimodrone\, MI\, 20900\, Italia
ATTACH;FMTTYPE=image/jpeg:https://www.silpa.org/wp-content/uploads/2022/11/cpr-training.jpg
END:VEVENT
BEGIN:VEVENT
DTSTART;TZID=Europe/Paris:20230906T083000
DTEND;TZID=Europe/Paris:20230906T173000
DTSTAMP:20260423T133545
CREATED:20230627T073510Z
LAST-MODIFIED:20230627T073510Z
UID:968-1693989000-1694021400@www.silpa.org
SUMMARY:Corso Antincendio Livello III - 1°Giorno
DESCRIPTION:16 ore \n\nRICHIEDI INFO
URL:https://www.silpa.org/corso/corso-antincendio-livello-iii-1giorno-2/
LOCATION:Centro Addestramento Vimodrone\, Largo F.lli Cervi\, 8\, Vimodrone\, MI\, 20900\, Italia
ATTACH;FMTTYPE=image/jpeg:https://www.silpa.org/wp-content/uploads/2022/06/Silpa-Livello3.jpg
END:VEVENT
BEGIN:VEVENT
DTSTART;TZID=Europe/Paris:20230906T083000
DTEND;TZID=Europe/Paris:20230906T173000
DTSTAMP:20260423T133545
CREATED:20230627T073510Z
LAST-MODIFIED:20230627T073510Z
UID:1209-1693989000-1694021400@www.silpa.org
SUMMARY:Corso Antincendio Livello III - 1°Giorno
DESCRIPTION:16 ore \n\nRICHIEDI INFO
URL:https://www.silpa.org/corso/corso-antincendio-livello-iii-1giorno-2-2/
LOCATION:Centro Addestramento Vimodrone\, Largo F.lli Cervi\, 8\, Vimodrone\, MI\, 20900\, Italia
ATTACH;FMTTYPE=image/jpeg:https://www.silpa.org/wp-content/uploads/2022/06/Silpa-Livello3.jpg
END:VEVENT
BEGIN:VEVENT
DTSTART;TZID=Europe/Paris:20230906T083000
DTEND;TZID=Europe/Paris:20230906T173000
DTSTAMP:20260423T133545
CREATED:20230627T073510Z
LAST-MODIFIED:20230627T073510Z
UID:1379-1693989000-1694021400@www.silpa.org
SUMMARY:Corso Antincendio Livello III - 1°Giorno
DESCRIPTION:16 ore \n\nRICHIEDI INFO
URL:https://www.silpa.org/corso/corso-antincendio-livello-iii-1giorno-2-3/
LOCATION:Centro Addestramento Vimodrone\, Largo F.lli Cervi\, 8\, Vimodrone\, MI\, 20900\, Italia
ATTACH;FMTTYPE=image/jpeg:https://www.silpa.org/wp-content/uploads/2022/06/Silpa-Livello3.jpg
END:VEVENT
BEGIN:VEVENT
DTSTART;TZID=Europe/Helsinki:20230813T083000
DTEND;TZID=Europe/Helsinki:20230813T173000
DTSTAMP:20260423T133545
CREATED:20230627T074004Z
LAST-MODIFIED:20230627T074004Z
UID:984-1691915400-1691947800@www.silpa.org
SUMMARY:Corso Base di Primo Soccorso per Aziende di Gruppo A - 1°Giorno
DESCRIPTION:16 ore \nRICHIEDI INFO
URL:https://www.silpa.org/corso/corso-base-di-primo-soccorso-per-aziende-di-gruppo-a-1giorno-2/
LOCATION:Centro Addestramento Vimodrone\, Largo F.lli Cervi\, 8\, Vimodrone\, MI\, 20900\, Italia
ATTACH;FMTTYPE=image/jpeg:https://www.silpa.org/wp-content/uploads/2022/11/cpr-training.jpg
END:VEVENT
BEGIN:VEVENT
DTSTART;TZID=Europe/Helsinki:20230813T083000
DTEND;TZID=Europe/Helsinki:20230813T173000
DTSTAMP:20260423T133545
CREATED:20230627T074004Z
LAST-MODIFIED:20230627T074004Z
UID:1228-1691915400-1691947800@www.silpa.org
SUMMARY:Corso Base di Primo Soccorso per Aziende di Gruppo A - 1°Giorno
DESCRIPTION:16 ore \nRICHIEDI INFO
URL:https://www.silpa.org/corso/corso-base-di-primo-soccorso-per-aziende-di-gruppo-a-1giorno-2-2/
LOCATION:Centro Addestramento Vimodrone\, Largo F.lli Cervi\, 8\, Vimodrone\, MI\, 20900\, Italia
ATTACH;FMTTYPE=image/jpeg:https://www.silpa.org/wp-content/uploads/2022/11/cpr-training.jpg
END:VEVENT
BEGIN:VEVENT
DTSTART;TZID=Europe/Helsinki:20230813T083000
DTEND;TZID=Europe/Helsinki:20230813T173000
DTSTAMP:20260423T133545
CREATED:20230627T074004Z
LAST-MODIFIED:20230627T074004Z
UID:1387-1691915400-1691947800@www.silpa.org
SUMMARY:Corso Base di Primo Soccorso per Aziende di Gruppo A - 1°Giorno
DESCRIPTION:16 ore \nRICHIEDI INFO
URL:https://www.silpa.org/corso/corso-base-di-primo-soccorso-per-aziende-di-gruppo-a-1giorno-2-3/
LOCATION:Centro Addestramento Vimodrone\, Largo F.lli Cervi\, 8\, Vimodrone\, MI\, 20900\, Italia
ATTACH;FMTTYPE=image/jpeg:https://www.silpa.org/wp-content/uploads/2022/11/cpr-training.jpg
END:VEVENT
BEGIN:VEVENT
DTSTART;TZID=Europe/Helsinki:20230727T083000
DTEND;TZID=Europe/Helsinki:20230727T123000
DTSTAMP:20260423T133545
CREATED:20230627T071837Z
LAST-MODIFIED:20230627T071837Z
UID:960-1690446600-1690461000@www.silpa.org
SUMMARY:Corso Aggiornamento Primo Soccorso per Aziende di Gruppo B e C
DESCRIPTION:4 ore \nRICHIEDI INFO
URL:https://www.silpa.org/corso/corso-aggiornamento-primo-soccorso-per-aziende-di-gruppo-b-e-c/
LOCATION:Centro Addestramento Vimodrone\, Largo F.lli Cervi\, 8\, Vimodrone\, MI\, 20900\, Italia
ATTACH;FMTTYPE=image/jpeg:https://www.silpa.org/wp-content/uploads/2022/11/cpr-training.jpg
END:VEVENT
BEGIN:VEVENT
DTSTART;TZID=Europe/Helsinki:20230727T083000
DTEND;TZID=Europe/Helsinki:20230727T123000
DTSTAMP:20260423T133545
CREATED:20230627T071837Z
LAST-MODIFIED:20230627T071837Z
UID:1199-1690446600-1690461000@www.silpa.org
SUMMARY:Corso Aggiornamento Primo Soccorso per Aziende di Gruppo B e C
DESCRIPTION:4 ore \nRICHIEDI INFO
URL:https://www.silpa.org/corso/corso-aggiornamento-primo-soccorso-per-aziende-di-gruppo-b-e-c-6/
LOCATION:Centro Addestramento Vimodrone\, Largo F.lli Cervi\, 8\, Vimodrone\, MI\, 20900\, Italia
ATTACH;FMTTYPE=image/jpeg:https://www.silpa.org/wp-content/uploads/2022/11/cpr-training.jpg
END:VEVENT
BEGIN:VEVENT
DTSTART;TZID=Europe/Helsinki:20230727T083000
DTEND;TZID=Europe/Helsinki:20230727T123000
DTSTAMP:20260423T133545
CREATED:20230627T071837Z
LAST-MODIFIED:20230627T071837Z
UID:1373-1690446600-1690461000@www.silpa.org
SUMMARY:Corso Aggiornamento Primo Soccorso per Aziende di Gruppo B e C
DESCRIPTION:4 ore \nRICHIEDI INFO
URL:https://www.silpa.org/corso/corso-aggiornamento-primo-soccorso-per-aziende-di-gruppo-b-e-c-7/
LOCATION:Centro Addestramento Vimodrone\, Largo F.lli Cervi\, 8\, Vimodrone\, MI\, 20900\, Italia
ATTACH;FMTTYPE=image/jpeg:https://www.silpa.org/wp-content/uploads/2022/11/cpr-training.jpg
END:VEVENT
BEGIN:VEVENT
DTSTART;TZID=Europe/Helsinki:20230727T083000
DTEND;TZID=Europe/Helsinki:20230727T123000
DTSTAMP:20260423T133545
CREATED:20230627T071800Z
LAST-MODIFIED:20230627T071800Z
UID:957-1690446600-1690461000@www.silpa.org
SUMMARY:Corso Base Primo Soccorso per Aziende di Gruppo B e C - 2°Giorno
DESCRIPTION:12 ore \nRICHIEDI INFO
URL:https://www.silpa.org/corso/corso-base-primo-soccorso-per-aziende-di-gruppo-b-e-c-2giorno/
LOCATION:Centro Addestramento Vimodrone\, Largo F.lli Cervi\, 8\, Vimodrone\, MI\, 20900\, Italia
ATTACH;FMTTYPE=image/jpeg:https://www.silpa.org/wp-content/uploads/2022/11/cpr-training.jpg
END:VEVENT
BEGIN:VEVENT
DTSTART;TZID=Europe/Helsinki:20230727T083000
DTEND;TZID=Europe/Helsinki:20230727T123000
DTSTAMP:20260423T133545
CREATED:20230627T071800Z
LAST-MODIFIED:20230627T071800Z
UID:1197-1690446600-1690461000@www.silpa.org
SUMMARY:Corso Base Primo Soccorso per Aziende di Gruppo B e C - 2°Giorno
DESCRIPTION:12 ore \nRICHIEDI INFO
URL:https://www.silpa.org/corso/corso-base-primo-soccorso-per-aziende-di-gruppo-b-e-c-2giorno-6/
LOCATION:Centro Addestramento Vimodrone\, Largo F.lli Cervi\, 8\, Vimodrone\, MI\, 20900\, Italia
ATTACH;FMTTYPE=image/jpeg:https://www.silpa.org/wp-content/uploads/2022/11/cpr-training.jpg
END:VEVENT
BEGIN:VEVENT
DTSTART;TZID=Europe/Helsinki:20230727T083000
DTEND;TZID=Europe/Helsinki:20230727T123000
DTSTAMP:20260423T133545
CREATED:20230627T071800Z
LAST-MODIFIED:20230627T071800Z
UID:1370-1690446600-1690461000@www.silpa.org
SUMMARY:Corso Base Primo Soccorso per Aziende di Gruppo B e C - 2°Giorno
DESCRIPTION:12 ore \nRICHIEDI INFO
URL:https://www.silpa.org/corso/corso-base-primo-soccorso-per-aziende-di-gruppo-b-e-c-2giorno-7/
LOCATION:Centro Addestramento Vimodrone\, Largo F.lli Cervi\, 8\, Vimodrone\, MI\, 20900\, Italia
ATTACH;FMTTYPE=image/jpeg:https://www.silpa.org/wp-content/uploads/2022/11/cpr-training.jpg
END:VEVENT
BEGIN:VEVENT
DTSTART;TZID=Europe/Helsinki:20230726T083000
DTEND;TZID=Europe/Helsinki:20230726T173000
DTSTAMP:20260423T133545
CREATED:20230627T071935Z
LAST-MODIFIED:20230627T071935Z
UID:963-1690360200-1690392600@www.silpa.org
SUMMARY:Corso Base di Primo Soccorso per Aziende di Gruppo A - 2°Giorno
DESCRIPTION:16 ore \nRICHIEDI INFO
URL:https://www.silpa.org/corso/corso-base-di-primo-soccorso-per-aziende-di-gruppo-a-2giorno/
LOCATION:Centro Addestramento Vimodrone\, Largo F.lli Cervi\, 8\, Vimodrone\, MI\, 20900\, Italia
ATTACH;FMTTYPE=image/jpeg:https://www.silpa.org/wp-content/uploads/2022/11/cpr-training.jpg
END:VEVENT
BEGIN:VEVENT
DTSTART;TZID=Europe/Helsinki:20230726T083000
DTEND;TZID=Europe/Helsinki:20230726T173000
DTSTAMP:20260423T133545
CREATED:20230627T071935Z
LAST-MODIFIED:20230627T071935Z
UID:1204-1690360200-1690392600@www.silpa.org
SUMMARY:Corso Base di Primo Soccorso per Aziende di Gruppo A - 2°Giorno
DESCRIPTION:16 ore \nRICHIEDI INFO
URL:https://www.silpa.org/corso/corso-base-di-primo-soccorso-per-aziende-di-gruppo-a-2giorno-6/
LOCATION:Centro Addestramento Vimodrone\, Largo F.lli Cervi\, 8\, Vimodrone\, MI\, 20900\, Italia
ATTACH;FMTTYPE=image/jpeg:https://www.silpa.org/wp-content/uploads/2022/11/cpr-training.jpg
END:VEVENT
BEGIN:VEVENT
DTSTART;TZID=Europe/Helsinki:20230726T083000
DTEND;TZID=Europe/Helsinki:20230726T173000
DTSTAMP:20260423T133545
CREATED:20230627T071935Z
LAST-MODIFIED:20230627T071935Z
UID:1377-1690360200-1690392600@www.silpa.org
SUMMARY:Corso Base di Primo Soccorso per Aziende di Gruppo A - 2°Giorno
DESCRIPTION:16 ore \nRICHIEDI INFO
URL:https://www.silpa.org/corso/corso-base-di-primo-soccorso-per-aziende-di-gruppo-a-2giorno-7/
LOCATION:Centro Addestramento Vimodrone\, Largo F.lli Cervi\, 8\, Vimodrone\, MI\, 20900\, Italia
ATTACH;FMTTYPE=image/jpeg:https://www.silpa.org/wp-content/uploads/2022/11/cpr-training.jpg
END:VEVENT
BEGIN:VEVENT
DTSTART;TZID=Europe/Helsinki:20230725T083000
DTEND;TZID=Europe/Helsinki:20230725T173000
DTSTAMP:20260423T133545
CREATED:20230627T071920Z
LAST-MODIFIED:20230627T071920Z
UID:962-1690273800-1690306200@www.silpa.org
SUMMARY:Corso Base di Primo Soccorso per Aziende di Gruppo A - 1°Giorno
DESCRIPTION:16 ore \nRICHIEDI INFO
URL:https://www.silpa.org/corso/corso-base-di-primo-soccorso-per-aziende-di-gruppo-a-1giorno/
LOCATION:Centro Addestramento Vimodrone\, Largo F.lli Cervi\, 8\, Vimodrone\, MI\, 20900\, Italia
ATTACH;FMTTYPE=image/jpeg:https://www.silpa.org/wp-content/uploads/2022/11/cpr-training.jpg
END:VEVENT
BEGIN:VEVENT
DTSTART;TZID=Europe/Helsinki:20230725T083000
DTEND;TZID=Europe/Helsinki:20230725T173000
DTSTAMP:20260423T133545
CREATED:20230627T071920Z
LAST-MODIFIED:20230627T071920Z
UID:1202-1690273800-1690306200@www.silpa.org
SUMMARY:Corso Base di Primo Soccorso per Aziende di Gruppo A - 1°Giorno
DESCRIPTION:16 ore \nRICHIEDI INFO
URL:https://www.silpa.org/corso/corso-base-di-primo-soccorso-per-aziende-di-gruppo-a-1giorno-6/
LOCATION:Centro Addestramento Vimodrone\, Largo F.lli Cervi\, 8\, Vimodrone\, MI\, 20900\, Italia
ATTACH;FMTTYPE=image/jpeg:https://www.silpa.org/wp-content/uploads/2022/11/cpr-training.jpg
END:VEVENT
BEGIN:VEVENT
DTSTART;TZID=Europe/Helsinki:20230725T083000
DTEND;TZID=Europe/Helsinki:20230725T173000
DTSTAMP:20260423T133545
CREATED:20230627T071920Z
LAST-MODIFIED:20230627T071920Z
UID:1375-1690273800-1690306200@www.silpa.org
SUMMARY:Corso Base di Primo Soccorso per Aziende di Gruppo A - 1°Giorno
DESCRIPTION:16 ore \nRICHIEDI INFO
URL:https://www.silpa.org/corso/corso-base-di-primo-soccorso-per-aziende-di-gruppo-a-1giorno-7/
LOCATION:Centro Addestramento Vimodrone\, Largo F.lli Cervi\, 8\, Vimodrone\, MI\, 20900\, Italia
ATTACH;FMTTYPE=image/jpeg:https://www.silpa.org/wp-content/uploads/2022/11/cpr-training.jpg
END:VEVENT
BEGIN:VEVENT
DTSTART;TZID=Europe/Helsinki:20230725T083000
DTEND;TZID=Europe/Helsinki:20230725T173000
DTSTAMP:20260423T133545
CREATED:20230627T071749Z
LAST-MODIFIED:20230627T071749Z
UID:956-1690273800-1690306200@www.silpa.org
SUMMARY:Corso Base Primo Soccorso per Aziende di Gruppo B e C - 1°Giorno
DESCRIPTION:12 ore \nRICHIEDI INFO
URL:https://www.silpa.org/corso/corso-base-primo-soccorso-per-aziende-di-gruppo-b-e-c-1giorno/
LOCATION:Centro Addestramento Vimodrone\, Largo F.lli Cervi\, 8\, Vimodrone\, MI\, 20900\, Italia
ATTACH;FMTTYPE=image/jpeg:https://www.silpa.org/wp-content/uploads/2022/11/cpr-training.jpg
END:VEVENT
BEGIN:VEVENT
DTSTART;TZID=Europe/Helsinki:20230725T083000
DTEND;TZID=Europe/Helsinki:20230725T173000
DTSTAMP:20260423T133545
CREATED:20230627T071749Z
LAST-MODIFIED:20230627T071749Z
UID:1195-1690273800-1690306200@www.silpa.org
SUMMARY:Corso Base Primo Soccorso per Aziende di Gruppo B e C - 1°Giorno
DESCRIPTION:12 ore \nRICHIEDI INFO
URL:https://www.silpa.org/corso/corso-base-primo-soccorso-per-aziende-di-gruppo-b-e-c-1giorno-6/
LOCATION:Centro Addestramento Vimodrone\, Largo F.lli Cervi\, 8\, Vimodrone\, MI\, 20900\, Italia
ATTACH;FMTTYPE=image/jpeg:https://www.silpa.org/wp-content/uploads/2022/11/cpr-training.jpg
END:VEVENT
BEGIN:VEVENT
DTSTART;TZID=Europe/Helsinki:20230725T083000
DTEND;TZID=Europe/Helsinki:20230725T173000
DTSTAMP:20260423T133545
CREATED:20230627T071749Z
LAST-MODIFIED:20230627T071749Z
UID:1368-1690273800-1690306200@www.silpa.org
SUMMARY:Corso Base Primo Soccorso per Aziende di Gruppo B e C - 1°Giorno
DESCRIPTION:12 ore \nRICHIEDI INFO
URL:https://www.silpa.org/corso/corso-base-primo-soccorso-per-aziende-di-gruppo-b-e-c-1giorno-7/
LOCATION:Centro Addestramento Vimodrone\, Largo F.lli Cervi\, 8\, Vimodrone\, MI\, 20900\, Italia
ATTACH;FMTTYPE=image/jpeg:https://www.silpa.org/wp-content/uploads/2022/11/cpr-training.jpg
END:VEVENT
BEGIN:VEVENT
DTSTART;TZID=Europe/Helsinki:20230720T103000
DTEND;TZID=Europe/Helsinki:20230720T173000
DTSTAMP:20260423T133545
CREATED:20230627T072200Z
LAST-MODIFIED:20230627T073254Z
UID:966-1689849000-1689874200@www.silpa.org
SUMMARY:Corso Aggiornamento Primo Soccorso per Aziende di Gruppo A
DESCRIPTION:6 ore \nRICHIEDI INFO
URL:https://www.silpa.org/corso/corso-aggiornamento-primo-soccorso-per-aziende-di-gruppo-a/
LOCATION:Centro Addestramento Vimodrone\, Largo F.lli Cervi\, 8\, Vimodrone\, MI\, 20900\, Italia
ATTACH;FMTTYPE=image/jpeg:https://www.silpa.org/wp-content/uploads/2022/11/cpr-training.jpg
END:VEVENT
BEGIN:VEVENT
DTSTART;TZID=Europe/Helsinki:20230720T103000
DTEND;TZID=Europe/Helsinki:20230720T173000
DTSTAMP:20260423T133545
CREATED:20230627T072200Z
LAST-MODIFIED:20230627T072200Z
UID:1206-1689849000-1689874200@www.silpa.org
SUMMARY:Corso Aggiornamento Primo Soccorso per Aziende di Gruppo A
DESCRIPTION:6 ore \nRICHIEDI INFO
URL:https://www.silpa.org/corso/corso-aggiornamento-primo-soccorso-per-aziende-di-gruppo-a-6/
LOCATION:Centro Addestramento Vimodrone\, Largo F.lli Cervi\, 8\, Vimodrone\, MI\, 20900\, Italia
ATTACH;FMTTYPE=image/jpeg:https://www.silpa.org/wp-content/uploads/2022/11/cpr-training.jpg
END:VEVENT
BEGIN:VEVENT
DTSTART;TZID=Europe/Helsinki:20230720T103000
DTEND;TZID=Europe/Helsinki:20230720T173000
DTSTAMP:20260423T133545
CREATED:20230627T072200Z
LAST-MODIFIED:20230627T072200Z
UID:1378-1689849000-1689874200@www.silpa.org
SUMMARY:Corso Aggiornamento Primo Soccorso per Aziende di Gruppo A
DESCRIPTION:6 ore \nRICHIEDI INFO
URL:https://www.silpa.org/corso/corso-aggiornamento-primo-soccorso-per-aziende-di-gruppo-a-7/
LOCATION:Centro Addestramento Vimodrone\, Largo F.lli Cervi\, 8\, Vimodrone\, MI\, 20900\, Italia
ATTACH;FMTTYPE=image/jpeg:https://www.silpa.org/wp-content/uploads/2022/11/cpr-training.jpg
END:VEVENT
END:VCALENDAR