BEGIN:VCALENDAR
VERSION:2.0
PRODID:-//Silpa S.r.l. - ECPv6.15.16.1//NONSGML v1.0//EN
CALSCALE:GREGORIAN
METHOD:PUBLISH
X-ORIGINAL-URL:https://www.silpa.org
X-WR-CALDESC:Eventi per Silpa S.r.l.
REFRESH-INTERVAL;VALUE=DURATION:PT1H
X-Robots-Tag:noindex
X-PUBLISHED-TTL:PT1H
BEGIN:VTIMEZONE
TZID:Europe/Helsinki
BEGIN:DAYLIGHT
TZOFFSETFROM:+0200
TZOFFSETTO:+0300
TZNAME:EEST
DTSTART:20220327T010000
END:DAYLIGHT
BEGIN:STANDARD
TZOFFSETFROM:+0300
TZOFFSETTO:+0200
TZNAME:EET
DTSTART:20221030T010000
END:STANDARD
BEGIN:DAYLIGHT
TZOFFSETFROM:+0200
TZOFFSETTO:+0300
TZNAME:EEST
DTSTART:20230326T010000
END:DAYLIGHT
BEGIN:STANDARD
TZOFFSETFROM:+0300
TZOFFSETTO:+0200
TZNAME:EET
DTSTART:20231029T010000
END:STANDARD
BEGIN:DAYLIGHT
TZOFFSETFROM:+0200
TZOFFSETTO:+0300
TZNAME:EEST
DTSTART:20240331T010000
END:DAYLIGHT
BEGIN:STANDARD
TZOFFSETFROM:+0300
TZOFFSETTO:+0200
TZNAME:EET
DTSTART:20241027T010000
END:STANDARD
END:VTIMEZONE
BEGIN:VTIMEZONE
TZID:Europe/Paris
BEGIN:DAYLIGHT
TZOFFSETFROM:+0100
TZOFFSETTO:+0200
TZNAME:CEST
DTSTART:20220327T010000
END:DAYLIGHT
BEGIN:STANDARD
TZOFFSETFROM:+0200
TZOFFSETTO:+0100
TZNAME:CET
DTSTART:20221030T010000
END:STANDARD
BEGIN:DAYLIGHT
TZOFFSETFROM:+0100
TZOFFSETTO:+0200
TZNAME:CEST
DTSTART:20230326T010000
END:DAYLIGHT
BEGIN:STANDARD
TZOFFSETFROM:+0200
TZOFFSETTO:+0100
TZNAME:CET
DTSTART:20231029T010000
END:STANDARD
BEGIN:DAYLIGHT
TZOFFSETFROM:+0100
TZOFFSETTO:+0200
TZNAME:CEST
DTSTART:20240331T010000
END:DAYLIGHT
BEGIN:STANDARD
TZOFFSETFROM:+0200
TZOFFSETTO:+0100
TZNAME:CET
DTSTART:20241027T010000
END:STANDARD
END:VTIMEZONE
BEGIN:VEVENT
DTSTART;TZID=Europe/Helsinki:20230628T103000
DTEND;TZID=Europe/Helsinki:20230628T173000
DTSTAMP:20260423T191840
CREATED:20230227T103009Z
LAST-MODIFIED:20230227T103009Z
UID:1343-1687948200-1687973400@www.silpa.org
SUMMARY:Corso Aggiornamento Primo Soccorso per Aziende di Gruppo A
DESCRIPTION:6 ore \nRICHIEDI INFO
URL:https://www.silpa.org/corso/corso-aggiornamento-primo-soccorso-per-aziende-di-gruppo-a-giugno-2023-3/
LOCATION:Centro Addestramento Vimodrone\, Largo F.lli Cervi\, 8\, Vimodrone\, MI\, 20900\, Italia
ATTACH;FMTTYPE=image/jpeg:https://www.silpa.org/wp-content/uploads/2022/11/cpr-training.jpg
END:VEVENT
BEGIN:VEVENT
DTSTART;TZID=Europe/Helsinki:20230628T083000
DTEND;TZID=Europe/Helsinki:20230628T173000
DTSTAMP:20260423T191840
CREATED:20230227T102928Z
LAST-MODIFIED:20230227T102928Z
UID:920-1687941000-1687973400@www.silpa.org
SUMMARY:Corso Base di Primo Soccorso per Aziende di Gruppo A - 2°Giorno
DESCRIPTION:16 ore \nRICHIEDI INFO
URL:https://www.silpa.org/corso/corso-base-di-primo-soccorso-per-aziende-di-gruppo-a-giugno-2023-2/
LOCATION:Centro Addestramento Vimodrone\, Largo F.lli Cervi\, 8\, Vimodrone\, MI\, 20900\, Italia
ATTACH;FMTTYPE=image/jpeg:https://www.silpa.org/wp-content/uploads/2022/11/cpr-training.jpg
END:VEVENT
BEGIN:VEVENT
DTSTART;TZID=Europe/Helsinki:20230628T083000
DTEND;TZID=Europe/Helsinki:20230628T173000
DTSTAMP:20260423T191840
CREATED:20230227T102928Z
LAST-MODIFIED:20230227T102928Z
UID:1174-1687941000-1687973400@www.silpa.org
SUMMARY:Corso Base di Primo Soccorso per Aziende di Gruppo A - 2°Giorno
DESCRIPTION:16 ore \nRICHIEDI INFO
URL:https://www.silpa.org/corso/corso-base-di-primo-soccorso-per-aziende-di-gruppo-a-giugno-2023-2-2/
LOCATION:Centro Addestramento Vimodrone\, Largo F.lli Cervi\, 8\, Vimodrone\, MI\, 20900\, Italia
ATTACH;FMTTYPE=image/jpeg:https://www.silpa.org/wp-content/uploads/2022/11/cpr-training.jpg
END:VEVENT
BEGIN:VEVENT
DTSTART;TZID=Europe/Helsinki:20230628T083000
DTEND;TZID=Europe/Helsinki:20230628T173000
DTSTAMP:20260423T191840
CREATED:20230227T102928Z
LAST-MODIFIED:20230227T102928Z
UID:1341-1687941000-1687973400@www.silpa.org
SUMMARY:Corso Base di Primo Soccorso per Aziende di Gruppo A - 2°Giorno
DESCRIPTION:16 ore \nRICHIEDI INFO
URL:https://www.silpa.org/corso/corso-base-di-primo-soccorso-per-aziende-di-gruppo-a-giugno-2023-2-3/
LOCATION:Centro Addestramento Vimodrone\, Largo F.lli Cervi\, 8\, Vimodrone\, MI\, 20900\, Italia
ATTACH;FMTTYPE=image/jpeg:https://www.silpa.org/wp-content/uploads/2022/11/cpr-training.jpg
END:VEVENT
BEGIN:VEVENT
DTSTART;TZID=Europe/Paris:20230627T083000
DTEND;TZID=Europe/Paris:20230627T173000
DTSTAMP:20260423T191840
CREATED:20230227T102517Z
LAST-MODIFIED:20230227T102517Z
UID:910-1687854600-1687887000@www.silpa.org
SUMMARY:Corso Antincendio Livello II
DESCRIPTION:8 ore \n\nRICHIEDI INFO
URL:https://www.silpa.org/corso/corso-antincendio-livello-ii-giugno-2023/
LOCATION:Centro Addestramento Vimodrone\, Largo F.lli Cervi\, 8\, Vimodrone\, MI\, 20900\, Italia
ATTACH;FMTTYPE=image/jpeg:https://www.silpa.org/wp-content/uploads/2022/06/Silpa-Livello3.jpg
END:VEVENT
BEGIN:VEVENT
DTSTART;TZID=Europe/Paris:20230627T083000
DTEND;TZID=Europe/Paris:20230627T173000
DTSTAMP:20260423T191840
CREATED:20230227T102517Z
LAST-MODIFIED:20230227T102517Z
UID:1169-1687854600-1687887000@www.silpa.org
SUMMARY:Corso Antincendio Livello II
DESCRIPTION:8 ore \n\nRICHIEDI INFO
URL:https://www.silpa.org/corso/corso-antincendio-livello-ii-giugno-2023-2/
LOCATION:Centro Addestramento Vimodrone\, Largo F.lli Cervi\, 8\, Vimodrone\, MI\, 20900\, Italia
ATTACH;FMTTYPE=image/jpeg:https://www.silpa.org/wp-content/uploads/2022/06/Silpa-Livello3.jpg
END:VEVENT
BEGIN:VEVENT
DTSTART;TZID=Europe/Paris:20230627T083000
DTEND;TZID=Europe/Paris:20230627T173000
DTSTAMP:20260423T191840
CREATED:20230227T102517Z
LAST-MODIFIED:20230227T102517Z
UID:1329-1687854600-1687887000@www.silpa.org
SUMMARY:Corso Antincendio Livello II
DESCRIPTION:8 ore \n\nRICHIEDI INFO
URL:https://www.silpa.org/corso/corso-antincendio-livello-ii-giugno-2023-3/
LOCATION:Centro Addestramento Vimodrone\, Largo F.lli Cervi\, 8\, Vimodrone\, MI\, 20900\, Italia
ATTACH;FMTTYPE=image/jpeg:https://www.silpa.org/wp-content/uploads/2022/06/Silpa-Livello3.jpg
END:VEVENT
BEGIN:VEVENT
DTSTART;TZID=Europe/Helsinki:20230627T083000
DTEND;TZID=Europe/Helsinki:20230627T123000
DTSTAMP:20260423T191840
CREATED:20230227T102745Z
LAST-MODIFIED:20230227T102745Z
UID:916-1687854600-1687869000@www.silpa.org
SUMMARY:Corso Aggiornamento Primo Soccorso per Aziende di Gruppo B e C
DESCRIPTION:4 ore \nRICHIEDI INFO
URL:https://www.silpa.org/corso/corso-aggiornamento-primo-soccorso-per-aziende-di-gruppo-b-e-c-giugno-2023/
LOCATION:Centro Addestramento Vimodrone\, Largo F.lli Cervi\, 8\, Vimodrone\, MI\, 20900\, Italia
ATTACH;FMTTYPE=image/jpeg:https://www.silpa.org/wp-content/uploads/2022/11/cpr-training.jpg
END:VEVENT
BEGIN:VEVENT
DTSTART;TZID=Europe/Helsinki:20230627T083000
DTEND;TZID=Europe/Helsinki:20230627T123000
DTSTAMP:20260423T191840
CREATED:20230227T102745Z
LAST-MODIFIED:20230227T102745Z
UID:1172-1687854600-1687869000@www.silpa.org
SUMMARY:Corso Aggiornamento Primo Soccorso per Aziende di Gruppo B e C
DESCRIPTION:4 ore \nRICHIEDI INFO
URL:https://www.silpa.org/corso/corso-aggiornamento-primo-soccorso-per-aziende-di-gruppo-b-e-c-giugno-2023-2/
LOCATION:Centro Addestramento Vimodrone\, Largo F.lli Cervi\, 8\, Vimodrone\, MI\, 20900\, Italia
ATTACH;FMTTYPE=image/jpeg:https://www.silpa.org/wp-content/uploads/2022/11/cpr-training.jpg
END:VEVENT
BEGIN:VEVENT
DTSTART;TZID=Europe/Helsinki:20230627T083000
DTEND;TZID=Europe/Helsinki:20230627T123000
DTSTAMP:20260423T191840
CREATED:20230227T102745Z
LAST-MODIFIED:20230227T102745Z
UID:1336-1687854600-1687869000@www.silpa.org
SUMMARY:Corso Aggiornamento Primo Soccorso per Aziende di Gruppo B e C
DESCRIPTION:4 ore \nRICHIEDI INFO
URL:https://www.silpa.org/corso/corso-aggiornamento-primo-soccorso-per-aziende-di-gruppo-b-e-c-giugno-2023-3/
LOCATION:Centro Addestramento Vimodrone\, Largo F.lli Cervi\, 8\, Vimodrone\, MI\, 20900\, Italia
ATTACH;FMTTYPE=image/jpeg:https://www.silpa.org/wp-content/uploads/2022/11/cpr-training.jpg
END:VEVENT
BEGIN:VEVENT
DTSTART;TZID=Europe/Helsinki:20230627T083000
DTEND;TZID=Europe/Helsinki:20230627T123000
DTSTAMP:20260423T191840
CREATED:20230227T102702Z
LAST-MODIFIED:20230227T102702Z
UID:914-1687854600-1687869000@www.silpa.org
SUMMARY:Corso Base Primo Soccorso per Aziende di Gruppo B e C - 2°Giorno
DESCRIPTION:12 ore \nRICHIEDI INFO
URL:https://www.silpa.org/corso/corso-base-primo-soccorso-per-aziende-di-gruppo-b-e-c-giugno-2023-2/
LOCATION:Centro Addestramento Vimodrone\, Largo F.lli Cervi\, 8\, Vimodrone\, MI\, 20900\, Italia
ATTACH;FMTTYPE=image/jpeg:https://www.silpa.org/wp-content/uploads/2022/11/cpr-training.jpg
END:VEVENT
BEGIN:VEVENT
DTSTART;TZID=Europe/Helsinki:20230627T083000
DTEND;TZID=Europe/Helsinki:20230627T123000
DTSTAMP:20260423T191840
CREATED:20230227T102702Z
LAST-MODIFIED:20230227T102702Z
UID:1171-1687854600-1687869000@www.silpa.org
SUMMARY:Corso Base Primo Soccorso per Aziende di Gruppo B e C - 2°Giorno
DESCRIPTION:12 ore \nRICHIEDI INFO
URL:https://www.silpa.org/corso/corso-base-primo-soccorso-per-aziende-di-gruppo-b-e-c-giugno-2023-2-2/
LOCATION:Centro Addestramento Vimodrone\, Largo F.lli Cervi\, 8\, Vimodrone\, MI\, 20900\, Italia
ATTACH;FMTTYPE=image/jpeg:https://www.silpa.org/wp-content/uploads/2022/11/cpr-training.jpg
END:VEVENT
BEGIN:VEVENT
DTSTART;TZID=Europe/Helsinki:20230627T083000
DTEND;TZID=Europe/Helsinki:20230627T123000
DTSTAMP:20260423T191840
CREATED:20230227T102702Z
LAST-MODIFIED:20230227T102702Z
UID:1333-1687854600-1687869000@www.silpa.org
SUMMARY:Corso Base Primo Soccorso per Aziende di Gruppo B e C - 2°Giorno
DESCRIPTION:12 ore \nRICHIEDI INFO
URL:https://www.silpa.org/corso/corso-base-primo-soccorso-per-aziende-di-gruppo-b-e-c-giugno-2023-2-3/
LOCATION:Centro Addestramento Vimodrone\, Largo F.lli Cervi\, 8\, Vimodrone\, MI\, 20900\, Italia
ATTACH;FMTTYPE=image/jpeg:https://www.silpa.org/wp-content/uploads/2022/11/cpr-training.jpg
END:VEVENT
BEGIN:VEVENT
DTSTART;TZID=Europe/Helsinki:20230626T083000
DTEND;TZID=Europe/Helsinki:20230626T173000
DTSTAMP:20260423T191840
CREATED:20230227T102838Z
LAST-MODIFIED:20230227T102838Z
UID:918-1687768200-1687800600@www.silpa.org
SUMMARY:Corso Base di Primo Soccorso per Aziende di Gruppo A - 1°Giorno
DESCRIPTION:16 ore \nRICHIEDI INFO
URL:https://www.silpa.org/corso/corso-base-di-primo-soccorso-per-aziende-di-gruppo-a-giugno-2023/
LOCATION:Centro Addestramento Vimodrone\, Largo F.lli Cervi\, 8\, Vimodrone\, MI\, 20900\, Italia
ATTACH;FMTTYPE=image/jpeg:https://www.silpa.org/wp-content/uploads/2022/11/cpr-training.jpg
END:VEVENT
BEGIN:VEVENT
DTSTART;TZID=Europe/Helsinki:20230626T083000
DTEND;TZID=Europe/Helsinki:20230626T173000
DTSTAMP:20260423T191840
CREATED:20230227T102838Z
LAST-MODIFIED:20230227T102838Z
UID:1173-1687768200-1687800600@www.silpa.org
SUMMARY:Corso Base di Primo Soccorso per Aziende di Gruppo A - 1°Giorno
DESCRIPTION:16 ore \nRICHIEDI INFO
URL:https://www.silpa.org/corso/corso-base-di-primo-soccorso-per-aziende-di-gruppo-a-giugno-2023-3/
LOCATION:Centro Addestramento Vimodrone\, Largo F.lli Cervi\, 8\, Vimodrone\, MI\, 20900\, Italia
ATTACH;FMTTYPE=image/jpeg:https://www.silpa.org/wp-content/uploads/2022/11/cpr-training.jpg
END:VEVENT
BEGIN:VEVENT
DTSTART;TZID=Europe/Helsinki:20230626T083000
DTEND;TZID=Europe/Helsinki:20230626T173000
DTSTAMP:20260423T191840
CREATED:20230227T102838Z
LAST-MODIFIED:20230227T102838Z
UID:1338-1687768200-1687800600@www.silpa.org
SUMMARY:Corso Base di Primo Soccorso per Aziende di Gruppo A - 1°Giorno
DESCRIPTION:16 ore \nRICHIEDI INFO
URL:https://www.silpa.org/corso/corso-base-di-primo-soccorso-per-aziende-di-gruppo-a-giugno-2023-4/
LOCATION:Centro Addestramento Vimodrone\, Largo F.lli Cervi\, 8\, Vimodrone\, MI\, 20900\, Italia
ATTACH;FMTTYPE=image/jpeg:https://www.silpa.org/wp-content/uploads/2022/11/cpr-training.jpg
END:VEVENT
BEGIN:VEVENT
DTSTART;TZID=Europe/Helsinki:20230626T083000
DTEND;TZID=Europe/Helsinki:20230626T173000
DTSTAMP:20260423T191840
CREATED:20230227T102614Z
LAST-MODIFIED:20230227T102614Z
UID:912-1687768200-1687800600@www.silpa.org
SUMMARY:Corso Base Primo Soccorso per Aziende di Gruppo B e C - 1°Giorno
DESCRIPTION:12 ore \nRICHIEDI INFO
URL:https://www.silpa.org/corso/corso-base-primo-soccorso-per-aziende-di-gruppo-b-e-c-giugno-2023/
LOCATION:Centro Addestramento Vimodrone\, Largo F.lli Cervi\, 8\, Vimodrone\, MI\, 20900\, Italia
ATTACH;FMTTYPE=image/jpeg:https://www.silpa.org/wp-content/uploads/2022/11/cpr-training.jpg
END:VEVENT
BEGIN:VEVENT
DTSTART;TZID=Europe/Helsinki:20230626T083000
DTEND;TZID=Europe/Helsinki:20230626T173000
DTSTAMP:20260423T191840
CREATED:20230227T102614Z
LAST-MODIFIED:20230227T102614Z
UID:1170-1687768200-1687800600@www.silpa.org
SUMMARY:Corso Base Primo Soccorso per Aziende di Gruppo B e C - 1°Giorno
DESCRIPTION:12 ore \nRICHIEDI INFO
URL:https://www.silpa.org/corso/corso-base-primo-soccorso-per-aziende-di-gruppo-b-e-c-giugno-2023-3/
LOCATION:Centro Addestramento Vimodrone\, Largo F.lli Cervi\, 8\, Vimodrone\, MI\, 20900\, Italia
ATTACH;FMTTYPE=image/jpeg:https://www.silpa.org/wp-content/uploads/2022/11/cpr-training.jpg
END:VEVENT
BEGIN:VEVENT
DTSTART;TZID=Europe/Helsinki:20230626T083000
DTEND;TZID=Europe/Helsinki:20230626T173000
DTSTAMP:20260423T191840
CREATED:20230227T102614Z
LAST-MODIFIED:20230227T102614Z
UID:1331-1687768200-1687800600@www.silpa.org
SUMMARY:Corso Base Primo Soccorso per Aziende di Gruppo B e C - 1°Giorno
DESCRIPTION:12 ore \nRICHIEDI INFO
URL:https://www.silpa.org/corso/corso-base-primo-soccorso-per-aziende-di-gruppo-b-e-c-giugno-2023-4/
LOCATION:Centro Addestramento Vimodrone\, Largo F.lli Cervi\, 8\, Vimodrone\, MI\, 20900\, Italia
ATTACH;FMTTYPE=image/jpeg:https://www.silpa.org/wp-content/uploads/2022/11/cpr-training.jpg
END:VEVENT
BEGIN:VEVENT
DTSTART;TZID=Europe/Helsinki:20230622T083000
DTEND;TZID=Europe/Helsinki:20230622T173000
DTSTAMP:20260423T191840
CREATED:20230227T103439Z
LAST-MODIFIED:20230227T103439Z
UID:930-1687422600-1687455000@www.silpa.org
SUMMARY:Corso Aggiornamento Spazi Confinati - Pratica
DESCRIPTION:8 ore \n  \nRICHIEDI INFO
URL:https://www.silpa.org/corso/corso-aggiornamento-spazi-confinati-pratica-giugno-2023/
LOCATION:Centro Addestramento Vimodrone\, Largo F.lli Cervi\, 8\, Vimodrone\, MI\, 20900\, Italia
ATTACH;FMTTYPE=image/jpeg:https://www.silpa.org/wp-content/uploads/2022/06/Silpa-Aggiornamento-Livello3.jpg
END:VEVENT
BEGIN:VEVENT
DTSTART;TZID=Europe/Helsinki:20230622T083000
DTEND;TZID=Europe/Helsinki:20230622T173000
DTSTAMP:20260423T191840
CREATED:20230227T103439Z
LAST-MODIFIED:20230227T103439Z
UID:1181-1687422600-1687455000@www.silpa.org
SUMMARY:Corso Aggiornamento Spazi Confinati - Pratica
DESCRIPTION:8 ore \n  \nRICHIEDI INFO
URL:https://www.silpa.org/corso/corso-aggiornamento-spazi-confinati-pratica-giugno-2023-2/
LOCATION:Centro Addestramento Vimodrone\, Largo F.lli Cervi\, 8\, Vimodrone\, MI\, 20900\, Italia
ATTACH;FMTTYPE=image/jpeg:https://www.silpa.org/wp-content/uploads/2022/06/Silpa-Aggiornamento-Livello3.jpg
END:VEVENT
BEGIN:VEVENT
DTSTART;TZID=Europe/Helsinki:20230622T083000
DTEND;TZID=Europe/Helsinki:20230622T173000
DTSTAMP:20260423T191840
CREATED:20230227T103439Z
LAST-MODIFIED:20230227T103439Z
UID:1353-1687422600-1687455000@www.silpa.org
SUMMARY:Corso Aggiornamento Spazi Confinati - Pratica
DESCRIPTION:8 ore \n  \nRICHIEDI INFO
URL:https://www.silpa.org/corso/corso-aggiornamento-spazi-confinati-pratica-giugno-2023-3/
LOCATION:Centro Addestramento Vimodrone\, Largo F.lli Cervi\, 8\, Vimodrone\, MI\, 20900\, Italia
ATTACH;FMTTYPE=image/jpeg:https://www.silpa.org/wp-content/uploads/2022/06/Silpa-Aggiornamento-Livello3.jpg
END:VEVENT
BEGIN:VEVENT
DTSTART;TZID=Europe/Helsinki:20230622T083000
DTEND;TZID=Europe/Helsinki:20230622T173000
DTSTAMP:20260423T191840
CREATED:20230227T103309Z
LAST-MODIFIED:20230227T103309Z
UID:926-1687422600-1687455000@www.silpa.org
SUMMARY:Corso Base Spazi Confinati - 2°Giorno
DESCRIPTION:16 ore \nRICHIEDI INFO
URL:https://www.silpa.org/corso/corso-base-spazi-confinati-giugno-2023-2/
LOCATION:Centro Addestramento Vimodrone\, Largo F.lli Cervi\, 8\, Vimodrone\, MI\, 20900\, Italia
ATTACH;FMTTYPE=image/jpeg:https://www.silpa.org/wp-content/uploads/2022/06/Silpa-Aggiornamento-Livello3.jpg
END:VEVENT
BEGIN:VEVENT
DTSTART;TZID=Europe/Helsinki:20230622T083000
DTEND;TZID=Europe/Helsinki:20230622T173000
DTSTAMP:20260423T191840
CREATED:20230227T103309Z
LAST-MODIFIED:20230227T103309Z
UID:1177-1687422600-1687455000@www.silpa.org
SUMMARY:Corso Base Spazi Confinati - 2°Giorno
DESCRIPTION:16 ore \nRICHIEDI INFO
URL:https://www.silpa.org/corso/corso-base-spazi-confinati-giugno-2023-2-2/
LOCATION:Centro Addestramento Vimodrone\, Largo F.lli Cervi\, 8\, Vimodrone\, MI\, 20900\, Italia
ATTACH;FMTTYPE=image/jpeg:https://www.silpa.org/wp-content/uploads/2022/06/Silpa-Aggiornamento-Livello3.jpg
END:VEVENT
BEGIN:VEVENT
DTSTART;TZID=Europe/Helsinki:20230622T083000
DTEND;TZID=Europe/Helsinki:20230622T173000
DTSTAMP:20260423T191840
CREATED:20230227T103309Z
LAST-MODIFIED:20230227T103309Z
UID:1348-1687422600-1687455000@www.silpa.org
SUMMARY:Corso Base Spazi Confinati - 2°Giorno
DESCRIPTION:16 ore \nRICHIEDI INFO
URL:https://www.silpa.org/corso/corso-base-spazi-confinati-giugno-2023-2-3/
LOCATION:Centro Addestramento Vimodrone\, Largo F.lli Cervi\, 8\, Vimodrone\, MI\, 20900\, Italia
ATTACH;FMTTYPE=image/jpeg:https://www.silpa.org/wp-content/uploads/2022/06/Silpa-Aggiornamento-Livello3.jpg
END:VEVENT
BEGIN:VEVENT
DTSTART;TZID=Europe/Helsinki:20230621T083000
DTEND;TZID=Europe/Helsinki:20230621T173000
DTSTAMP:20260423T191840
CREATED:20230227T103349Z
LAST-MODIFIED:20230227T103349Z
UID:928-1687336200-1687368600@www.silpa.org
SUMMARY:Corso Aggiornamento Spazi Confinati - Teoria
DESCRIPTION:8 ore \nRICHIEDI INFO
URL:https://www.silpa.org/corso/corso-aggiornamento-spazi-confinati-teoria-giugno-2023/
LOCATION:Centro Addestramento Vimodrone\, Largo F.lli Cervi\, 8\, Vimodrone\, MI\, 20900\, Italia
ATTACH;FMTTYPE=image/jpeg:https://www.silpa.org/wp-content/uploads/2022/06/Silpa-Aggiornamento-Livello3.jpg
END:VEVENT
BEGIN:VEVENT
DTSTART;TZID=Europe/Helsinki:20230621T083000
DTEND;TZID=Europe/Helsinki:20230621T173000
DTSTAMP:20260423T191840
CREATED:20230227T103349Z
LAST-MODIFIED:20230227T103349Z
UID:1178-1687336200-1687368600@www.silpa.org
SUMMARY:Corso Aggiornamento Spazi Confinati - Teoria
DESCRIPTION:8 ore \nRICHIEDI INFO
URL:https://www.silpa.org/corso/corso-aggiornamento-spazi-confinati-teoria-giugno-2023-2/
LOCATION:Centro Addestramento Vimodrone\, Largo F.lli Cervi\, 8\, Vimodrone\, MI\, 20900\, Italia
ATTACH;FMTTYPE=image/jpeg:https://www.silpa.org/wp-content/uploads/2022/06/Silpa-Aggiornamento-Livello3.jpg
END:VEVENT
BEGIN:VEVENT
DTSTART;TZID=Europe/Helsinki:20230621T083000
DTEND;TZID=Europe/Helsinki:20230621T173000
DTSTAMP:20260423T191840
CREATED:20230227T103349Z
LAST-MODIFIED:20230227T103349Z
UID:1351-1687336200-1687368600@www.silpa.org
SUMMARY:Corso Aggiornamento Spazi Confinati - Teoria
DESCRIPTION:8 ore \nRICHIEDI INFO
URL:https://www.silpa.org/corso/corso-aggiornamento-spazi-confinati-teoria-giugno-2023-3/
LOCATION:Centro Addestramento Vimodrone\, Largo F.lli Cervi\, 8\, Vimodrone\, MI\, 20900\, Italia
ATTACH;FMTTYPE=image/jpeg:https://www.silpa.org/wp-content/uploads/2022/06/Silpa-Aggiornamento-Livello3.jpg
END:VEVENT
BEGIN:VEVENT
DTSTART;TZID=Europe/Helsinki:20230621T083000
DTEND;TZID=Europe/Helsinki:20230621T173000
DTSTAMP:20260423T191840
CREATED:20230227T103149Z
LAST-MODIFIED:20230227T103149Z
UID:924-1687336200-1687368600@www.silpa.org
SUMMARY:Corso Base Spazi Confinati - 1°Giorno
DESCRIPTION:16 ore \nRICHIEDI INFO
URL:https://www.silpa.org/corso/corso-base-spazi-confinati-giugno-2023/
LOCATION:Centro Addestramento Vimodrone\, Largo F.lli Cervi\, 8\, Vimodrone\, MI\, 20900\, Italia
ATTACH;FMTTYPE=image/jpeg:https://www.silpa.org/wp-content/uploads/2022/06/Silpa-Aggiornamento-Livello3.jpg
END:VEVENT
BEGIN:VEVENT
DTSTART;TZID=Europe/Helsinki:20230621T083000
DTEND;TZID=Europe/Helsinki:20230621T173000
DTSTAMP:20260423T191840
CREATED:20230227T103149Z
LAST-MODIFIED:20230227T103149Z
UID:1176-1687336200-1687368600@www.silpa.org
SUMMARY:Corso Base Spazi Confinati - 1°Giorno
DESCRIPTION:16 ore \nRICHIEDI INFO
URL:https://www.silpa.org/corso/corso-base-spazi-confinati-giugno-2023-3/
LOCATION:Centro Addestramento Vimodrone\, Largo F.lli Cervi\, 8\, Vimodrone\, MI\, 20900\, Italia
ATTACH;FMTTYPE=image/jpeg:https://www.silpa.org/wp-content/uploads/2022/06/Silpa-Aggiornamento-Livello3.jpg
END:VEVENT
END:VCALENDAR