BEGIN:VCALENDAR
VERSION:2.0
PRODID:-//Silpa S.r.l. - ECPv6.15.16.1//NONSGML v1.0//EN
CALSCALE:GREGORIAN
METHOD:PUBLISH
X-ORIGINAL-URL:https://www.silpa.org
X-WR-CALDESC:Eventi per Silpa S.r.l.
REFRESH-INTERVAL;VALUE=DURATION:PT1H
X-Robots-Tag:noindex
X-PUBLISHED-TTL:PT1H
BEGIN:VTIMEZONE
TZID:Europe/Helsinki
BEGIN:DAYLIGHT
TZOFFSETFROM:+0200
TZOFFSETTO:+0300
TZNAME:EEST
DTSTART:20220327T010000
END:DAYLIGHT
BEGIN:STANDARD
TZOFFSETFROM:+0300
TZOFFSETTO:+0200
TZNAME:EET
DTSTART:20221030T010000
END:STANDARD
BEGIN:DAYLIGHT
TZOFFSETFROM:+0200
TZOFFSETTO:+0300
TZNAME:EEST
DTSTART:20230326T010000
END:DAYLIGHT
BEGIN:STANDARD
TZOFFSETFROM:+0300
TZOFFSETTO:+0200
TZNAME:EET
DTSTART:20231029T010000
END:STANDARD
BEGIN:DAYLIGHT
TZOFFSETFROM:+0200
TZOFFSETTO:+0300
TZNAME:EEST
DTSTART:20240331T010000
END:DAYLIGHT
BEGIN:STANDARD
TZOFFSETFROM:+0300
TZOFFSETTO:+0200
TZNAME:EET
DTSTART:20241027T010000
END:STANDARD
END:VTIMEZONE
BEGIN:VTIMEZONE
TZID:Europe/Paris
BEGIN:DAYLIGHT
TZOFFSETFROM:+0100
TZOFFSETTO:+0200
TZNAME:CEST
DTSTART:20220327T010000
END:DAYLIGHT
BEGIN:STANDARD
TZOFFSETFROM:+0200
TZOFFSETTO:+0100
TZNAME:CET
DTSTART:20221030T010000
END:STANDARD
BEGIN:DAYLIGHT
TZOFFSETFROM:+0100
TZOFFSETTO:+0200
TZNAME:CEST
DTSTART:20230326T010000
END:DAYLIGHT
BEGIN:STANDARD
TZOFFSETFROM:+0200
TZOFFSETTO:+0100
TZNAME:CET
DTSTART:20231029T010000
END:STANDARD
BEGIN:DAYLIGHT
TZOFFSETFROM:+0100
TZOFFSETTO:+0200
TZNAME:CEST
DTSTART:20240331T010000
END:DAYLIGHT
BEGIN:STANDARD
TZOFFSETFROM:+0200
TZOFFSETTO:+0100
TZNAME:CET
DTSTART:20241027T010000
END:STANDARD
END:VTIMEZONE
BEGIN:VEVENT
DTSTART;TZID=Europe/Helsinki:20230502T083000
DTEND;TZID=Europe/Helsinki:20230502T173000
DTSTAMP:20260424T055535
CREATED:20230227T101455Z
LAST-MODIFIED:20230227T101455Z
UID:1305-1683016200-1683048600@www.silpa.org
SUMMARY:Corso Base di Primo Soccorso per Aziende di Gruppo A - 1°Giorno
DESCRIPTION:16 ore \nRICHIEDI INFO
URL:https://www.silpa.org/corso/corso-base-di-primo-soccorso-per-aziende-di-gruppo-a-maggio-2023-4/
LOCATION:Centro Addestramento Vimodrone\, Largo F.lli Cervi\, 8\, Vimodrone\, MI\, 20900\, Italia
ATTACH;FMTTYPE=image/jpeg:https://www.silpa.org/wp-content/uploads/2022/11/cpr-training.jpg
END:VEVENT
BEGIN:VEVENT
DTSTART;TZID=Europe/Helsinki:20230502T083000
DTEND;TZID=Europe/Helsinki:20230502T173000
DTSTAMP:20260424T055535
CREATED:20230227T100934Z
LAST-MODIFIED:20230227T101024Z
UID:882-1683016200-1683048600@www.silpa.org
SUMMARY:Corso Base Primo Soccorso per Aziende di Gruppo B e C - 1°Giorno
DESCRIPTION:12 ore \nRICHIEDI INFO
URL:https://www.silpa.org/corso/corso-base-primo-soccorso-per-aziende-di-gruppo-b-e-c-maggio-2023/
LOCATION:Centro Addestramento Vimodrone\, Largo F.lli Cervi\, 8\, Vimodrone\, MI\, 20900\, Italia
ATTACH;FMTTYPE=image/jpeg:https://www.silpa.org/wp-content/uploads/2022/11/cpr-training.jpg
END:VEVENT
BEGIN:VEVENT
DTSTART;TZID=Europe/Helsinki:20230502T083000
DTEND;TZID=Europe/Helsinki:20230502T173000
DTSTAMP:20260424T055535
CREATED:20230227T100934Z
LAST-MODIFIED:20230227T100934Z
UID:1155-1683016200-1683048600@www.silpa.org
SUMMARY:Corso Base Primo Soccorso per Aziende di Gruppo B e C - 1°Giorno
DESCRIPTION:12 ore \nRICHIEDI INFO
URL:https://www.silpa.org/corso/corso-base-primo-soccorso-per-aziende-di-gruppo-b-e-c-maggio-2023-3/
LOCATION:Centro Addestramento Vimodrone\, Largo F.lli Cervi\, 8\, Vimodrone\, MI\, 20900\, Italia
ATTACH;FMTTYPE=image/jpeg:https://www.silpa.org/wp-content/uploads/2022/11/cpr-training.jpg
END:VEVENT
BEGIN:VEVENT
DTSTART;TZID=Europe/Helsinki:20230502T083000
DTEND;TZID=Europe/Helsinki:20230502T173000
DTSTAMP:20260424T055535
CREATED:20230227T100934Z
LAST-MODIFIED:20230227T100934Z
UID:1300-1683016200-1683048600@www.silpa.org
SUMMARY:Corso Base Primo Soccorso per Aziende di Gruppo B e C - 1°Giorno
DESCRIPTION:12 ore \nRICHIEDI INFO
URL:https://www.silpa.org/corso/corso-base-primo-soccorso-per-aziende-di-gruppo-b-e-c-maggio-2023-4/
LOCATION:Centro Addestramento Vimodrone\, Largo F.lli Cervi\, 8\, Vimodrone\, MI\, 20900\, Italia
ATTACH;FMTTYPE=image/jpeg:https://www.silpa.org/wp-content/uploads/2022/11/cpr-training.jpg
END:VEVENT
BEGIN:VEVENT
DTSTART;TZID=Europe/Helsinki:20230427T083000
DTEND;TZID=Europe/Helsinki:20230427T173000
DTSTAMP:20260424T055535
CREATED:20230227T084726Z
LAST-MODIFIED:20230227T084726Z
UID:840-1682584200-1682616600@www.silpa.org
SUMMARY:Corso Aggiornamento Spazi Confinati - Pratica
DESCRIPTION:8 ore \n  \nRICHIEDI INFO
URL:https://www.silpa.org/corso/corso-aggiornamento-spazi-confinati-pratica-aprile-2023/
LOCATION:Centro Addestramento Vimodrone\, Largo F.lli Cervi\, 8\, Vimodrone\, MI\, 20900\, Italia
ATTACH;FMTTYPE=image/jpeg:https://www.silpa.org/wp-content/uploads/2022/06/Silpa-Aggiornamento-Livello3.jpg
END:VEVENT
BEGIN:VEVENT
DTSTART;TZID=Europe/Helsinki:20230427T083000
DTEND;TZID=Europe/Helsinki:20230427T173000
DTSTAMP:20260424T055535
CREATED:20230227T084726Z
LAST-MODIFIED:20230227T084726Z
UID:1149-1682584200-1682616600@www.silpa.org
SUMMARY:Corso Aggiornamento Spazi Confinati - Pratica
DESCRIPTION:8 ore \n  \nRICHIEDI INFO
URL:https://www.silpa.org/corso/corso-aggiornamento-spazi-confinati-pratica-aprile-2023-2/
LOCATION:Centro Addestramento Vimodrone\, Largo F.lli Cervi\, 8\, Vimodrone\, MI\, 20900\, Italia
ATTACH;FMTTYPE=image/jpeg:https://www.silpa.org/wp-content/uploads/2022/06/Silpa-Aggiornamento-Livello3.jpg
END:VEVENT
BEGIN:VEVENT
DTSTART;TZID=Europe/Helsinki:20230427T083000
DTEND;TZID=Europe/Helsinki:20230427T173000
DTSTAMP:20260424T055535
CREATED:20230227T084726Z
LAST-MODIFIED:20230227T084726Z
UID:1289-1682584200-1682616600@www.silpa.org
SUMMARY:Corso Aggiornamento Spazi Confinati - Pratica
DESCRIPTION:8 ore \n  \nRICHIEDI INFO
URL:https://www.silpa.org/corso/corso-aggiornamento-spazi-confinati-pratica-aprile-2023-3/
LOCATION:Centro Addestramento Vimodrone\, Largo F.lli Cervi\, 8\, Vimodrone\, MI\, 20900\, Italia
ATTACH;FMTTYPE=image/jpeg:https://www.silpa.org/wp-content/uploads/2022/06/Silpa-Aggiornamento-Livello3.jpg
END:VEVENT
BEGIN:VEVENT
DTSTART;TZID=Europe/Helsinki:20230427T083000
DTEND;TZID=Europe/Helsinki:20230427T173000
DTSTAMP:20260424T055535
CREATED:20230227T084539Z
LAST-MODIFIED:20230227T085157Z
UID:836-1682584200-1682616600@www.silpa.org
SUMMARY:Corso Base Spazi Confinati - 2°Giorno
DESCRIPTION:16 ore \nRICHIEDI INFO
URL:https://www.silpa.org/corso/corso-base-spazi-confinati-aprile-2023-2/
LOCATION:Centro Addestramento Vimodrone\, Largo F.lli Cervi\, 8\, Vimodrone\, MI\, 20900\, Italia
ATTACH;FMTTYPE=image/jpeg:https://www.silpa.org/wp-content/uploads/2022/06/Silpa-Aggiornamento-Livello3.jpg
END:VEVENT
BEGIN:VEVENT
DTSTART;TZID=Europe/Helsinki:20230427T083000
DTEND;TZID=Europe/Helsinki:20230427T173000
DTSTAMP:20260424T055535
CREATED:20230227T084539Z
LAST-MODIFIED:20230227T084539Z
UID:1147-1682584200-1682616600@www.silpa.org
SUMMARY:Corso Base Spazi Confinati - 2°Giorno
DESCRIPTION:16 ore \nRICHIEDI INFO
URL:https://www.silpa.org/corso/corso-base-spazi-confinati-aprile-2023-2-2/
LOCATION:Centro Addestramento Vimodrone\, Largo F.lli Cervi\, 8\, Vimodrone\, MI\, 20900\, Italia
ATTACH;FMTTYPE=image/jpeg:https://www.silpa.org/wp-content/uploads/2022/06/Silpa-Aggiornamento-Livello3.jpg
END:VEVENT
BEGIN:VEVENT
DTSTART;TZID=Europe/Helsinki:20230427T083000
DTEND;TZID=Europe/Helsinki:20230427T173000
DTSTAMP:20260424T055535
CREATED:20230227T084539Z
LAST-MODIFIED:20230227T084539Z
UID:1286-1682584200-1682616600@www.silpa.org
SUMMARY:Corso Base Spazi Confinati - 2°Giorno
DESCRIPTION:16 ore \nRICHIEDI INFO
URL:https://www.silpa.org/corso/corso-base-spazi-confinati-aprile-2023-2-3/
LOCATION:Centro Addestramento Vimodrone\, Largo F.lli Cervi\, 8\, Vimodrone\, MI\, 20900\, Italia
ATTACH;FMTTYPE=image/jpeg:https://www.silpa.org/wp-content/uploads/2022/06/Silpa-Aggiornamento-Livello3.jpg
END:VEVENT
BEGIN:VEVENT
DTSTART;TZID=Europe/Helsinki:20230426T103000
DTEND;TZID=Europe/Helsinki:20230426T173000
DTSTAMP:20260424T055535
CREATED:20230227T084408Z
LAST-MODIFIED:20230227T085154Z
UID:832-1682505000-1682530200@www.silpa.org
SUMMARY:Corso Aggiornamento Primo Soccorso per Aziende di Gruppo A
DESCRIPTION:6 ore \nRICHIEDI INFO
URL:https://www.silpa.org/corso/corso-aggiornamento-primo-soccorso-per-aziende-di-gruppo-a-aprile-2023/
LOCATION:Centro Addestramento Vimodrone\, Largo F.lli Cervi\, 8\, Vimodrone\, MI\, 20900\, Italia
ATTACH;FMTTYPE=image/jpeg:https://www.silpa.org/wp-content/uploads/2022/11/cpr-training.jpg
END:VEVENT
BEGIN:VEVENT
DTSTART;TZID=Europe/Helsinki:20230426T103000
DTEND;TZID=Europe/Helsinki:20230426T173000
DTSTAMP:20260424T055535
CREATED:20230227T084408Z
LAST-MODIFIED:20230227T084408Z
UID:1145-1682505000-1682530200@www.silpa.org
SUMMARY:Corso Aggiornamento Primo Soccorso per Aziende di Gruppo A
DESCRIPTION:6 ore \nRICHIEDI INFO
URL:https://www.silpa.org/corso/corso-aggiornamento-primo-soccorso-per-aziende-di-gruppo-a-aprile-2023-2/
LOCATION:Centro Addestramento Vimodrone\, Largo F.lli Cervi\, 8\, Vimodrone\, MI\, 20900\, Italia
ATTACH;FMTTYPE=image/jpeg:https://www.silpa.org/wp-content/uploads/2022/11/cpr-training.jpg
END:VEVENT
BEGIN:VEVENT
DTSTART;TZID=Europe/Helsinki:20230426T103000
DTEND;TZID=Europe/Helsinki:20230426T173000
DTSTAMP:20260424T055535
CREATED:20230227T084408Z
LAST-MODIFIED:20230227T084408Z
UID:1282-1682505000-1682530200@www.silpa.org
SUMMARY:Corso Aggiornamento Primo Soccorso per Aziende di Gruppo A
DESCRIPTION:6 ore \nRICHIEDI INFO
URL:https://www.silpa.org/corso/corso-aggiornamento-primo-soccorso-per-aziende-di-gruppo-a-aprile-2023-3/
LOCATION:Centro Addestramento Vimodrone\, Largo F.lli Cervi\, 8\, Vimodrone\, MI\, 20900\, Italia
ATTACH;FMTTYPE=image/jpeg:https://www.silpa.org/wp-content/uploads/2022/11/cpr-training.jpg
END:VEVENT
BEGIN:VEVENT
DTSTART;TZID=Europe/Helsinki:20230426T083000
DTEND;TZID=Europe/Helsinki:20230426T173000
DTSTAMP:20260424T055535
CREATED:20230227T084627Z
LAST-MODIFIED:20230227T085150Z
UID:838-1682497800-1682530200@www.silpa.org
SUMMARY:Corso Aggiornamento Spazi Confinati - Teoria
DESCRIPTION:8 ore \nRICHIEDI INFO
URL:https://www.silpa.org/corso/corso-aggiornamento-spazi-confinati-teoria-aprile-2023/
LOCATION:Centro Addestramento Vimodrone\, Largo F.lli Cervi\, 8\, Vimodrone\, MI\, 20900\, Italia
ATTACH;FMTTYPE=image/jpeg:https://www.silpa.org/wp-content/uploads/2022/06/Silpa-Aggiornamento-Livello3.jpg
END:VEVENT
BEGIN:VEVENT
DTSTART;TZID=Europe/Helsinki:20230426T083000
DTEND;TZID=Europe/Helsinki:20230426T173000
DTSTAMP:20260424T055535
CREATED:20230227T084627Z
LAST-MODIFIED:20230227T084627Z
UID:1148-1682497800-1682530200@www.silpa.org
SUMMARY:Corso Aggiornamento Spazi Confinati - Teoria
DESCRIPTION:8 ore \nRICHIEDI INFO
URL:https://www.silpa.org/corso/corso-aggiornamento-spazi-confinati-teoria-aprile-2023-2/
LOCATION:Centro Addestramento Vimodrone\, Largo F.lli Cervi\, 8\, Vimodrone\, MI\, 20900\, Italia
ATTACH;FMTTYPE=image/jpeg:https://www.silpa.org/wp-content/uploads/2022/06/Silpa-Aggiornamento-Livello3.jpg
END:VEVENT
BEGIN:VEVENT
DTSTART;TZID=Europe/Helsinki:20230426T083000
DTEND;TZID=Europe/Helsinki:20230426T173000
DTSTAMP:20260424T055535
CREATED:20230227T084627Z
LAST-MODIFIED:20230227T084627Z
UID:1287-1682497800-1682530200@www.silpa.org
SUMMARY:Corso Aggiornamento Spazi Confinati - Teoria
DESCRIPTION:8 ore \nRICHIEDI INFO
URL:https://www.silpa.org/corso/corso-aggiornamento-spazi-confinati-teoria-aprile-2023-3/
LOCATION:Centro Addestramento Vimodrone\, Largo F.lli Cervi\, 8\, Vimodrone\, MI\, 20900\, Italia
ATTACH;FMTTYPE=image/jpeg:https://www.silpa.org/wp-content/uploads/2022/06/Silpa-Aggiornamento-Livello3.jpg
END:VEVENT
BEGIN:VEVENT
DTSTART;TZID=Europe/Helsinki:20230426T083000
DTEND;TZID=Europe/Helsinki:20230426T173000
DTSTAMP:20260424T055535
CREATED:20230227T084459Z
LAST-MODIFIED:20230227T085146Z
UID:834-1682497800-1682530200@www.silpa.org
SUMMARY:Corso Base Spazi Confinati - 1°Giorno
DESCRIPTION:16 ore \nRICHIEDI INFO
URL:https://www.silpa.org/corso/corso-base-spazi-confinati-aprile-2023/
LOCATION:Centro Addestramento Vimodrone\, Largo F.lli Cervi\, 8\, Vimodrone\, MI\, 20900\, Italia
ATTACH;FMTTYPE=image/jpeg:https://www.silpa.org/wp-content/uploads/2022/06/Silpa-Aggiornamento-Livello3.jpg
END:VEVENT
BEGIN:VEVENT
DTSTART;TZID=Europe/Helsinki:20230426T083000
DTEND;TZID=Europe/Helsinki:20230426T173000
DTSTAMP:20260424T055535
CREATED:20230227T084459Z
LAST-MODIFIED:20230227T084459Z
UID:1146-1682497800-1682530200@www.silpa.org
SUMMARY:Corso Base Spazi Confinati - 1°Giorno
DESCRIPTION:16 ore \nRICHIEDI INFO
URL:https://www.silpa.org/corso/corso-base-spazi-confinati-aprile-2023-3/
LOCATION:Centro Addestramento Vimodrone\, Largo F.lli Cervi\, 8\, Vimodrone\, MI\, 20900\, Italia
ATTACH;FMTTYPE=image/jpeg:https://www.silpa.org/wp-content/uploads/2022/06/Silpa-Aggiornamento-Livello3.jpg
END:VEVENT
BEGIN:VEVENT
DTSTART;TZID=Europe/Helsinki:20230426T083000
DTEND;TZID=Europe/Helsinki:20230426T173000
DTSTAMP:20260424T055535
CREATED:20230227T084459Z
LAST-MODIFIED:20230227T084459Z
UID:1284-1682497800-1682530200@www.silpa.org
SUMMARY:Corso Base Spazi Confinati - 1°Giorno
DESCRIPTION:16 ore \nRICHIEDI INFO
URL:https://www.silpa.org/corso/corso-base-spazi-confinati-aprile-2023-4/
LOCATION:Centro Addestramento Vimodrone\, Largo F.lli Cervi\, 8\, Vimodrone\, MI\, 20900\, Italia
ATTACH;FMTTYPE=image/jpeg:https://www.silpa.org/wp-content/uploads/2022/06/Silpa-Aggiornamento-Livello3.jpg
END:VEVENT
BEGIN:VEVENT
DTSTART;TZID=Europe/Helsinki:20230426T083000
DTEND;TZID=Europe/Helsinki:20230426T173000
DTSTAMP:20260424T055535
CREATED:20230227T084314Z
LAST-MODIFIED:20230227T085142Z
UID:830-1682497800-1682530200@www.silpa.org
SUMMARY:Corso Base di Primo Soccorso per Aziende di Gruppo A - 2°Giorno
DESCRIPTION:16 ore \nRICHIEDI INFO
URL:https://www.silpa.org/corso/corso-base-di-primo-soccorso-per-aziende-di-gruppo-a-aprile-2023-2/
LOCATION:Centro Addestramento Vimodrone\, Largo F.lli Cervi\, 8\, Vimodrone\, MI\, 20900\, Italia
ATTACH;FMTTYPE=image/jpeg:https://www.silpa.org/wp-content/uploads/2022/11/cpr-training.jpg
END:VEVENT
BEGIN:VEVENT
DTSTART;TZID=Europe/Helsinki:20230426T083000
DTEND;TZID=Europe/Helsinki:20230426T173000
DTSTAMP:20260424T055535
CREATED:20230227T084314Z
LAST-MODIFIED:20230227T084314Z
UID:1144-1682497800-1682530200@www.silpa.org
SUMMARY:Corso Base di Primo Soccorso per Aziende di Gruppo A - 2°Giorno
DESCRIPTION:16 ore \nRICHIEDI INFO
URL:https://www.silpa.org/corso/corso-base-di-primo-soccorso-per-aziende-di-gruppo-a-aprile-2023-2-2/
LOCATION:Centro Addestramento Vimodrone\, Largo F.lli Cervi\, 8\, Vimodrone\, MI\, 20900\, Italia
ATTACH;FMTTYPE=image/jpeg:https://www.silpa.org/wp-content/uploads/2022/11/cpr-training.jpg
END:VEVENT
BEGIN:VEVENT
DTSTART;TZID=Europe/Helsinki:20230426T083000
DTEND;TZID=Europe/Helsinki:20230426T173000
DTSTAMP:20260424T055535
CREATED:20230227T084314Z
LAST-MODIFIED:20230227T084314Z
UID:1280-1682497800-1682530200@www.silpa.org
SUMMARY:Corso Base di Primo Soccorso per Aziende di Gruppo A - 2°Giorno
DESCRIPTION:16 ore \nRICHIEDI INFO
URL:https://www.silpa.org/corso/corso-base-di-primo-soccorso-per-aziende-di-gruppo-a-aprile-2023-2-3/
LOCATION:Centro Addestramento Vimodrone\, Largo F.lli Cervi\, 8\, Vimodrone\, MI\, 20900\, Italia
ATTACH;FMTTYPE=image/jpeg:https://www.silpa.org/wp-content/uploads/2022/11/cpr-training.jpg
END:VEVENT
BEGIN:VEVENT
DTSTART;TZID=Europe/Helsinki:20230421T083000
DTEND;TZID=Europe/Helsinki:20230421T123000
DTSTAMP:20260424T055535
CREATED:20230227T084141Z
LAST-MODIFIED:20230227T085133Z
UID:826-1682065800-1682080200@www.silpa.org
SUMMARY:Corso Aggiornamento Primo Soccorso per Aziende di Gruppo B e C
DESCRIPTION:4 ore \nRICHIEDI INFO
URL:https://www.silpa.org/corso/corso-aggiornamento-primo-soccorso-per-aziende-di-gruppo-b-e-c-aprile-2023/
LOCATION:Centro Addestramento Vimodrone\, Largo F.lli Cervi\, 8\, Vimodrone\, MI\, 20900\, Italia
ATTACH;FMTTYPE=image/jpeg:https://www.silpa.org/wp-content/uploads/2022/11/cpr-training.jpg
END:VEVENT
BEGIN:VEVENT
DTSTART;TZID=Europe/Helsinki:20230421T083000
DTEND;TZID=Europe/Helsinki:20230421T123000
DTSTAMP:20260424T055535
CREATED:20230227T084141Z
LAST-MODIFIED:20230227T084141Z
UID:1142-1682065800-1682080200@www.silpa.org
SUMMARY:Corso Aggiornamento Primo Soccorso per Aziende di Gruppo B e C
DESCRIPTION:4 ore \nRICHIEDI INFO
URL:https://www.silpa.org/corso/corso-aggiornamento-primo-soccorso-per-aziende-di-gruppo-b-e-c-aprile-2023-2/
LOCATION:Centro Addestramento Vimodrone\, Largo F.lli Cervi\, 8\, Vimodrone\, MI\, 20900\, Italia
ATTACH;FMTTYPE=image/jpeg:https://www.silpa.org/wp-content/uploads/2022/11/cpr-training.jpg
END:VEVENT
BEGIN:VEVENT
DTSTART;TZID=Europe/Helsinki:20230421T083000
DTEND;TZID=Europe/Helsinki:20230421T123000
DTSTAMP:20260424T055535
CREATED:20230227T084141Z
LAST-MODIFIED:20230227T084141Z
UID:1276-1682065800-1682080200@www.silpa.org
SUMMARY:Corso Aggiornamento Primo Soccorso per Aziende di Gruppo B e C
DESCRIPTION:4 ore \nRICHIEDI INFO
URL:https://www.silpa.org/corso/corso-aggiornamento-primo-soccorso-per-aziende-di-gruppo-b-e-c-aprile-2023-3/
LOCATION:Centro Addestramento Vimodrone\, Largo F.lli Cervi\, 8\, Vimodrone\, MI\, 20900\, Italia
ATTACH;FMTTYPE=image/jpeg:https://www.silpa.org/wp-content/uploads/2022/11/cpr-training.jpg
END:VEVENT
BEGIN:VEVENT
DTSTART;TZID=Europe/Helsinki:20230421T083000
DTEND;TZID=Europe/Helsinki:20230421T123000
DTSTAMP:20260424T055535
CREATED:20230227T084037Z
LAST-MODIFIED:20230227T085128Z
UID:824-1682065800-1682080200@www.silpa.org
SUMMARY:Corso Base Primo Soccorso per Aziende di Gruppo B e C - 2°Giorno
DESCRIPTION:12 ore \nRICHIEDI INFO
URL:https://www.silpa.org/corso/corso-base-primo-soccorso-per-aziende-di-gruppo-b-e-c-aprile-2023-2/
LOCATION:Centro Addestramento Vimodrone\, Largo F.lli Cervi\, 8\, Vimodrone\, MI\, 20900\, Italia
ATTACH;FMTTYPE=image/jpeg:https://www.silpa.org/wp-content/uploads/2022/11/cpr-training.jpg
END:VEVENT
BEGIN:VEVENT
DTSTART;TZID=Europe/Helsinki:20230421T083000
DTEND;TZID=Europe/Helsinki:20230421T123000
DTSTAMP:20260424T055535
CREATED:20230227T084037Z
LAST-MODIFIED:20230227T084037Z
UID:1141-1682065800-1682080200@www.silpa.org
SUMMARY:Corso Base Primo Soccorso per Aziende di Gruppo B e C - 2°Giorno
DESCRIPTION:12 ore \nRICHIEDI INFO
URL:https://www.silpa.org/corso/corso-base-primo-soccorso-per-aziende-di-gruppo-b-e-c-aprile-2023-2-2/
LOCATION:Centro Addestramento Vimodrone\, Largo F.lli Cervi\, 8\, Vimodrone\, MI\, 20900\, Italia
ATTACH;FMTTYPE=image/jpeg:https://www.silpa.org/wp-content/uploads/2022/11/cpr-training.jpg
END:VEVENT
BEGIN:VEVENT
DTSTART;TZID=Europe/Helsinki:20230421T083000
DTEND;TZID=Europe/Helsinki:20230421T123000
DTSTAMP:20260424T055535
CREATED:20230227T084037Z
LAST-MODIFIED:20230227T084037Z
UID:1275-1682065800-1682080200@www.silpa.org
SUMMARY:Corso Base Primo Soccorso per Aziende di Gruppo B e C - 2°Giorno
DESCRIPTION:12 ore \nRICHIEDI INFO
URL:https://www.silpa.org/corso/corso-base-primo-soccorso-per-aziende-di-gruppo-b-e-c-aprile-2023-2-3/
LOCATION:Centro Addestramento Vimodrone\, Largo F.lli Cervi\, 8\, Vimodrone\, MI\, 20900\, Italia
ATTACH;FMTTYPE=image/jpeg:https://www.silpa.org/wp-content/uploads/2022/11/cpr-training.jpg
END:VEVENT
BEGIN:VEVENT
DTSTART;TZID=Europe/Paris:20230421T083000
DTEND;TZID=Europe/Paris:20230421T123000
DTSTAMP:20260424T055535
CREATED:20230227T083845Z
LAST-MODIFIED:20230227T112829Z
UID:820-1682065800-1682080200@www.silpa.org
SUMMARY:Corso Antincendio Livello I
DESCRIPTION:4 ore \n\nRICHIEDI INFO
URL:https://www.silpa.org/corso/corso-antincendio-livello-i-aprile-2023/
LOCATION:Centro Addestramento Vimodrone\, Largo F.lli Cervi\, 8\, Vimodrone\, MI\, 20900\, Italia
ATTACH;FMTTYPE=image/jpeg:https://www.silpa.org/wp-content/uploads/2022/06/Silpa-Livello3.jpg
END:VEVENT
BEGIN:VEVENT
DTSTART;TZID=Europe/Paris:20230421T083000
DTEND;TZID=Europe/Paris:20230421T123000
DTSTAMP:20260424T055535
CREATED:20230227T083845Z
LAST-MODIFIED:20230227T083845Z
UID:1139-1682065800-1682080200@www.silpa.org
SUMMARY:Corso Antincendio Livello I
DESCRIPTION:4 ore \n\nRICHIEDI INFO
URL:https://www.silpa.org/corso/corso-antincendio-livello-i-aprile-2023-2/
LOCATION:Centro Addestramento Vimodrone\, Largo F.lli Cervi\, 8\, Vimodrone\, MI\, 20900\, Italia
ATTACH;FMTTYPE=image/jpeg:https://www.silpa.org/wp-content/uploads/2022/06/Silpa-Livello3.jpg
END:VEVENT
END:VCALENDAR