BEGIN:VCALENDAR
VERSION:2.0
PRODID:-//Silpa S.r.l. - ECPv6.15.16.1//NONSGML v1.0//EN
CALSCALE:GREGORIAN
METHOD:PUBLISH
X-ORIGINAL-URL:https://www.silpa.org
X-WR-CALDESC:Eventi per Silpa S.r.l.
REFRESH-INTERVAL;VALUE=DURATION:PT1H
X-Robots-Tag:noindex
X-PUBLISHED-TTL:PT1H
BEGIN:VTIMEZONE
TZID:Europe/Helsinki
BEGIN:DAYLIGHT
TZOFFSETFROM:+0200
TZOFFSETTO:+0300
TZNAME:EEST
DTSTART:20220327T010000
END:DAYLIGHT
BEGIN:STANDARD
TZOFFSETFROM:+0300
TZOFFSETTO:+0200
TZNAME:EET
DTSTART:20221030T010000
END:STANDARD
BEGIN:DAYLIGHT
TZOFFSETFROM:+0200
TZOFFSETTO:+0300
TZNAME:EEST
DTSTART:20230326T010000
END:DAYLIGHT
BEGIN:STANDARD
TZOFFSETFROM:+0300
TZOFFSETTO:+0200
TZNAME:EET
DTSTART:20231029T010000
END:STANDARD
BEGIN:DAYLIGHT
TZOFFSETFROM:+0200
TZOFFSETTO:+0300
TZNAME:EEST
DTSTART:20240331T010000
END:DAYLIGHT
BEGIN:STANDARD
TZOFFSETFROM:+0300
TZOFFSETTO:+0200
TZNAME:EET
DTSTART:20241027T010000
END:STANDARD
END:VTIMEZONE
BEGIN:VTIMEZONE
TZID:Europe/Paris
BEGIN:DAYLIGHT
TZOFFSETFROM:+0100
TZOFFSETTO:+0200
TZNAME:CEST
DTSTART:20220327T010000
END:DAYLIGHT
BEGIN:STANDARD
TZOFFSETFROM:+0200
TZOFFSETTO:+0100
TZNAME:CET
DTSTART:20221030T010000
END:STANDARD
BEGIN:DAYLIGHT
TZOFFSETFROM:+0100
TZOFFSETTO:+0200
TZNAME:CEST
DTSTART:20230326T010000
END:DAYLIGHT
BEGIN:STANDARD
TZOFFSETFROM:+0200
TZOFFSETTO:+0100
TZNAME:CET
DTSTART:20231029T010000
END:STANDARD
BEGIN:DAYLIGHT
TZOFFSETFROM:+0100
TZOFFSETTO:+0200
TZNAME:CEST
DTSTART:20240331T010000
END:DAYLIGHT
BEGIN:STANDARD
TZOFFSETFROM:+0200
TZOFFSETTO:+0100
TZNAME:CET
DTSTART:20241027T010000
END:STANDARD
END:VTIMEZONE
BEGIN:VEVENT
DTSTART;TZID=Europe/Helsinki:20230329T083000
DTEND;TZID=Europe/Helsinki:20230329T173000
DTSTAMP:20260424T123234
CREATED:20230110T142127Z
LAST-MODIFIED:20230110T142127Z
UID:1256-1680078600-1680111000@www.silpa.org
SUMMARY:Corso Aggiornamento Spazi Confinati - Teoria
DESCRIPTION:8 ore \nRICHIEDI INFO
URL:https://www.silpa.org/corso/corso-aggiornamento-spazi-confinati-teoria-marzo-2023-3/
LOCATION:Centro Addestramento Vimodrone\, Largo F.lli Cervi\, 8\, Vimodrone\, MI\, 20900\, Italia
ATTACH;FMTTYPE=image/jpeg:https://www.silpa.org/wp-content/uploads/2022/06/Silpa-Aggiornamento-Livello3.jpg
END:VEVENT
BEGIN:VEVENT
DTSTART;TZID=Europe/Helsinki:20230329T083000
DTEND;TZID=Europe/Helsinki:20230329T173000
DTSTAMP:20260424T123234
CREATED:20230110T141947Z
LAST-MODIFIED:20230227T085032Z
UID:779-1680078600-1680111000@www.silpa.org
SUMMARY:Corso Base Spazi Confinati - 1°Giorno
DESCRIPTION:16 ore \nRICHIEDI INFO
URL:https://www.silpa.org/corso/corso-base-spazi-confinati-marzo-2023/
LOCATION:Centro Addestramento Vimodrone\, Largo F.lli Cervi\, 8\, Vimodrone\, MI\, 20900\, Italia
ATTACH;FMTTYPE=image/jpeg:https://www.silpa.org/wp-content/uploads/2022/06/Silpa-Aggiornamento-Livello3.jpg
END:VEVENT
BEGIN:VEVENT
DTSTART;TZID=Europe/Helsinki:20230329T083000
DTEND;TZID=Europe/Helsinki:20230329T173000
DTSTAMP:20260424T123234
CREATED:20230110T141947Z
LAST-MODIFIED:20230110T141947Z
UID:1129-1680078600-1680111000@www.silpa.org
SUMMARY:Corso Base Spazi Confinati - 1°Giorno
DESCRIPTION:16 ore \nRICHIEDI INFO
URL:https://www.silpa.org/corso/corso-base-spazi-confinati-marzo-2023-3/
LOCATION:Centro Addestramento Vimodrone\, Largo F.lli Cervi\, 8\, Vimodrone\, MI\, 20900\, Italia
ATTACH;FMTTYPE=image/jpeg:https://www.silpa.org/wp-content/uploads/2022/06/Silpa-Aggiornamento-Livello3.jpg
END:VEVENT
BEGIN:VEVENT
DTSTART;TZID=Europe/Helsinki:20230329T083000
DTEND;TZID=Europe/Helsinki:20230329T173000
DTSTAMP:20260424T123234
CREATED:20230110T141947Z
LAST-MODIFIED:20230110T141947Z
UID:1253-1680078600-1680111000@www.silpa.org
SUMMARY:Corso Base Spazi Confinati - 1°Giorno
DESCRIPTION:16 ore \nRICHIEDI INFO
URL:https://www.silpa.org/corso/corso-base-spazi-confinati-marzo-2023-4/
LOCATION:Centro Addestramento Vimodrone\, Largo F.lli Cervi\, 8\, Vimodrone\, MI\, 20900\, Italia
ATTACH;FMTTYPE=image/jpeg:https://www.silpa.org/wp-content/uploads/2022/06/Silpa-Aggiornamento-Livello3.jpg
END:VEVENT
BEGIN:VEVENT
DTSTART;TZID=Europe/Helsinki:20230324T103000
DTEND;TZID=Europe/Helsinki:20230324T173000
DTSTAMP:20260424T123234
CREATED:20230110T141847Z
LAST-MODIFIED:20230227T084936Z
UID:777-1679653800-1679679000@www.silpa.org
SUMMARY:Corso Aggiornamento Primo Soccorso per Aziende di Gruppo A
DESCRIPTION:6 ore \nRICHIEDI INFO
URL:https://www.silpa.org/corso/corso-aggiornamento-primo-soccorso-per-aziende-di-gruppo-a-marzo-2023/
LOCATION:Centro Addestramento Vimodrone\, Largo F.lli Cervi\, 8\, Vimodrone\, MI\, 20900\, Italia
ATTACH;FMTTYPE=image/jpeg:https://www.silpa.org/wp-content/uploads/2022/11/cpr-training.jpg
END:VEVENT
BEGIN:VEVENT
DTSTART;TZID=Europe/Helsinki:20230324T103000
DTEND;TZID=Europe/Helsinki:20230324T173000
DTSTAMP:20260424T123234
CREATED:20230110T141847Z
LAST-MODIFIED:20230110T141847Z
UID:1128-1679653800-1679679000@www.silpa.org
SUMMARY:Corso Aggiornamento Primo Soccorso per Aziende di Gruppo A
DESCRIPTION:6 ore \nRICHIEDI INFO
URL:https://www.silpa.org/corso/corso-aggiornamento-primo-soccorso-per-aziende-di-gruppo-a-marzo-2023-2/
LOCATION:Centro Addestramento Vimodrone\, Largo F.lli Cervi\, 8\, Vimodrone\, MI\, 20900\, Italia
ATTACH;FMTTYPE=image/jpeg:https://www.silpa.org/wp-content/uploads/2022/11/cpr-training.jpg
END:VEVENT
BEGIN:VEVENT
DTSTART;TZID=Europe/Helsinki:20230324T103000
DTEND;TZID=Europe/Helsinki:20230324T173000
DTSTAMP:20260424T123234
CREATED:20230110T141847Z
LAST-MODIFIED:20230110T141847Z
UID:1251-1679653800-1679679000@www.silpa.org
SUMMARY:Corso Aggiornamento Primo Soccorso per Aziende di Gruppo A
DESCRIPTION:6 ore \nRICHIEDI INFO
URL:https://www.silpa.org/corso/corso-aggiornamento-primo-soccorso-per-aziende-di-gruppo-a-marzo-2023-3/
LOCATION:Centro Addestramento Vimodrone\, Largo F.lli Cervi\, 8\, Vimodrone\, MI\, 20900\, Italia
ATTACH;FMTTYPE=image/jpeg:https://www.silpa.org/wp-content/uploads/2022/11/cpr-training.jpg
END:VEVENT
BEGIN:VEVENT
DTSTART;TZID=Europe/Helsinki:20230324T083000
DTEND;TZID=Europe/Helsinki:20230324T123000
DTSTAMP:20260424T123234
CREATED:20230110T141604Z
LAST-MODIFIED:20230227T084932Z
UID:771-1679646600-1679661000@www.silpa.org
SUMMARY:Corso Aggiornamento Primo Soccorso per Aziende di Gruppo B e C
DESCRIPTION:4 ore \nRICHIEDI INFO
URL:https://www.silpa.org/corso/corso-aggiornamento-primo-soccorso-per-aziende-di-gruppo-b-c-marzo-2023/
LOCATION:Centro Addestramento Vimodrone\, Largo F.lli Cervi\, 8\, Vimodrone\, MI\, 20900\, Italia
ATTACH;FMTTYPE=image/jpeg:https://www.silpa.org/wp-content/uploads/2022/11/cpr-training.jpg
END:VEVENT
BEGIN:VEVENT
DTSTART;TZID=Europe/Helsinki:20230324T083000
DTEND;TZID=Europe/Helsinki:20230324T123000
DTSTAMP:20260424T123234
CREATED:20230110T141604Z
LAST-MODIFIED:20230110T141604Z
UID:1125-1679646600-1679661000@www.silpa.org
SUMMARY:Corso Aggiornamento Primo Soccorso per Aziende di Gruppo B e C
DESCRIPTION:4 ore \nRICHIEDI INFO
URL:https://www.silpa.org/corso/corso-aggiornamento-primo-soccorso-per-aziende-di-gruppo-b-c-marzo-2023-2/
LOCATION:Centro Addestramento Vimodrone\, Largo F.lli Cervi\, 8\, Vimodrone\, MI\, 20900\, Italia
ATTACH;FMTTYPE=image/jpeg:https://www.silpa.org/wp-content/uploads/2022/11/cpr-training.jpg
END:VEVENT
BEGIN:VEVENT
DTSTART;TZID=Europe/Helsinki:20230324T083000
DTEND;TZID=Europe/Helsinki:20230324T123000
DTSTAMP:20260424T123234
CREATED:20230110T141604Z
LAST-MODIFIED:20230110T141604Z
UID:1246-1679646600-1679661000@www.silpa.org
SUMMARY:Corso Aggiornamento Primo Soccorso per Aziende di Gruppo B e C
DESCRIPTION:4 ore \nRICHIEDI INFO
URL:https://www.silpa.org/corso/corso-aggiornamento-primo-soccorso-per-aziende-di-gruppo-b-c-marzo-2023-3/
LOCATION:Centro Addestramento Vimodrone\, Largo F.lli Cervi\, 8\, Vimodrone\, MI\, 20900\, Italia
ATTACH;FMTTYPE=image/jpeg:https://www.silpa.org/wp-content/uploads/2022/11/cpr-training.jpg
END:VEVENT
BEGIN:VEVENT
DTSTART;TZID=Europe/Helsinki:20230324T083000
DTEND;TZID=Europe/Helsinki:20230324T123000
DTSTAMP:20260424T123234
CREATED:20230110T130047Z
LAST-MODIFIED:20230227T084928Z
UID:769-1679646600-1679661000@www.silpa.org
SUMMARY:Corso Base Primo Soccorso per Aziende di Gruppo B e C - 2°Giorno
DESCRIPTION:12 ore \nRICHIEDI INFO
URL:https://www.silpa.org/corso/corso-base-primo-soccorso-per-aziende-di-gruppo-b-c-marzo-2023-2/
LOCATION:Centro Addestramento Vimodrone\, Largo F.lli Cervi\, 8\, Vimodrone\, MI\, 20900\, Italia
ATTACH;FMTTYPE=image/jpeg:https://www.silpa.org/wp-content/uploads/2022/11/cpr-training.jpg
END:VEVENT
BEGIN:VEVENT
DTSTART;TZID=Europe/Helsinki:20230324T083000
DTEND;TZID=Europe/Helsinki:20230324T123000
DTSTAMP:20260424T123234
CREATED:20230110T130047Z
LAST-MODIFIED:20230110T130047Z
UID:1124-1679646600-1679661000@www.silpa.org
SUMMARY:Corso Base Primo Soccorso per Aziende di Gruppo B e C - 2°Giorno
DESCRIPTION:12 ore \nRICHIEDI INFO
URL:https://www.silpa.org/corso/corso-base-primo-soccorso-per-aziende-di-gruppo-b-c-marzo-2023-2-2/
LOCATION:Centro Addestramento Vimodrone\, Largo F.lli Cervi\, 8\, Vimodrone\, MI\, 20900\, Italia
ATTACH;FMTTYPE=image/jpeg:https://www.silpa.org/wp-content/uploads/2022/11/cpr-training.jpg
END:VEVENT
BEGIN:VEVENT
DTSTART;TZID=Europe/Helsinki:20230324T083000
DTEND;TZID=Europe/Helsinki:20230324T123000
DTSTAMP:20260424T123234
CREATED:20230110T130047Z
LAST-MODIFIED:20230110T130047Z
UID:1244-1679646600-1679661000@www.silpa.org
SUMMARY:Corso Base Primo Soccorso per Aziende di Gruppo B e C - 2°Giorno
DESCRIPTION:12 ore \nRICHIEDI INFO
URL:https://www.silpa.org/corso/corso-base-primo-soccorso-per-aziende-di-gruppo-b-c-marzo-2023-2-3/
LOCATION:Centro Addestramento Vimodrone\, Largo F.lli Cervi\, 8\, Vimodrone\, MI\, 20900\, Italia
ATTACH;FMTTYPE=image/jpeg:https://www.silpa.org/wp-content/uploads/2022/11/cpr-training.jpg
END:VEVENT
BEGIN:VEVENT
DTSTART;TZID=Europe/Helsinki:20230323T083000
DTEND;TZID=Europe/Helsinki:20230323T173000
DTSTAMP:20260424T123234
CREATED:20230110T141749Z
LAST-MODIFIED:20230227T084924Z
UID:775-1679560200-1679592600@www.silpa.org
SUMMARY:Corso Base di Primo Soccorso per Aziende di Gruppo A - 2°Giorno
DESCRIPTION:16 ore \nRICHIEDI INFO
URL:https://www.silpa.org/corso/corso-base-di-primo-soccorso-per-aziende-di-gruppo-a-marzo-2023-2/
LOCATION:Centro Addestramento Vimodrone\, Largo F.lli Cervi\, 8\, Vimodrone\, MI\, 20900\, Italia
ATTACH;FMTTYPE=image/jpeg:https://www.silpa.org/wp-content/uploads/2022/11/cpr-training.jpg
END:VEVENT
BEGIN:VEVENT
DTSTART;TZID=Europe/Helsinki:20230323T083000
DTEND;TZID=Europe/Helsinki:20230323T173000
DTSTAMP:20260424T123234
CREATED:20230110T141749Z
LAST-MODIFIED:20230110T141749Z
UID:1127-1679560200-1679592600@www.silpa.org
SUMMARY:Corso Base di Primo Soccorso per Aziende di Gruppo A - 2°Giorno
DESCRIPTION:16 ore \nRICHIEDI INFO
URL:https://www.silpa.org/corso/corso-base-di-primo-soccorso-per-aziende-di-gruppo-a-marzo-2023-2-2/
LOCATION:Centro Addestramento Vimodrone\, Largo F.lli Cervi\, 8\, Vimodrone\, MI\, 20900\, Italia
ATTACH;FMTTYPE=image/jpeg:https://www.silpa.org/wp-content/uploads/2022/11/cpr-training.jpg
END:VEVENT
BEGIN:VEVENT
DTSTART;TZID=Europe/Helsinki:20230323T083000
DTEND;TZID=Europe/Helsinki:20230323T173000
DTSTAMP:20260424T123234
CREATED:20230110T141749Z
LAST-MODIFIED:20230110T141749Z
UID:1249-1679560200-1679592600@www.silpa.org
SUMMARY:Corso Base di Primo Soccorso per Aziende di Gruppo A - 2°Giorno
DESCRIPTION:16 ore \nRICHIEDI INFO
URL:https://www.silpa.org/corso/corso-base-di-primo-soccorso-per-aziende-di-gruppo-a-marzo-2023-2-3/
LOCATION:Centro Addestramento Vimodrone\, Largo F.lli Cervi\, 8\, Vimodrone\, MI\, 20900\, Italia
ATTACH;FMTTYPE=image/jpeg:https://www.silpa.org/wp-content/uploads/2022/11/cpr-training.jpg
END:VEVENT
BEGIN:VEVENT
DTSTART;TZID=Europe/Helsinki:20230323T083000
DTEND;TZID=Europe/Helsinki:20230323T173000
DTSTAMP:20260424T123234
CREATED:20230110T124442Z
LAST-MODIFIED:20230227T084920Z
UID:756-1679560200-1679592600@www.silpa.org
SUMMARY:Corso Antincendio Aggiornamento Livello III
DESCRIPTION:8 ore \nRICHIEDI INFO
URL:https://www.silpa.org/corso/corso-antincendio-aggiornamento-livello-3-marzo-2023/
LOCATION:Centro Addestramento Vimodrone\, Largo F.lli Cervi\, 8\, Vimodrone\, MI\, 20900\, Italia
ATTACH;FMTTYPE=image/jpeg:https://www.silpa.org/wp-content/uploads/2022/06/Silpa-Aggiornamento-Livello3.jpg
END:VEVENT
BEGIN:VEVENT
DTSTART;TZID=Europe/Helsinki:20230323T083000
DTEND;TZID=Europe/Helsinki:20230323T173000
DTSTAMP:20260424T123234
CREATED:20230110T124442Z
LAST-MODIFIED:20230110T124442Z
UID:1119-1679560200-1679592600@www.silpa.org
SUMMARY:Corso Antincendio Aggiornamento Livello III
DESCRIPTION:8 ore \nRICHIEDI INFO
URL:https://www.silpa.org/corso/corso-antincendio-aggiornamento-livello-3-marzo-2023-2/
LOCATION:Centro Addestramento Vimodrone\, Largo F.lli Cervi\, 8\, Vimodrone\, MI\, 20900\, Italia
ATTACH;FMTTYPE=image/jpeg:https://www.silpa.org/wp-content/uploads/2022/06/Silpa-Aggiornamento-Livello3.jpg
END:VEVENT
BEGIN:VEVENT
DTSTART;TZID=Europe/Helsinki:20230323T083000
DTEND;TZID=Europe/Helsinki:20230323T173000
DTSTAMP:20260424T123234
CREATED:20230110T124442Z
LAST-MODIFIED:20230110T124442Z
UID:1235-1679560200-1679592600@www.silpa.org
SUMMARY:Corso Antincendio Aggiornamento Livello III
DESCRIPTION:8 ore \nRICHIEDI INFO
URL:https://www.silpa.org/corso/corso-antincendio-aggiornamento-livello-3-marzo-2023-3/
LOCATION:Centro Addestramento Vimodrone\, Largo F.lli Cervi\, 8\, Vimodrone\, MI\, 20900\, Italia
ATTACH;FMTTYPE=image/jpeg:https://www.silpa.org/wp-content/uploads/2022/06/Silpa-Aggiornamento-Livello3.jpg
END:VEVENT
BEGIN:VEVENT
DTSTART;TZID=Europe/Helsinki:20230322T083000
DTEND;TZID=Europe/Helsinki:20230322T173000
DTSTAMP:20260424T123234
CREATED:20230110T141701Z
LAST-MODIFIED:20230227T084915Z
UID:773-1679473800-1679506200@www.silpa.org
SUMMARY:Corso Base di Primo Soccorso per Aziende di Gruppo A - 1°Giorno
DESCRIPTION:16 ore \nRICHIEDI INFO
URL:https://www.silpa.org/corso/corso-base-di-primo-soccorso-per-aziende-di-gruppo-a-marzo-2023/
LOCATION:Centro Addestramento Vimodrone\, Largo F.lli Cervi\, 8\, Vimodrone\, MI\, 20900\, Italia
ATTACH;FMTTYPE=image/jpeg:https://www.silpa.org/wp-content/uploads/2022/11/cpr-training.jpg
END:VEVENT
BEGIN:VEVENT
DTSTART;TZID=Europe/Helsinki:20230322T083000
DTEND;TZID=Europe/Helsinki:20230322T173000
DTSTAMP:20260424T123234
CREATED:20230110T141701Z
LAST-MODIFIED:20230110T141701Z
UID:1126-1679473800-1679506200@www.silpa.org
SUMMARY:Corso Base di Primo Soccorso per Aziende di Gruppo A - 1°Giorno
DESCRIPTION:16 ore \nRICHIEDI INFO
URL:https://www.silpa.org/corso/corso-base-di-primo-soccorso-per-aziende-di-gruppo-a-marzo-2023-3/
LOCATION:Centro Addestramento Vimodrone\, Largo F.lli Cervi\, 8\, Vimodrone\, MI\, 20900\, Italia
ATTACH;FMTTYPE=image/jpeg:https://www.silpa.org/wp-content/uploads/2022/11/cpr-training.jpg
END:VEVENT
BEGIN:VEVENT
DTSTART;TZID=Europe/Helsinki:20230322T083000
DTEND;TZID=Europe/Helsinki:20230322T173000
DTSTAMP:20260424T123234
CREATED:20230110T141701Z
LAST-MODIFIED:20230110T141701Z
UID:1247-1679473800-1679506200@www.silpa.org
SUMMARY:Corso Base di Primo Soccorso per Aziende di Gruppo A - 1°Giorno
DESCRIPTION:16 ore \nRICHIEDI INFO
URL:https://www.silpa.org/corso/corso-base-di-primo-soccorso-per-aziende-di-gruppo-a-marzo-2023-4/
LOCATION:Centro Addestramento Vimodrone\, Largo F.lli Cervi\, 8\, Vimodrone\, MI\, 20900\, Italia
ATTACH;FMTTYPE=image/jpeg:https://www.silpa.org/wp-content/uploads/2022/11/cpr-training.jpg
END:VEVENT
BEGIN:VEVENT
DTSTART;TZID=Europe/Helsinki:20230322T083000
DTEND;TZID=Europe/Helsinki:20230322T173000
DTSTAMP:20260424T123234
CREATED:20230110T125953Z
LAST-MODIFIED:20230227T084911Z
UID:767-1679473800-1679506200@www.silpa.org
SUMMARY:Corso Base Primo Soccorso per Aziende di Gruppo B e C - 1°Giorno
DESCRIPTION:12 ore \nRICHIEDI INFO
URL:https://www.silpa.org/corso/corso-base-primo-soccorso-per-aziende-di-gruppo-b-c-marzo-2023/
LOCATION:Centro Addestramento Vimodrone\, Largo F.lli Cervi\, 8\, Vimodrone\, MI\, 20900\, Italia
ATTACH;FMTTYPE=image/jpeg:https://www.silpa.org/wp-content/uploads/2022/11/cpr-training.jpg
END:VEVENT
BEGIN:VEVENT
DTSTART;TZID=Europe/Helsinki:20230322T083000
DTEND;TZID=Europe/Helsinki:20230322T173000
DTSTAMP:20260424T123234
CREATED:20230110T125953Z
LAST-MODIFIED:20230110T125953Z
UID:1123-1679473800-1679506200@www.silpa.org
SUMMARY:Corso Base Primo Soccorso per Aziende di Gruppo B e C - 1°Giorno
DESCRIPTION:12 ore \nRICHIEDI INFO
URL:https://www.silpa.org/corso/corso-base-primo-soccorso-per-aziende-di-gruppo-b-c-marzo-2023-3/
LOCATION:Centro Addestramento Vimodrone\, Largo F.lli Cervi\, 8\, Vimodrone\, MI\, 20900\, Italia
ATTACH;FMTTYPE=image/jpeg:https://www.silpa.org/wp-content/uploads/2022/11/cpr-training.jpg
END:VEVENT
BEGIN:VEVENT
DTSTART;TZID=Europe/Helsinki:20230322T083000
DTEND;TZID=Europe/Helsinki:20230322T173000
DTSTAMP:20260424T123234
CREATED:20230110T125953Z
LAST-MODIFIED:20230110T125953Z
UID:1242-1679473800-1679506200@www.silpa.org
SUMMARY:Corso Base Primo Soccorso per Aziende di Gruppo B e C - 1°Giorno
DESCRIPTION:12 ore \nRICHIEDI INFO
URL:https://www.silpa.org/corso/corso-base-primo-soccorso-per-aziende-di-gruppo-b-c-marzo-2023-4/
LOCATION:Centro Addestramento Vimodrone\, Largo F.lli Cervi\, 8\, Vimodrone\, MI\, 20900\, Italia
ATTACH;FMTTYPE=image/jpeg:https://www.silpa.org/wp-content/uploads/2022/11/cpr-training.jpg
END:VEVENT
BEGIN:VEVENT
DTSTART;TZID=Europe/Paris:20230314T083000
DTEND;TZID=Europe/Paris:20230314T173000
DTSTAMP:20260424T123234
CREATED:20230110T124033Z
LAST-MODIFIED:20230227T084907Z
UID:753-1678782600-1678815000@www.silpa.org
SUMMARY:Corso Antincendio Livello III - 2°Giorno
DESCRIPTION:16 ore \n\nRICHIEDI INFO
URL:https://www.silpa.org/corso/corso-antincendio-livello-3-marzo-2023-2/
LOCATION:Centro Addestramento Vimodrone\, Largo F.lli Cervi\, 8\, Vimodrone\, MI\, 20900\, Italia
ATTACH;FMTTYPE=image/jpeg:https://www.silpa.org/wp-content/uploads/2022/06/Silpa-Livello3.jpg
END:VEVENT
BEGIN:VEVENT
DTSTART;TZID=Europe/Paris:20230314T083000
DTEND;TZID=Europe/Paris:20230314T173000
DTSTAMP:20260424T123234
CREATED:20230110T124033Z
LAST-MODIFIED:20230110T124033Z
UID:1118-1678782600-1678815000@www.silpa.org
SUMMARY:Corso Antincendio Livello III - 2°Giorno
DESCRIPTION:16 ore \n\nRICHIEDI INFO
URL:https://www.silpa.org/corso/corso-antincendio-livello-3-marzo-2023-2-2/
LOCATION:Centro Addestramento Vimodrone\, Largo F.lli Cervi\, 8\, Vimodrone\, MI\, 20900\, Italia
ATTACH;FMTTYPE=image/jpeg:https://www.silpa.org/wp-content/uploads/2022/06/Silpa-Livello3.jpg
END:VEVENT
BEGIN:VEVENT
DTSTART;TZID=Europe/Paris:20230314T083000
DTEND;TZID=Europe/Paris:20230314T173000
DTSTAMP:20260424T123234
CREATED:20230110T124033Z
LAST-MODIFIED:20230110T124033Z
UID:1233-1678782600-1678815000@www.silpa.org
SUMMARY:Corso Antincendio Livello III - 2°Giorno
DESCRIPTION:16 ore \n\nRICHIEDI INFO
URL:https://www.silpa.org/corso/corso-antincendio-livello-3-marzo-2023-2-3/
LOCATION:Centro Addestramento Vimodrone\, Largo F.lli Cervi\, 8\, Vimodrone\, MI\, 20900\, Italia
ATTACH;FMTTYPE=image/jpeg:https://www.silpa.org/wp-content/uploads/2022/06/Silpa-Livello3.jpg
END:VEVENT
BEGIN:VEVENT
DTSTART;TZID=Europe/Paris:20230313T083000
DTEND;TZID=Europe/Paris:20230313T173000
DTSTAMP:20260424T123234
CREATED:20230110T123821Z
LAST-MODIFIED:20230227T084852Z
UID:751-1678696200-1678728600@www.silpa.org
SUMMARY:Corso Antincendio Livello III - 1°Giorno
DESCRIPTION:16 ore \n\nRICHIEDI INFO
URL:https://www.silpa.org/corso/corso-antincendio-livello-3-marzo-2023/
LOCATION:Centro Addestramento Vimodrone\, Largo F.lli Cervi\, 8\, Vimodrone\, MI\, 20900\, Italia
ATTACH;FMTTYPE=image/jpeg:https://www.silpa.org/wp-content/uploads/2022/06/Silpa-Livello3.jpg
END:VEVENT
BEGIN:VEVENT
DTSTART;TZID=Europe/Paris:20230313T083000
DTEND;TZID=Europe/Paris:20230313T173000
DTSTAMP:20260424T123234
CREATED:20230110T123821Z
LAST-MODIFIED:20230110T123821Z
UID:1117-1678696200-1678728600@www.silpa.org
SUMMARY:Corso Antincendio Livello III - 1°Giorno
DESCRIPTION:16 ore \n\nRICHIEDI INFO
URL:https://www.silpa.org/corso/corso-antincendio-livello-3-marzo-2023-3/
LOCATION:Centro Addestramento Vimodrone\, Largo F.lli Cervi\, 8\, Vimodrone\, MI\, 20900\, Italia
ATTACH;FMTTYPE=image/jpeg:https://www.silpa.org/wp-content/uploads/2022/06/Silpa-Livello3.jpg
END:VEVENT
END:VCALENDAR