BEGIN:VCALENDAR
VERSION:2.0
PRODID:-//Silpa S.r.l. - ECPv6.15.16.1//NONSGML v1.0//EN
CALSCALE:GREGORIAN
METHOD:PUBLISH
X-ORIGINAL-URL:https://www.silpa.org
X-WR-CALDESC:Eventi per Silpa S.r.l.
REFRESH-INTERVAL;VALUE=DURATION:PT1H
X-Robots-Tag:noindex
X-PUBLISHED-TTL:PT1H
BEGIN:VTIMEZONE
TZID:Europe/Helsinki
BEGIN:DAYLIGHT
TZOFFSETFROM:+0200
TZOFFSETTO:+0300
TZNAME:EEST
DTSTART:20220327T010000
END:DAYLIGHT
BEGIN:STANDARD
TZOFFSETFROM:+0300
TZOFFSETTO:+0200
TZNAME:EET
DTSTART:20221030T010000
END:STANDARD
BEGIN:DAYLIGHT
TZOFFSETFROM:+0200
TZOFFSETTO:+0300
TZNAME:EEST
DTSTART:20230326T010000
END:DAYLIGHT
BEGIN:STANDARD
TZOFFSETFROM:+0300
TZOFFSETTO:+0200
TZNAME:EET
DTSTART:20231029T010000
END:STANDARD
BEGIN:DAYLIGHT
TZOFFSETFROM:+0200
TZOFFSETTO:+0300
TZNAME:EEST
DTSTART:20240331T010000
END:DAYLIGHT
BEGIN:STANDARD
TZOFFSETFROM:+0300
TZOFFSETTO:+0200
TZNAME:EET
DTSTART:20241027T010000
END:STANDARD
END:VTIMEZONE
BEGIN:VTIMEZONE
TZID:Europe/Paris
BEGIN:DAYLIGHT
TZOFFSETFROM:+0100
TZOFFSETTO:+0200
TZNAME:CEST
DTSTART:20220327T010000
END:DAYLIGHT
BEGIN:STANDARD
TZOFFSETFROM:+0200
TZOFFSETTO:+0100
TZNAME:CET
DTSTART:20221030T010000
END:STANDARD
BEGIN:DAYLIGHT
TZOFFSETFROM:+0100
TZOFFSETTO:+0200
TZNAME:CEST
DTSTART:20230326T010000
END:DAYLIGHT
BEGIN:STANDARD
TZOFFSETFROM:+0200
TZOFFSETTO:+0100
TZNAME:CET
DTSTART:20231029T010000
END:STANDARD
BEGIN:DAYLIGHT
TZOFFSETFROM:+0100
TZOFFSETTO:+0200
TZNAME:CEST
DTSTART:20240331T010000
END:DAYLIGHT
BEGIN:STANDARD
TZOFFSETFROM:+0200
TZOFFSETTO:+0100
TZNAME:CET
DTSTART:20241027T010000
END:STANDARD
END:VTIMEZONE
BEGIN:VEVENT
DTSTART;TZID=Europe/Helsinki:20230222T083000
DTEND;TZID=Europe/Helsinki:20230222T173000
DTSTAMP:20260424T174707
CREATED:20230110T123634Z
LAST-MODIFIED:20230110T123634Z
UID:1229-1677054600-1677087000@www.silpa.org
SUMMARY:Corso Aggiornamento Spazi Confinati - Teoria
DESCRIPTION:8 ore
URL:https://www.silpa.org/corso/corso-aggiornamento-spazi-confinati-teoria-febbraio-2023-3/
LOCATION:Centro Addestramento Vimodrone\, Largo F.lli Cervi\, 8\, Vimodrone\, MI\, 20900\, Italia
ATTACH;FMTTYPE=image/jpeg:https://www.silpa.org/wp-content/uploads/2022/06/Silpa-Aggiornamento-Livello3.jpg
END:VEVENT
BEGIN:VEVENT
DTSTART;TZID=Europe/Helsinki:20230222T083000
DTEND;TZID=Europe/Helsinki:20230222T173000
DTSTAMP:20260424T174707
CREATED:20230110T123459Z
LAST-MODIFIED:20230110T123459Z
UID:744-1677054600-1677087000@www.silpa.org
SUMMARY:Corso Base Spazi Confinati
DESCRIPTION:16 ore
URL:https://www.silpa.org/corso/corso-base-spazi-confinati-febbraio-2023/
LOCATION:Centro Addestramento Vimodrone\, Largo F.lli Cervi\, 8\, Vimodrone\, MI\, 20900\, Italia
ATTACH;FMTTYPE=image/jpeg:https://www.silpa.org/wp-content/uploads/2022/06/Silpa-Aggiornamento-Livello3.jpg
END:VEVENT
BEGIN:VEVENT
DTSTART;TZID=Europe/Helsinki:20230222T083000
DTEND;TZID=Europe/Helsinki:20230222T173000
DTSTAMP:20260424T174707
CREATED:20230110T123459Z
LAST-MODIFIED:20230110T123459Z
UID:1114-1677054600-1677087000@www.silpa.org
SUMMARY:Corso Base Spazi Confinati
DESCRIPTION:16 ore
URL:https://www.silpa.org/corso/corso-base-spazi-confinati-febbraio-2023-3/
LOCATION:Centro Addestramento Vimodrone\, Largo F.lli Cervi\, 8\, Vimodrone\, MI\, 20900\, Italia
ATTACH;FMTTYPE=image/jpeg:https://www.silpa.org/wp-content/uploads/2022/06/Silpa-Aggiornamento-Livello3.jpg
END:VEVENT
BEGIN:VEVENT
DTSTART;TZID=Europe/Helsinki:20230222T083000
DTEND;TZID=Europe/Helsinki:20230222T173000
DTSTAMP:20260424T174707
CREATED:20230110T123459Z
LAST-MODIFIED:20230110T123459Z
UID:1226-1677054600-1677087000@www.silpa.org
SUMMARY:Corso Base Spazi Confinati
DESCRIPTION:16 ore
URL:https://www.silpa.org/corso/corso-base-spazi-confinati-febbraio-2023-4/
LOCATION:Centro Addestramento Vimodrone\, Largo F.lli Cervi\, 8\, Vimodrone\, MI\, 20900\, Italia
ATTACH;FMTTYPE=image/jpeg:https://www.silpa.org/wp-content/uploads/2022/06/Silpa-Aggiornamento-Livello3.jpg
END:VEVENT
BEGIN:VEVENT
DTSTART;TZID=Europe/Helsinki:20230220T103000
DTEND;TZID=Europe/Helsinki:20230220T173000
DTSTAMP:20260424T174707
CREATED:20230110T123408Z
LAST-MODIFIED:20230110T123408Z
UID:742-1676889000-1676914200@www.silpa.org
SUMMARY:Corso Aggiornamento Primo Soccorso per Aziende di Gruppo A
DESCRIPTION:6 ore
URL:https://www.silpa.org/corso/corso-aggiornamento-primo-soccorso-per-aziende-di-gruppo-a-febbraio-2023/
LOCATION:Centro Addestramento Vimodrone\, Largo F.lli Cervi\, 8\, Vimodrone\, MI\, 20900\, Italia
ATTACH;FMTTYPE=image/jpeg:https://www.silpa.org/wp-content/uploads/2022/11/cpr-training.jpg
END:VEVENT
BEGIN:VEVENT
DTSTART;TZID=Europe/Helsinki:20230220T103000
DTEND;TZID=Europe/Helsinki:20230220T173000
DTSTAMP:20260424T174707
CREATED:20230110T123408Z
LAST-MODIFIED:20230110T123408Z
UID:1113-1676889000-1676914200@www.silpa.org
SUMMARY:Corso Aggiornamento Primo Soccorso per Aziende di Gruppo A
DESCRIPTION:6 ore
URL:https://www.silpa.org/corso/corso-aggiornamento-primo-soccorso-per-aziende-di-gruppo-a-febbraio-2023-2/
LOCATION:Centro Addestramento Vimodrone\, Largo F.lli Cervi\, 8\, Vimodrone\, MI\, 20900\, Italia
ATTACH;FMTTYPE=image/jpeg:https://www.silpa.org/wp-content/uploads/2022/11/cpr-training.jpg
END:VEVENT
BEGIN:VEVENT
DTSTART;TZID=Europe/Helsinki:20230220T103000
DTEND;TZID=Europe/Helsinki:20230220T173000
DTSTAMP:20260424T174707
CREATED:20230110T123408Z
LAST-MODIFIED:20230110T123408Z
UID:1224-1676889000-1676914200@www.silpa.org
SUMMARY:Corso Aggiornamento Primo Soccorso per Aziende di Gruppo A
DESCRIPTION:6 ore
URL:https://www.silpa.org/corso/corso-aggiornamento-primo-soccorso-per-aziende-di-gruppo-a-febbraio-2023-3/
LOCATION:Centro Addestramento Vimodrone\, Largo F.lli Cervi\, 8\, Vimodrone\, MI\, 20900\, Italia
ATTACH;FMTTYPE=image/jpeg:https://www.silpa.org/wp-content/uploads/2022/11/cpr-training.jpg
END:VEVENT
BEGIN:VEVENT
DTSTART;TZID=Europe/Helsinki:20230220T083000
DTEND;TZID=Europe/Helsinki:20230220T173000
DTSTAMP:20260424T174707
CREATED:20230110T123245Z
LAST-MODIFIED:20230110T123245Z
UID:740-1676881800-1676914200@www.silpa.org
SUMMARY:Corso Base di Primo Soccorso per Aziende di Gruppo A
DESCRIPTION:16 ore
URL:https://www.silpa.org/corso/corso-base-di-primo-soccorso-per-aziende-di-gruppo-a-febbraio-2023-2/
LOCATION:Centro Addestramento Vimodrone\, Largo F.lli Cervi\, 8\, Vimodrone\, MI\, 20900\, Italia
ATTACH;FMTTYPE=image/jpeg:https://www.silpa.org/wp-content/uploads/2022/11/cpr-training.jpg
END:VEVENT
BEGIN:VEVENT
DTSTART;TZID=Europe/Helsinki:20230220T083000
DTEND;TZID=Europe/Helsinki:20230220T173000
DTSTAMP:20260424T174707
CREATED:20230110T123245Z
LAST-MODIFIED:20230110T123245Z
UID:1112-1676881800-1676914200@www.silpa.org
SUMMARY:Corso Base di Primo Soccorso per Aziende di Gruppo A
DESCRIPTION:16 ore
URL:https://www.silpa.org/corso/corso-base-di-primo-soccorso-per-aziende-di-gruppo-a-febbraio-2023-2-2/
LOCATION:Centro Addestramento Vimodrone\, Largo F.lli Cervi\, 8\, Vimodrone\, MI\, 20900\, Italia
ATTACH;FMTTYPE=image/jpeg:https://www.silpa.org/wp-content/uploads/2022/11/cpr-training.jpg
END:VEVENT
BEGIN:VEVENT
DTSTART;TZID=Europe/Helsinki:20230220T083000
DTEND;TZID=Europe/Helsinki:20230220T173000
DTSTAMP:20260424T174707
CREATED:20230110T123245Z
LAST-MODIFIED:20230110T123245Z
UID:1222-1676881800-1676914200@www.silpa.org
SUMMARY:Corso Base di Primo Soccorso per Aziende di Gruppo A
DESCRIPTION:16 ore
URL:https://www.silpa.org/corso/corso-base-di-primo-soccorso-per-aziende-di-gruppo-a-febbraio-2023-2-3/
LOCATION:Centro Addestramento Vimodrone\, Largo F.lli Cervi\, 8\, Vimodrone\, MI\, 20900\, Italia
ATTACH;FMTTYPE=image/jpeg:https://www.silpa.org/wp-content/uploads/2022/11/cpr-training.jpg
END:VEVENT
BEGIN:VEVENT
DTSTART;TZID=Europe/Helsinki:20230217T083000
DTEND;TZID=Europe/Helsinki:20230217T173000
DTSTAMP:20260424T174707
CREATED:20230110T125551Z
LAST-MODIFIED:20230110T125613Z
UID:763-1676622600-1676655000@www.silpa.org
SUMMARY:Corso Base Primo Soccorso per Aziende di Gruppo B e C
DESCRIPTION:16 ore
URL:https://www.silpa.org/corso/corso-base-primo-soccorso-per-aziende-di-gruppo-b-c-febbraio-2023-2/
LOCATION:Centro Addestramento Vimodrone\, Largo F.lli Cervi\, 8\, Vimodrone\, MI\, 20900\, Italia
ATTACH;FMTTYPE=image/jpeg:https://www.silpa.org/wp-content/uploads/2022/11/cpr-training.jpg
END:VEVENT
BEGIN:VEVENT
DTSTART;TZID=Europe/Helsinki:20230217T083000
DTEND;TZID=Europe/Helsinki:20230217T173000
DTSTAMP:20260424T174707
CREATED:20230110T125551Z
LAST-MODIFIED:20230110T125551Z
UID:1121-1676622600-1676655000@www.silpa.org
SUMMARY:Corso Base Primo Soccorso per Aziende di Gruppo B e C
DESCRIPTION:16 ore
URL:https://www.silpa.org/corso/corso-base-primo-soccorso-per-aziende-di-gruppo-b-c-febbraio-2023-2-2/
LOCATION:Centro Addestramento Vimodrone\, Largo F.lli Cervi\, 8\, Vimodrone\, MI\, 20900\, Italia
ATTACH;FMTTYPE=image/jpeg:https://www.silpa.org/wp-content/uploads/2022/11/cpr-training.jpg
END:VEVENT
BEGIN:VEVENT
DTSTART;TZID=Europe/Helsinki:20230217T083000
DTEND;TZID=Europe/Helsinki:20230217T173000
DTSTAMP:20260424T174707
CREATED:20230110T125551Z
LAST-MODIFIED:20230110T125551Z
UID:1238-1676622600-1676655000@www.silpa.org
SUMMARY:Corso Base Primo Soccorso per Aziende di Gruppo B e C
DESCRIPTION:16 ore
URL:https://www.silpa.org/corso/corso-base-primo-soccorso-per-aziende-di-gruppo-b-c-febbraio-2023-2-3/
LOCATION:Centro Addestramento Vimodrone\, Largo F.lli Cervi\, 8\, Vimodrone\, MI\, 20900\, Italia
ATTACH;FMTTYPE=image/jpeg:https://www.silpa.org/wp-content/uploads/2022/11/cpr-training.jpg
END:VEVENT
BEGIN:VEVENT
DTSTART;TZID=Europe/Helsinki:20230217T083000
DTEND;TZID=Europe/Helsinki:20230217T123000
DTSTAMP:20260424T174707
CREATED:20230110T122923Z
LAST-MODIFIED:20230110T122923Z
UID:736-1676622600-1676637000@www.silpa.org
SUMMARY:Corso Aggiornamento Primo Soccorso per Aziende di Gruppo B e C
DESCRIPTION:4 ore
URL:https://www.silpa.org/corso/corso-aggiornamento-primo-soccorso-per-aziende-di-gruppo-b-c-febbraio-2022/
LOCATION:Centro Addestramento Vimodrone\, Largo F.lli Cervi\, 8\, Vimodrone\, MI\, 20900\, Italia
ATTACH;FMTTYPE=image/jpeg:https://www.silpa.org/wp-content/uploads/2022/11/cpr-training.jpg
END:VEVENT
BEGIN:VEVENT
DTSTART;TZID=Europe/Helsinki:20230217T083000
DTEND;TZID=Europe/Helsinki:20230217T123000
DTSTAMP:20260424T174707
CREATED:20230110T122923Z
LAST-MODIFIED:20230110T122923Z
UID:1110-1676622600-1676637000@www.silpa.org
SUMMARY:Corso Aggiornamento Primo Soccorso per Aziende di Gruppo B e C
DESCRIPTION:4 ore
URL:https://www.silpa.org/corso/corso-aggiornamento-primo-soccorso-per-aziende-di-gruppo-b-c-febbraio-2022-2/
LOCATION:Centro Addestramento Vimodrone\, Largo F.lli Cervi\, 8\, Vimodrone\, MI\, 20900\, Italia
ATTACH;FMTTYPE=image/jpeg:https://www.silpa.org/wp-content/uploads/2022/11/cpr-training.jpg
END:VEVENT
BEGIN:VEVENT
DTSTART;TZID=Europe/Helsinki:20230217T083000
DTEND;TZID=Europe/Helsinki:20230217T123000
DTSTAMP:20260424T174707
CREATED:20230110T122923Z
LAST-MODIFIED:20230110T122923Z
UID:1219-1676622600-1676637000@www.silpa.org
SUMMARY:Corso Aggiornamento Primo Soccorso per Aziende di Gruppo B e C
DESCRIPTION:4 ore
URL:https://www.silpa.org/corso/corso-aggiornamento-primo-soccorso-per-aziende-di-gruppo-b-c-febbraio-2022-3/
LOCATION:Centro Addestramento Vimodrone\, Largo F.lli Cervi\, 8\, Vimodrone\, MI\, 20900\, Italia
ATTACH;FMTTYPE=image/jpeg:https://www.silpa.org/wp-content/uploads/2022/11/cpr-training.jpg
END:VEVENT
BEGIN:VEVENT
DTSTART;TZID=Europe/Helsinki:20230216T083000
DTEND;TZID=Europe/Helsinki:20230216T173000
DTSTAMP:20260424T174707
CREATED:20230110T123155Z
LAST-MODIFIED:20230110T123304Z
UID:738-1676536200-1676568600@www.silpa.org
SUMMARY:Corso Base di Primo Soccorso per Aziende di Gruppo A
DESCRIPTION:16 ore
URL:https://www.silpa.org/corso/corso-base-di-primo-soccorso-per-aziende-di-gruppo-a-febbraio-2023/
LOCATION:Centro Addestramento Vimodrone\, Largo F.lli Cervi\, 8\, Vimodrone\, MI\, 20900\, Italia
ATTACH;FMTTYPE=image/jpeg:https://www.silpa.org/wp-content/uploads/2022/11/cpr-training.jpg
END:VEVENT
BEGIN:VEVENT
DTSTART;TZID=Europe/Helsinki:20230216T083000
DTEND;TZID=Europe/Helsinki:20230216T173000
DTSTAMP:20260424T174707
CREATED:20230110T123155Z
LAST-MODIFIED:20230110T123155Z
UID:1111-1676536200-1676568600@www.silpa.org
SUMMARY:Corso Base di Primo Soccorso per Aziende di Gruppo A
DESCRIPTION:16 ore
URL:https://www.silpa.org/corso/corso-base-di-primo-soccorso-per-aziende-di-gruppo-a-febbraio-2023-3/
LOCATION:Centro Addestramento Vimodrone\, Largo F.lli Cervi\, 8\, Vimodrone\, MI\, 20900\, Italia
ATTACH;FMTTYPE=image/jpeg:https://www.silpa.org/wp-content/uploads/2022/11/cpr-training.jpg
END:VEVENT
BEGIN:VEVENT
DTSTART;TZID=Europe/Helsinki:20230216T083000
DTEND;TZID=Europe/Helsinki:20230216T173000
DTSTAMP:20260424T174707
CREATED:20230110T123155Z
LAST-MODIFIED:20230110T123155Z
UID:1221-1676536200-1676568600@www.silpa.org
SUMMARY:Corso Base di Primo Soccorso per Aziende di Gruppo A
DESCRIPTION:16 ore
URL:https://www.silpa.org/corso/corso-base-di-primo-soccorso-per-aziende-di-gruppo-a-febbraio-2023-4/
LOCATION:Centro Addestramento Vimodrone\, Largo F.lli Cervi\, 8\, Vimodrone\, MI\, 20900\, Italia
ATTACH;FMTTYPE=image/jpeg:https://www.silpa.org/wp-content/uploads/2022/11/cpr-training.jpg
END:VEVENT
BEGIN:VEVENT
DTSTART;TZID=Europe/Helsinki:20230216T083000
DTEND;TZID=Europe/Helsinki:20230216T173000
DTSTAMP:20260424T174707
CREATED:20230110T122817Z
LAST-MODIFIED:20230110T125406Z
UID:734-1676536200-1676568600@www.silpa.org
SUMMARY:Corso Base Primo Soccorso per Aziende di Gruppo B e C
DESCRIPTION:16 ore
URL:https://www.silpa.org/corso/corso-base-primo-soccorso-per-aziende-di-gruppo-b-c-febbraio-2023/
LOCATION:Centro Addestramento Vimodrone\, Largo F.lli Cervi\, 8\, Vimodrone\, MI\, 20900\, Italia
ATTACH;FMTTYPE=image/jpeg:https://www.silpa.org/wp-content/uploads/2022/11/cpr-training.jpg
END:VEVENT
BEGIN:VEVENT
DTSTART;TZID=Europe/Helsinki:20230216T083000
DTEND;TZID=Europe/Helsinki:20230216T173000
DTSTAMP:20260424T174707
CREATED:20230110T122817Z
LAST-MODIFIED:20230110T122817Z
UID:1109-1676536200-1676568600@www.silpa.org
SUMMARY:Corso Base Primo Soccorso per Aziende di Gruppo B e C
DESCRIPTION:16 ore
URL:https://www.silpa.org/corso/corso-base-primo-soccorso-per-aziende-di-gruppo-b-c-febbraio-2023-3/
LOCATION:Centro Addestramento Vimodrone\, Largo F.lli Cervi\, 8\, Vimodrone\, MI\, 20900\, Italia
ATTACH;FMTTYPE=image/jpeg:https://www.silpa.org/wp-content/uploads/2022/11/cpr-training.jpg
END:VEVENT
BEGIN:VEVENT
DTSTART;TZID=Europe/Helsinki:20230216T083000
DTEND;TZID=Europe/Helsinki:20230216T173000
DTSTAMP:20260424T174707
CREATED:20230110T122817Z
LAST-MODIFIED:20230110T122817Z
UID:1217-1676536200-1676568600@www.silpa.org
SUMMARY:Corso Base Primo Soccorso per Aziende di Gruppo B e C
DESCRIPTION:16 ore
URL:https://www.silpa.org/corso/corso-base-primo-soccorso-per-aziende-di-gruppo-b-c-febbraio-2023-4/
LOCATION:Centro Addestramento Vimodrone\, Largo F.lli Cervi\, 8\, Vimodrone\, MI\, 20900\, Italia
ATTACH;FMTTYPE=image/jpeg:https://www.silpa.org/wp-content/uploads/2022/11/cpr-training.jpg
END:VEVENT
BEGIN:VEVENT
DTSTART;TZID=Europe/Paris:20230214T083000
DTEND;TZID=Europe/Paris:20230214T173000
DTSTAMP:20260424T174707
CREATED:20230110T122045Z
LAST-MODIFIED:20230110T122045Z
UID:724-1676363400-1676395800@www.silpa.org
SUMMARY:Corso Antincendio Livello III
DESCRIPTION:16 ore
URL:https://www.silpa.org/corso/corso-antincendio-livello-3-febbraio-2023-2/
LOCATION:Centro Addestramento Vimodrone\, Largo F.lli Cervi\, 8\, Vimodrone\, MI\, 20900\, Italia
ATTACH;FMTTYPE=image/jpeg:https://www.silpa.org/wp-content/uploads/2022/06/Silpa-Livello3.jpg
END:VEVENT
BEGIN:VEVENT
DTSTART;TZID=Europe/Paris:20230214T083000
DTEND;TZID=Europe/Paris:20230214T173000
DTSTAMP:20260424T174707
CREATED:20230110T122045Z
LAST-MODIFIED:20230110T122045Z
UID:1104-1676363400-1676395800@www.silpa.org
SUMMARY:Corso Antincendio Livello III
DESCRIPTION:16 ore
URL:https://www.silpa.org/corso/corso-antincendio-livello-3-febbraio-2023-2-2/
LOCATION:Centro Addestramento Vimodrone\, Largo F.lli Cervi\, 8\, Vimodrone\, MI\, 20900\, Italia
ATTACH;FMTTYPE=image/jpeg:https://www.silpa.org/wp-content/uploads/2022/06/Silpa-Livello3.jpg
END:VEVENT
BEGIN:VEVENT
DTSTART;TZID=Europe/Paris:20230214T083000
DTEND;TZID=Europe/Paris:20230214T173000
DTSTAMP:20260424T174707
CREATED:20230110T122045Z
LAST-MODIFIED:20230110T122045Z
UID:1208-1676363400-1676395800@www.silpa.org
SUMMARY:Corso Antincendio Livello III
DESCRIPTION:16 ore
URL:https://www.silpa.org/corso/corso-antincendio-livello-3-febbraio-2023-2-3/
LOCATION:Centro Addestramento Vimodrone\, Largo F.lli Cervi\, 8\, Vimodrone\, MI\, 20900\, Italia
ATTACH;FMTTYPE=image/jpeg:https://www.silpa.org/wp-content/uploads/2022/06/Silpa-Livello3.jpg
END:VEVENT
BEGIN:VEVENT
DTSTART;TZID=Europe/Paris:20230213T083000
DTEND;TZID=Europe/Paris:20230213T173000
DTSTAMP:20260424T174707
CREATED:20230110T122006Z
LAST-MODIFIED:20230110T122006Z
UID:722-1676277000-1676309400@www.silpa.org
SUMMARY:Corso Antincendio Livello III
DESCRIPTION:16 ore
URL:https://www.silpa.org/corso/corso-antincendio-livello-3-febbraio-2023/
LOCATION:Centro Addestramento Vimodrone\, Largo F.lli Cervi\, 8\, Vimodrone\, MI\, 20900\, Italia
ATTACH;FMTTYPE=image/jpeg:https://www.silpa.org/wp-content/uploads/2022/06/Silpa-Livello3.jpg
END:VEVENT
BEGIN:VEVENT
DTSTART;TZID=Europe/Paris:20230213T083000
DTEND;TZID=Europe/Paris:20230213T173000
DTSTAMP:20260424T174707
CREATED:20230110T122006Z
LAST-MODIFIED:20230110T122006Z
UID:1103-1676277000-1676309400@www.silpa.org
SUMMARY:Corso Antincendio Livello III
DESCRIPTION:16 ore
URL:https://www.silpa.org/corso/corso-antincendio-livello-3-febbraio-2023-3/
LOCATION:Centro Addestramento Vimodrone\, Largo F.lli Cervi\, 8\, Vimodrone\, MI\, 20900\, Italia
ATTACH;FMTTYPE=image/jpeg:https://www.silpa.org/wp-content/uploads/2022/06/Silpa-Livello3.jpg
END:VEVENT
BEGIN:VEVENT
DTSTART;TZID=Europe/Paris:20230213T083000
DTEND;TZID=Europe/Paris:20230213T173000
DTSTAMP:20260424T174707
CREATED:20230110T122006Z
LAST-MODIFIED:20230110T122006Z
UID:1207-1676277000-1676309400@www.silpa.org
SUMMARY:Corso Antincendio Livello III
DESCRIPTION:16 ore
URL:https://www.silpa.org/corso/corso-antincendio-livello-3-febbraio-2023-4/
LOCATION:Centro Addestramento Vimodrone\, Largo F.lli Cervi\, 8\, Vimodrone\, MI\, 20900\, Italia
ATTACH;FMTTYPE=image/jpeg:https://www.silpa.org/wp-content/uploads/2022/06/Silpa-Livello3.jpg
END:VEVENT
BEGIN:VEVENT
DTSTART;TZID=Europe/Helsinki:20230210T083000
DTEND;TZID=Europe/Helsinki:20230210T153000
DTSTAMP:20260424T174707
CREATED:20230110T122400Z
LAST-MODIFIED:20230110T122400Z
UID:728-1676017800-1676043000@www.silpa.org
SUMMARY:Corso Antincendio Aggiornamento Livello II
DESCRIPTION:5 ore
URL:https://www.silpa.org/corso/corso-antincendio-aggiornamento-livello-2-febbraio-2023/
LOCATION:Centro Addestramento Vimodrone\, Largo F.lli Cervi\, 8\, Vimodrone\, MI\, 20900\, Italia
ATTACH;FMTTYPE=image/jpeg:https://www.silpa.org/wp-content/uploads/2022/11/Silpa-Aggiornamento-Livello2b.jpg
END:VEVENT
BEGIN:VEVENT
DTSTART;TZID=Europe/Helsinki:20230210T083000
DTEND;TZID=Europe/Helsinki:20230210T153000
DTSTAMP:20260424T174707
CREATED:20230110T122400Z
LAST-MODIFIED:20230110T122400Z
UID:1106-1676017800-1676043000@www.silpa.org
SUMMARY:Corso Antincendio Aggiornamento Livello II
DESCRIPTION:5 ore
URL:https://www.silpa.org/corso/corso-antincendio-aggiornamento-livello-2-febbraio-2023-2/
LOCATION:Centro Addestramento Vimodrone\, Largo F.lli Cervi\, 8\, Vimodrone\, MI\, 20900\, Italia
ATTACH;FMTTYPE=image/jpeg:https://www.silpa.org/wp-content/uploads/2022/11/Silpa-Aggiornamento-Livello2b.jpg
END:VEVENT
END:VCALENDAR