BEGIN:VCALENDAR
VERSION:2.0
PRODID:-//Silpa S.r.l. - ECPv6.15.16.1//NONSGML v1.0//EN
CALSCALE:GREGORIAN
METHOD:PUBLISH
X-ORIGINAL-URL:https://www.silpa.org
X-WR-CALDESC:Eventi per Silpa S.r.l.
REFRESH-INTERVAL;VALUE=DURATION:PT1H
X-Robots-Tag:noindex
X-PUBLISHED-TTL:PT1H
BEGIN:VTIMEZONE
TZID:Europe/Helsinki
BEGIN:DAYLIGHT
TZOFFSETFROM:+0200
TZOFFSETTO:+0300
TZNAME:EEST
DTSTART:20220327T010000
END:DAYLIGHT
BEGIN:STANDARD
TZOFFSETFROM:+0300
TZOFFSETTO:+0200
TZNAME:EET
DTSTART:20221030T010000
END:STANDARD
BEGIN:DAYLIGHT
TZOFFSETFROM:+0200
TZOFFSETTO:+0300
TZNAME:EEST
DTSTART:20230326T010000
END:DAYLIGHT
BEGIN:STANDARD
TZOFFSETFROM:+0300
TZOFFSETTO:+0200
TZNAME:EET
DTSTART:20231029T010000
END:STANDARD
BEGIN:DAYLIGHT
TZOFFSETFROM:+0200
TZOFFSETTO:+0300
TZNAME:EEST
DTSTART:20240331T010000
END:DAYLIGHT
BEGIN:STANDARD
TZOFFSETFROM:+0300
TZOFFSETTO:+0200
TZNAME:EET
DTSTART:20241027T010000
END:STANDARD
END:VTIMEZONE
BEGIN:VTIMEZONE
TZID:Europe/Paris
BEGIN:DAYLIGHT
TZOFFSETFROM:+0100
TZOFFSETTO:+0200
TZNAME:CEST
DTSTART:20220327T010000
END:DAYLIGHT
BEGIN:STANDARD
TZOFFSETFROM:+0200
TZOFFSETTO:+0100
TZNAME:CET
DTSTART:20221030T010000
END:STANDARD
BEGIN:DAYLIGHT
TZOFFSETFROM:+0100
TZOFFSETTO:+0200
TZNAME:CEST
DTSTART:20230326T010000
END:DAYLIGHT
BEGIN:STANDARD
TZOFFSETFROM:+0200
TZOFFSETTO:+0100
TZNAME:CET
DTSTART:20231029T010000
END:STANDARD
BEGIN:DAYLIGHT
TZOFFSETFROM:+0100
TZOFFSETTO:+0200
TZNAME:CEST
DTSTART:20240331T010000
END:DAYLIGHT
BEGIN:STANDARD
TZOFFSETFROM:+0200
TZOFFSETTO:+0100
TZNAME:CET
DTSTART:20241027T010000
END:STANDARD
END:VTIMEZONE
BEGIN:VEVENT
DTSTART;TZID=Europe/Helsinki:20230127T083000
DTEND;TZID=Europe/Helsinki:20230127T153000
DTSTAMP:20260424T232647
CREATED:20230110T112718Z
LAST-MODIFIED:20230110T112718Z
UID:1184-1674808200-1674833400@www.silpa.org
SUMMARY:Corso Antincendio Aggiornamento Livello II
DESCRIPTION:5 ore
URL:https://www.silpa.org/corso/corso-antincendio-aggiornamento-livello-2-gennaio-2023-3/
LOCATION:Centro Addestramento Vimodrone\, Largo F.lli Cervi\, 8\, Vimodrone\, MI\, 20900\, Italia
ATTACH;FMTTYPE=image/jpeg:https://www.silpa.org/wp-content/uploads/2022/11/Silpa-Aggiornamento-Livello2b.jpg
END:VEVENT
BEGIN:VEVENT
DTSTART;TZID=Europe/Helsinki:20230124T083000
DTEND;TZID=Europe/Helsinki:20230124T173000
DTSTAMP:20260424T232647
CREATED:20230110T112605Z
LAST-MODIFIED:20230110T112605Z
UID:693-1674549000-1674581400@www.silpa.org
SUMMARY:Corso Antincendio Aggiornamento Livello III
DESCRIPTION:8 ore
URL:https://www.silpa.org/corso/corso-antincendio-aggiornamento-livello-3-gennaio-2023/
LOCATION:Centro Addestramento Vimodrone\, Largo F.lli Cervi\, 8\, Vimodrone\, MI\, 20900\, Italia
ATTACH;FMTTYPE=image/jpeg:https://www.silpa.org/wp-content/uploads/2022/06/Silpa-Aggiornamento-Livello3.jpg
END:VEVENT
BEGIN:VEVENT
DTSTART;TZID=Europe/Helsinki:20230124T083000
DTEND;TZID=Europe/Helsinki:20230124T173000
DTSTAMP:20260424T232647
CREATED:20230110T112605Z
LAST-MODIFIED:20230110T112605Z
UID:1089-1674549000-1674581400@www.silpa.org
SUMMARY:Corso Antincendio Aggiornamento Livello III
DESCRIPTION:8 ore
URL:https://www.silpa.org/corso/corso-antincendio-aggiornamento-livello-3-gennaio-2023-2/
LOCATION:Centro Addestramento Vimodrone\, Largo F.lli Cervi\, 8\, Vimodrone\, MI\, 20900\, Italia
ATTACH;FMTTYPE=image/jpeg:https://www.silpa.org/wp-content/uploads/2022/06/Silpa-Aggiornamento-Livello3.jpg
END:VEVENT
BEGIN:VEVENT
DTSTART;TZID=Europe/Helsinki:20230124T083000
DTEND;TZID=Europe/Helsinki:20230124T173000
DTSTAMP:20260424T232647
CREATED:20230110T112605Z
LAST-MODIFIED:20230110T112605Z
UID:1182-1674549000-1674581400@www.silpa.org
SUMMARY:Corso Antincendio Aggiornamento Livello III
DESCRIPTION:8 ore
URL:https://www.silpa.org/corso/corso-antincendio-aggiornamento-livello-3-gennaio-2023-3/
LOCATION:Centro Addestramento Vimodrone\, Largo F.lli Cervi\, 8\, Vimodrone\, MI\, 20900\, Italia
ATTACH;FMTTYPE=image/jpeg:https://www.silpa.org/wp-content/uploads/2022/06/Silpa-Aggiornamento-Livello3.jpg
END:VEVENT
BEGIN:VEVENT
DTSTART;TZID=Europe/Helsinki:20230120T083000
DTEND;TZID=Europe/Helsinki:20230120T173000
DTSTAMP:20260424T232647
CREATED:20230110T114211Z
LAST-MODIFIED:20230110T114211Z
UID:701-1674203400-1674235800@www.silpa.org
SUMMARY:Corso Base di Primo Soccorso per Aziende di Gruppo B e C
DESCRIPTION:12 ore
URL:https://www.silpa.org/corso/corso-base-di-primo-soccorso-per-aziende-di-gruppo-b-c-gennaio-2023-2/
LOCATION:Centro Addestramento Vimodrone\, Largo F.lli Cervi\, 8\, Vimodrone\, MI\, 20900\, Italia
ATTACH;FMTTYPE=image/jpeg:https://www.silpa.org/wp-content/uploads/2022/11/cpr-training.jpg
END:VEVENT
BEGIN:VEVENT
DTSTART;TZID=Europe/Helsinki:20230120T083000
DTEND;TZID=Europe/Helsinki:20230120T173000
DTSTAMP:20260424T232647
CREATED:20230110T114211Z
LAST-MODIFIED:20230110T114211Z
UID:1093-1674203400-1674235800@www.silpa.org
SUMMARY:Corso Base di Primo Soccorso per Aziende di Gruppo B e C
DESCRIPTION:12 ore
URL:https://www.silpa.org/corso/corso-base-di-primo-soccorso-per-aziende-di-gruppo-b-c-gennaio-2023-2-2/
LOCATION:Centro Addestramento Vimodrone\, Largo F.lli Cervi\, 8\, Vimodrone\, MI\, 20900\, Italia
ATTACH;FMTTYPE=image/jpeg:https://www.silpa.org/wp-content/uploads/2022/11/cpr-training.jpg
END:VEVENT
BEGIN:VEVENT
DTSTART;TZID=Europe/Helsinki:20230120T083000
DTEND;TZID=Europe/Helsinki:20230120T173000
DTSTAMP:20260424T232647
CREATED:20230110T114211Z
LAST-MODIFIED:20230110T114211Z
UID:1189-1674203400-1674235800@www.silpa.org
SUMMARY:Corso Base di Primo Soccorso per Aziende di Gruppo B e C
DESCRIPTION:12 ore
URL:https://www.silpa.org/corso/corso-base-di-primo-soccorso-per-aziende-di-gruppo-b-c-gennaio-2023-2-3/
LOCATION:Centro Addestramento Vimodrone\, Largo F.lli Cervi\, 8\, Vimodrone\, MI\, 20900\, Italia
ATTACH;FMTTYPE=image/jpeg:https://www.silpa.org/wp-content/uploads/2022/11/cpr-training.jpg
END:VEVENT
BEGIN:VEVENT
DTSTART;TZID=Europe/Helsinki:20230120T083000
DTEND;TZID=Europe/Helsinki:20230120T123000
DTSTAMP:20260424T232647
CREATED:20230110T114330Z
LAST-MODIFIED:20230110T114330Z
UID:703-1674203400-1674217800@www.silpa.org
SUMMARY:Corso Aggiornamento Primo Soccorso per Aziende di Gruppo B e C
DESCRIPTION:4 ore
URL:https://www.silpa.org/corso/corso-aggiornamento-primo-soccorso-per-aziende-di-gruppo-b-c-gennaio-2023/
LOCATION:Centro Addestramento Vimodrone\, Largo F.lli Cervi\, 8\, Vimodrone\, MI\, 20900\, Italia
ATTACH;FMTTYPE=image/jpeg:https://www.silpa.org/wp-content/uploads/2022/11/cpr-training.jpg
END:VEVENT
BEGIN:VEVENT
DTSTART;TZID=Europe/Helsinki:20230120T083000
DTEND;TZID=Europe/Helsinki:20230120T123000
DTSTAMP:20260424T232647
CREATED:20230110T114330Z
LAST-MODIFIED:20230110T114330Z
UID:1094-1674203400-1674217800@www.silpa.org
SUMMARY:Corso Aggiornamento Primo Soccorso per Aziende di Gruppo B e C
DESCRIPTION:4 ore
URL:https://www.silpa.org/corso/corso-aggiornamento-primo-soccorso-per-aziende-di-gruppo-b-c-gennaio-2023-2/
LOCATION:Centro Addestramento Vimodrone\, Largo F.lli Cervi\, 8\, Vimodrone\, MI\, 20900\, Italia
ATTACH;FMTTYPE=image/jpeg:https://www.silpa.org/wp-content/uploads/2022/11/cpr-training.jpg
END:VEVENT
BEGIN:VEVENT
DTSTART;TZID=Europe/Helsinki:20230120T083000
DTEND;TZID=Europe/Helsinki:20230120T123000
DTSTAMP:20260424T232647
CREATED:20230110T114330Z
LAST-MODIFIED:20230110T114330Z
UID:1191-1674203400-1674217800@www.silpa.org
SUMMARY:Corso Aggiornamento Primo Soccorso per Aziende di Gruppo B e C
DESCRIPTION:4 ore
URL:https://www.silpa.org/corso/corso-aggiornamento-primo-soccorso-per-aziende-di-gruppo-b-c-gennaio-2023-3/
LOCATION:Centro Addestramento Vimodrone\, Largo F.lli Cervi\, 8\, Vimodrone\, MI\, 20900\, Italia
ATTACH;FMTTYPE=image/jpeg:https://www.silpa.org/wp-content/uploads/2022/11/cpr-training.jpg
END:VEVENT
BEGIN:VEVENT
DTSTART;TZID=Europe/Helsinki:20230119T103000
DTEND;TZID=Europe/Helsinki:20230119T173000
DTSTAMP:20260424T232647
CREATED:20230110T114723Z
LAST-MODIFIED:20230110T114723Z
UID:709-1674124200-1674149400@www.silpa.org
SUMMARY:Corso Aggiornamento Primo Soccorso per Aziende di Gruppo A
DESCRIPTION:6 ore
URL:https://www.silpa.org/corso/corso-aggiornamento-primo-soccorso-per-aziende-di-gruppo-a-gennaio-2023/
LOCATION:Centro Addestramento Vimodrone\, Largo F.lli Cervi\, 8\, Vimodrone\, MI\, 20900\, Italia
ATTACH;FMTTYPE=image/jpeg:https://www.silpa.org/wp-content/uploads/2022/11/cpr-training.jpg
END:VEVENT
BEGIN:VEVENT
DTSTART;TZID=Europe/Helsinki:20230119T103000
DTEND;TZID=Europe/Helsinki:20230119T173000
DTSTAMP:20260424T232647
CREATED:20230110T114723Z
LAST-MODIFIED:20230110T114723Z
UID:1097-1674124200-1674149400@www.silpa.org
SUMMARY:Corso Aggiornamento Primo Soccorso per Aziende di Gruppo A
DESCRIPTION:6 ore
URL:https://www.silpa.org/corso/corso-aggiornamento-primo-soccorso-per-aziende-di-gruppo-a-gennaio-2023-2/
LOCATION:Centro Addestramento Vimodrone\, Largo F.lli Cervi\, 8\, Vimodrone\, MI\, 20900\, Italia
ATTACH;FMTTYPE=image/jpeg:https://www.silpa.org/wp-content/uploads/2022/11/cpr-training.jpg
END:VEVENT
BEGIN:VEVENT
DTSTART;TZID=Europe/Helsinki:20230119T103000
DTEND;TZID=Europe/Helsinki:20230119T173000
DTSTAMP:20260424T232647
CREATED:20230110T114723Z
LAST-MODIFIED:20230110T114723Z
UID:1196-1674124200-1674149400@www.silpa.org
SUMMARY:Corso Aggiornamento Primo Soccorso per Aziende di Gruppo A
DESCRIPTION:6 ore
URL:https://www.silpa.org/corso/corso-aggiornamento-primo-soccorso-per-aziende-di-gruppo-a-gennaio-2023-3/
LOCATION:Centro Addestramento Vimodrone\, Largo F.lli Cervi\, 8\, Vimodrone\, MI\, 20900\, Italia
ATTACH;FMTTYPE=image/jpeg:https://www.silpa.org/wp-content/uploads/2022/11/cpr-training.jpg
END:VEVENT
BEGIN:VEVENT
DTSTART;TZID=Europe/Helsinki:20230119T083000
DTEND;TZID=Europe/Helsinki:20230119T173000
DTSTAMP:20260424T232647
CREATED:20230110T115629Z
LAST-MODIFIED:20230110T115629Z
UID:720-1674117000-1674149400@www.silpa.org
SUMMARY:Corso Capi Squadra
DESCRIPTION:8 ore
URL:https://www.silpa.org/corso/corso-capi-squadra-gennaio-2023/
LOCATION:Centro Addestramento Vimodrone\, Largo F.lli Cervi\, 8\, Vimodrone\, MI\, 20900\, Italia
ATTACH;FMTTYPE=image/jpeg:https://www.silpa.org/wp-content/uploads/2022/06/Silpa-Aggiornamento-Livello3.jpg
END:VEVENT
BEGIN:VEVENT
DTSTART;TZID=Europe/Helsinki:20230119T083000
DTEND;TZID=Europe/Helsinki:20230119T173000
DTSTAMP:20260424T232647
CREATED:20230110T115629Z
LAST-MODIFIED:20230110T115629Z
UID:1102-1674117000-1674149400@www.silpa.org
SUMMARY:Corso Capi Squadra
DESCRIPTION:8 ore
URL:https://www.silpa.org/corso/corso-capi-squadra-gennaio-2023-2/
LOCATION:Centro Addestramento Vimodrone\, Largo F.lli Cervi\, 8\, Vimodrone\, MI\, 20900\, Italia
ATTACH;FMTTYPE=image/jpeg:https://www.silpa.org/wp-content/uploads/2022/06/Silpa-Aggiornamento-Livello3.jpg
END:VEVENT
BEGIN:VEVENT
DTSTART;TZID=Europe/Helsinki:20230119T083000
DTEND;TZID=Europe/Helsinki:20230119T173000
DTSTAMP:20260424T232647
CREATED:20230110T115629Z
LAST-MODIFIED:20230110T115629Z
UID:1205-1674117000-1674149400@www.silpa.org
SUMMARY:Corso Capi Squadra
DESCRIPTION:8 ore
URL:https://www.silpa.org/corso/corso-capi-squadra-gennaio-2023-3/
LOCATION:Centro Addestramento Vimodrone\, Largo F.lli Cervi\, 8\, Vimodrone\, MI\, 20900\, Italia
ATTACH;FMTTYPE=image/jpeg:https://www.silpa.org/wp-content/uploads/2022/06/Silpa-Aggiornamento-Livello3.jpg
END:VEVENT
BEGIN:VEVENT
DTSTART;TZID=Europe/Helsinki:20230119T083000
DTEND;TZID=Europe/Helsinki:20230119T173000
DTSTAMP:20260424T232647
CREATED:20230110T114608Z
LAST-MODIFIED:20230110T114608Z
UID:707-1674117000-1674149400@www.silpa.org
SUMMARY:Corso Base di Primo Soccorso per Aziende di Gruppo A
DESCRIPTION:16 ore
URL:https://www.silpa.org/corso/corso-base-di-primo-soccorso-per-aziende-di-gruppo-a-gennaio-2023-2/
LOCATION:Centro Addestramento Vimodrone\, Largo F.lli Cervi\, 8\, Vimodrone\, MI\, 20900\, Italia
ATTACH;FMTTYPE=image/jpeg:https://www.silpa.org/wp-content/uploads/2022/11/cpr-training.jpg
END:VEVENT
BEGIN:VEVENT
DTSTART;TZID=Europe/Helsinki:20230119T083000
DTEND;TZID=Europe/Helsinki:20230119T173000
DTSTAMP:20260424T232647
CREATED:20230110T114608Z
LAST-MODIFIED:20230110T114608Z
UID:1096-1674117000-1674149400@www.silpa.org
SUMMARY:Corso Base di Primo Soccorso per Aziende di Gruppo A
DESCRIPTION:16 ore
URL:https://www.silpa.org/corso/corso-base-di-primo-soccorso-per-aziende-di-gruppo-a-gennaio-2023-2-2/
LOCATION:Centro Addestramento Vimodrone\, Largo F.lli Cervi\, 8\, Vimodrone\, MI\, 20900\, Italia
ATTACH;FMTTYPE=image/jpeg:https://www.silpa.org/wp-content/uploads/2022/11/cpr-training.jpg
END:VEVENT
BEGIN:VEVENT
DTSTART;TZID=Europe/Helsinki:20230119T083000
DTEND;TZID=Europe/Helsinki:20230119T173000
DTSTAMP:20260424T232647
CREATED:20230110T114608Z
LAST-MODIFIED:20230110T114608Z
UID:1194-1674117000-1674149400@www.silpa.org
SUMMARY:Corso Base di Primo Soccorso per Aziende di Gruppo A
DESCRIPTION:16 ore
URL:https://www.silpa.org/corso/corso-base-di-primo-soccorso-per-aziende-di-gruppo-a-gennaio-2023-2-3/
LOCATION:Centro Addestramento Vimodrone\, Largo F.lli Cervi\, 8\, Vimodrone\, MI\, 20900\, Italia
ATTACH;FMTTYPE=image/jpeg:https://www.silpa.org/wp-content/uploads/2022/11/cpr-training.jpg
END:VEVENT
BEGIN:VEVENT
DTSTART;TZID=Europe/Helsinki:20230118T083000
DTEND;TZID=Europe/Helsinki:20230118T173000
DTSTAMP:20260424T232647
CREATED:20230110T114431Z
LAST-MODIFIED:20230110T114508Z
UID:705-1674030600-1674063000@www.silpa.org
SUMMARY:Corso Base di Primo Soccorso per Aziende di Gruppo A
DESCRIPTION:16 ore
URL:https://www.silpa.org/corso/corso-base-di-primo-soccorso-per-aziende-di-gruppo-a-gennaio-2023/
LOCATION:Centro Addestramento Vimodrone\, Largo F.lli Cervi\, 8\, Vimodrone\, MI\, 20900\, Italia
ATTACH;FMTTYPE=image/jpeg:https://www.silpa.org/wp-content/uploads/2022/11/cpr-training.jpg
END:VEVENT
BEGIN:VEVENT
DTSTART;TZID=Europe/Helsinki:20230118T083000
DTEND;TZID=Europe/Helsinki:20230118T173000
DTSTAMP:20260424T232647
CREATED:20230110T114431Z
LAST-MODIFIED:20230110T114431Z
UID:1095-1674030600-1674063000@www.silpa.org
SUMMARY:Corso Base di Primo Soccorso per Aziende di Gruppo A
DESCRIPTION:16 ore
URL:https://www.silpa.org/corso/corso-base-di-primo-soccorso-per-aziende-di-gruppo-a-gennaio-2023-3/
LOCATION:Centro Addestramento Vimodrone\, Largo F.lli Cervi\, 8\, Vimodrone\, MI\, 20900\, Italia
ATTACH;FMTTYPE=image/jpeg:https://www.silpa.org/wp-content/uploads/2022/11/cpr-training.jpg
END:VEVENT
BEGIN:VEVENT
DTSTART;TZID=Europe/Helsinki:20230118T083000
DTEND;TZID=Europe/Helsinki:20230118T173000
DTSTAMP:20260424T232647
CREATED:20230110T114431Z
LAST-MODIFIED:20230110T114431Z
UID:1192-1674030600-1674063000@www.silpa.org
SUMMARY:Corso Base di Primo Soccorso per Aziende di Gruppo A
DESCRIPTION:16 ore
URL:https://www.silpa.org/corso/corso-base-di-primo-soccorso-per-aziende-di-gruppo-a-gennaio-2023-4/
LOCATION:Centro Addestramento Vimodrone\, Largo F.lli Cervi\, 8\, Vimodrone\, MI\, 20900\, Italia
ATTACH;FMTTYPE=image/jpeg:https://www.silpa.org/wp-content/uploads/2022/11/cpr-training.jpg
END:VEVENT
BEGIN:VEVENT
DTSTART;TZID=Europe/Helsinki:20230118T083000
DTEND;TZID=Europe/Helsinki:20230118T173000
DTSTAMP:20260424T232647
CREATED:20230110T114123Z
LAST-MODIFIED:20230110T114123Z
UID:699-1674030600-1674063000@www.silpa.org
SUMMARY:Corso Base di Primo Soccorso per Aziende di Gruppo B e C
DESCRIPTION:12 ore
URL:https://www.silpa.org/corso/corso-base-di-primo-soccorso-per-aziende-di-gruppo-b-c-gennaio-2023/
LOCATION:Centro Addestramento Vimodrone\, Largo F.lli Cervi\, 8\, Vimodrone\, MI\, 20900\, Italia
ATTACH;FMTTYPE=image/jpeg:https://www.silpa.org/wp-content/uploads/2022/11/cpr-training.jpg
END:VEVENT
BEGIN:VEVENT
DTSTART;TZID=Europe/Helsinki:20230118T083000
DTEND;TZID=Europe/Helsinki:20230118T173000
DTSTAMP:20260424T232647
CREATED:20230110T114123Z
LAST-MODIFIED:20230110T114123Z
UID:1092-1674030600-1674063000@www.silpa.org
SUMMARY:Corso Base di Primo Soccorso per Aziende di Gruppo B e C
DESCRIPTION:12 ore
URL:https://www.silpa.org/corso/corso-base-di-primo-soccorso-per-aziende-di-gruppo-b-c-gennaio-2023-3/
LOCATION:Centro Addestramento Vimodrone\, Largo F.lli Cervi\, 8\, Vimodrone\, MI\, 20900\, Italia
ATTACH;FMTTYPE=image/jpeg:https://www.silpa.org/wp-content/uploads/2022/11/cpr-training.jpg
END:VEVENT
BEGIN:VEVENT
DTSTART;TZID=Europe/Helsinki:20230118T083000
DTEND;TZID=Europe/Helsinki:20230118T173000
DTSTAMP:20260424T232647
CREATED:20230110T114123Z
LAST-MODIFIED:20230110T114123Z
UID:1187-1674030600-1674063000@www.silpa.org
SUMMARY:Corso Base di Primo Soccorso per Aziende di Gruppo B e C
DESCRIPTION:12 ore
URL:https://www.silpa.org/corso/corso-base-di-primo-soccorso-per-aziende-di-gruppo-b-c-gennaio-2023-4/
LOCATION:Centro Addestramento Vimodrone\, Largo F.lli Cervi\, 8\, Vimodrone\, MI\, 20900\, Italia
ATTACH;FMTTYPE=image/jpeg:https://www.silpa.org/wp-content/uploads/2022/11/cpr-training.jpg
END:VEVENT
BEGIN:VEVENT
DTSTART;TZID=Europe/Paris:20230118T083000
DTEND;TZID=Europe/Paris:20230118T173000
DTSTAMP:20260424T232647
CREATED:20230110T112417Z
LAST-MODIFIED:20230110T112417Z
UID:691-1674030600-1674063000@www.silpa.org
SUMMARY:Corso Antincendio Livello III
DESCRIPTION:16 ore
URL:https://www.silpa.org/corso/corso-antincendio-livello-3-gennaio-2023-2/
LOCATION:Centro Addestramento Vimodrone\, Largo F.lli Cervi\, 8\, Vimodrone\, MI\, 20900\, Italia
ATTACH;FMTTYPE=image/jpeg:https://www.silpa.org/wp-content/uploads/2022/06/Silpa-Livello3.jpg
END:VEVENT
BEGIN:VEVENT
DTSTART;TZID=Europe/Paris:20230118T083000
DTEND;TZID=Europe/Paris:20230118T173000
DTSTAMP:20260424T232647
CREATED:20230110T112417Z
LAST-MODIFIED:20230110T112417Z
UID:1088-1674030600-1674063000@www.silpa.org
SUMMARY:Corso Antincendio Livello III
DESCRIPTION:16 ore
URL:https://www.silpa.org/corso/corso-antincendio-livello-3-gennaio-2023-2-2/
LOCATION:Centro Addestramento Vimodrone\, Largo F.lli Cervi\, 8\, Vimodrone\, MI\, 20900\, Italia
ATTACH;FMTTYPE=image/jpeg:https://www.silpa.org/wp-content/uploads/2022/06/Silpa-Livello3.jpg
END:VEVENT
BEGIN:VEVENT
DTSTART;TZID=Europe/Paris:20230118T083000
DTEND;TZID=Europe/Paris:20230118T173000
DTSTAMP:20260424T232647
CREATED:20230110T112417Z
LAST-MODIFIED:20230110T112417Z
UID:1180-1674030600-1674063000@www.silpa.org
SUMMARY:Corso Antincendio Livello III
DESCRIPTION:16 ore
URL:https://www.silpa.org/corso/corso-antincendio-livello-3-gennaio-2023-2-3/
LOCATION:Centro Addestramento Vimodrone\, Largo F.lli Cervi\, 8\, Vimodrone\, MI\, 20900\, Italia
ATTACH;FMTTYPE=image/jpeg:https://www.silpa.org/wp-content/uploads/2022/06/Silpa-Livello3.jpg
END:VEVENT
BEGIN:VEVENT
DTSTART;TZID=Europe/Paris:20230117T083000
DTEND;TZID=Europe/Paris:20230117T173000
DTSTAMP:20260424T232647
CREATED:20230110T112322Z
LAST-MODIFIED:20230110T112322Z
UID:689-1673944200-1673976600@www.silpa.org
SUMMARY:Corso Antincendio Livello III
DESCRIPTION:16 ore
URL:https://www.silpa.org/corso/corso-antincendio-livello-3-gennaio-2023/
LOCATION:Centro Addestramento Vimodrone\, Largo F.lli Cervi\, 8\, Vimodrone\, MI\, 20900\, Italia
ATTACH;FMTTYPE=image/jpeg:https://www.silpa.org/wp-content/uploads/2022/06/Silpa-Livello3.jpg
END:VEVENT
BEGIN:VEVENT
DTSTART;TZID=Europe/Paris:20230117T083000
DTEND;TZID=Europe/Paris:20230117T173000
DTSTAMP:20260424T232647
CREATED:20230110T112322Z
LAST-MODIFIED:20230110T112322Z
UID:1087-1673944200-1673976600@www.silpa.org
SUMMARY:Corso Antincendio Livello III
DESCRIPTION:16 ore
URL:https://www.silpa.org/corso/corso-antincendio-livello-3-gennaio-2023-3/
LOCATION:Centro Addestramento Vimodrone\, Largo F.lli Cervi\, 8\, Vimodrone\, MI\, 20900\, Italia
ATTACH;FMTTYPE=image/jpeg:https://www.silpa.org/wp-content/uploads/2022/06/Silpa-Livello3.jpg
END:VEVENT
END:VCALENDAR