BEGIN:VCALENDAR
VERSION:2.0
PRODID:-//Silpa S.r.l. - ECPv6.15.16.1//NONSGML v1.0//EN
CALSCALE:GREGORIAN
METHOD:PUBLISH
X-WR-CALNAME:Silpa S.r.l.
X-ORIGINAL-URL:https://www.silpa.org
X-WR-CALDESC:Eventi per Silpa S.r.l.
REFRESH-INTERVAL;VALUE=DURATION:PT1H
X-Robots-Tag:noindex
X-PUBLISHED-TTL:PT1H
BEGIN:VTIMEZONE
TZID:Europe/Helsinki
BEGIN:DAYLIGHT
TZOFFSETFROM:+0200
TZOFFSETTO:+0300
TZNAME:EEST
DTSTART:20220327T010000
END:DAYLIGHT
BEGIN:STANDARD
TZOFFSETFROM:+0300
TZOFFSETTO:+0200
TZNAME:EET
DTSTART:20221030T010000
END:STANDARD
BEGIN:DAYLIGHT
TZOFFSETFROM:+0200
TZOFFSETTO:+0300
TZNAME:EEST
DTSTART:20230326T010000
END:DAYLIGHT
BEGIN:STANDARD
TZOFFSETFROM:+0300
TZOFFSETTO:+0200
TZNAME:EET
DTSTART:20231029T010000
END:STANDARD
BEGIN:DAYLIGHT
TZOFFSETFROM:+0200
TZOFFSETTO:+0300
TZNAME:EEST
DTSTART:20240331T010000
END:DAYLIGHT
BEGIN:STANDARD
TZOFFSETFROM:+0300
TZOFFSETTO:+0200
TZNAME:EET
DTSTART:20241027T010000
END:STANDARD
END:VTIMEZONE
BEGIN:VTIMEZONE
TZID:Europe/Paris
BEGIN:DAYLIGHT
TZOFFSETFROM:+0100
TZOFFSETTO:+0200
TZNAME:CEST
DTSTART:20220327T010000
END:DAYLIGHT
BEGIN:STANDARD
TZOFFSETFROM:+0200
TZOFFSETTO:+0100
TZNAME:CET
DTSTART:20221030T010000
END:STANDARD
BEGIN:DAYLIGHT
TZOFFSETFROM:+0100
TZOFFSETTO:+0200
TZNAME:CEST
DTSTART:20230326T010000
END:DAYLIGHT
BEGIN:STANDARD
TZOFFSETFROM:+0200
TZOFFSETTO:+0100
TZNAME:CET
DTSTART:20231029T010000
END:STANDARD
BEGIN:DAYLIGHT
TZOFFSETFROM:+0100
TZOFFSETTO:+0200
TZNAME:CEST
DTSTART:20240331T010000
END:DAYLIGHT
BEGIN:STANDARD
TZOFFSETFROM:+0200
TZOFFSETTO:+0100
TZNAME:CET
DTSTART:20241027T010000
END:STANDARD
END:VTIMEZONE
BEGIN:VEVENT
DTSTART;TZID=Europe/Helsinki:20230118T083000
DTEND;TZID=Europe/Helsinki:20230118T173000
DTSTAMP:20260425T021251
CREATED:20230110T114123Z
LAST-MODIFIED:20230110T114123Z
UID:1187-1674030600-1674063000@www.silpa.org
SUMMARY:Corso Base di Primo Soccorso per Aziende di Gruppo B e C
DESCRIPTION:12 ore
URL:https://www.silpa.org/corso/corso-base-di-primo-soccorso-per-aziende-di-gruppo-b-c-gennaio-2023-4/
LOCATION:Centro Addestramento Vimodrone\, Largo F.lli Cervi\, 8\, Vimodrone\, MI\, 20900\, Italia
ATTACH;FMTTYPE=image/jpeg:https://www.silpa.org/wp-content/uploads/2022/11/cpr-training.jpg
END:VEVENT
BEGIN:VEVENT
DTSTART;TZID=Europe/Paris:20230118T083000
DTEND;TZID=Europe/Paris:20230118T173000
DTSTAMP:20260425T021251
CREATED:20230110T112417Z
LAST-MODIFIED:20230110T112417Z
UID:691-1674030600-1674063000@www.silpa.org
SUMMARY:Corso Antincendio Livello III
DESCRIPTION:16 ore
URL:https://www.silpa.org/corso/corso-antincendio-livello-3-gennaio-2023-2/
LOCATION:Centro Addestramento Vimodrone\, Largo F.lli Cervi\, 8\, Vimodrone\, MI\, 20900\, Italia
ATTACH;FMTTYPE=image/jpeg:https://www.silpa.org/wp-content/uploads/2022/06/Silpa-Livello3.jpg
END:VEVENT
BEGIN:VEVENT
DTSTART;TZID=Europe/Paris:20230118T083000
DTEND;TZID=Europe/Paris:20230118T173000
DTSTAMP:20260425T021251
CREATED:20230110T112417Z
LAST-MODIFIED:20230110T112417Z
UID:1088-1674030600-1674063000@www.silpa.org
SUMMARY:Corso Antincendio Livello III
DESCRIPTION:16 ore
URL:https://www.silpa.org/corso/corso-antincendio-livello-3-gennaio-2023-2-2/
LOCATION:Centro Addestramento Vimodrone\, Largo F.lli Cervi\, 8\, Vimodrone\, MI\, 20900\, Italia
ATTACH;FMTTYPE=image/jpeg:https://www.silpa.org/wp-content/uploads/2022/06/Silpa-Livello3.jpg
END:VEVENT
BEGIN:VEVENT
DTSTART;TZID=Europe/Paris:20230118T083000
DTEND;TZID=Europe/Paris:20230118T173000
DTSTAMP:20260425T021251
CREATED:20230110T112417Z
LAST-MODIFIED:20230110T112417Z
UID:1180-1674030600-1674063000@www.silpa.org
SUMMARY:Corso Antincendio Livello III
DESCRIPTION:16 ore
URL:https://www.silpa.org/corso/corso-antincendio-livello-3-gennaio-2023-2-3/
LOCATION:Centro Addestramento Vimodrone\, Largo F.lli Cervi\, 8\, Vimodrone\, MI\, 20900\, Italia
ATTACH;FMTTYPE=image/jpeg:https://www.silpa.org/wp-content/uploads/2022/06/Silpa-Livello3.jpg
END:VEVENT
BEGIN:VEVENT
DTSTART;TZID=Europe/Paris:20230117T083000
DTEND;TZID=Europe/Paris:20230117T173000
DTSTAMP:20260425T021251
CREATED:20230110T112322Z
LAST-MODIFIED:20230110T112322Z
UID:689-1673944200-1673976600@www.silpa.org
SUMMARY:Corso Antincendio Livello III
DESCRIPTION:16 ore
URL:https://www.silpa.org/corso/corso-antincendio-livello-3-gennaio-2023/
LOCATION:Centro Addestramento Vimodrone\, Largo F.lli Cervi\, 8\, Vimodrone\, MI\, 20900\, Italia
ATTACH;FMTTYPE=image/jpeg:https://www.silpa.org/wp-content/uploads/2022/06/Silpa-Livello3.jpg
END:VEVENT
BEGIN:VEVENT
DTSTART;TZID=Europe/Paris:20230117T083000
DTEND;TZID=Europe/Paris:20230117T173000
DTSTAMP:20260425T021251
CREATED:20230110T112322Z
LAST-MODIFIED:20230110T112322Z
UID:1087-1673944200-1673976600@www.silpa.org
SUMMARY:Corso Antincendio Livello III
DESCRIPTION:16 ore
URL:https://www.silpa.org/corso/corso-antincendio-livello-3-gennaio-2023-3/
LOCATION:Centro Addestramento Vimodrone\, Largo F.lli Cervi\, 8\, Vimodrone\, MI\, 20900\, Italia
ATTACH;FMTTYPE=image/jpeg:https://www.silpa.org/wp-content/uploads/2022/06/Silpa-Livello3.jpg
END:VEVENT
BEGIN:VEVENT
DTSTART;TZID=Europe/Paris:20230117T083000
DTEND;TZID=Europe/Paris:20230117T173000
DTSTAMP:20260425T021251
CREATED:20230110T112322Z
LAST-MODIFIED:20230110T112322Z
UID:1179-1673944200-1673976600@www.silpa.org
SUMMARY:Corso Antincendio Livello III
DESCRIPTION:16 ore
URL:https://www.silpa.org/corso/corso-antincendio-livello-3-gennaio-2023-4/
LOCATION:Centro Addestramento Vimodrone\, Largo F.lli Cervi\, 8\, Vimodrone\, MI\, 20900\, Italia
ATTACH;FMTTYPE=image/jpeg:https://www.silpa.org/wp-content/uploads/2022/06/Silpa-Livello3.jpg
END:VEVENT
BEGIN:VEVENT
DTSTART;TZID=Europe/Helsinki:20230116T083000
DTEND;TZID=Europe/Helsinki:20230116T173000
DTSTAMP:20260425T021251
CREATED:20230110T122625Z
LAST-MODIFIED:20230110T122641Z
UID:732-1673857800-1673890200@www.silpa.org
SUMMARY:Corso Base di Primo Soccorso per Aziende di Gruppo B e C
DESCRIPTION:12 ore
URL:https://www.silpa.org/corso/corso-base-di-primo-soccorso-per-aziende-di-gruppo-b-c-febbraio-2023/
LOCATION:Centro Addestramento Vimodrone\, Largo F.lli Cervi\, 8\, Vimodrone\, MI\, 20900\, Italia
ATTACH;FMTTYPE=image/jpeg:https://www.silpa.org/wp-content/uploads/2022/11/cpr-training.jpg
END:VEVENT
BEGIN:VEVENT
DTSTART;TZID=Europe/Helsinki:20230116T083000
DTEND;TZID=Europe/Helsinki:20230116T173000
DTSTAMP:20260425T021251
CREATED:20230110T122625Z
LAST-MODIFIED:20230110T122625Z
UID:1108-1673857800-1673890200@www.silpa.org
SUMMARY:Corso Base di Primo Soccorso per Aziende di Gruppo B e C
DESCRIPTION:12 ore
URL:https://www.silpa.org/corso/corso-base-di-primo-soccorso-per-aziende-di-gruppo-b-c-febbraio-2023-2/
LOCATION:Centro Addestramento Vimodrone\, Largo F.lli Cervi\, 8\, Vimodrone\, MI\, 20900\, Italia
ATTACH;FMTTYPE=image/jpeg:https://www.silpa.org/wp-content/uploads/2022/11/cpr-training.jpg
END:VEVENT
BEGIN:VEVENT
DTSTART;TZID=Europe/Helsinki:20230116T083000
DTEND;TZID=Europe/Helsinki:20230116T173000
DTSTAMP:20260425T021251
CREATED:20230110T122625Z
LAST-MODIFIED:20230110T122625Z
UID:1215-1673857800-1673890200@www.silpa.org
SUMMARY:Corso Base di Primo Soccorso per Aziende di Gruppo B e C
DESCRIPTION:12 ore
URL:https://www.silpa.org/corso/corso-base-di-primo-soccorso-per-aziende-di-gruppo-b-c-febbraio-2023-3/
LOCATION:Centro Addestramento Vimodrone\, Largo F.lli Cervi\, 8\, Vimodrone\, MI\, 20900\, Italia
ATTACH;FMTTYPE=image/jpeg:https://www.silpa.org/wp-content/uploads/2022/11/cpr-training.jpg
END:VEVENT
BEGIN:VEVENT
DTSTART;TZID=Europe/Helsinki:20230116T083000
DTEND;TZID=Europe/Helsinki:20230116T173000
DTSTAMP:20260425T021251
CREATED:20230110T112813Z
LAST-MODIFIED:20230110T112813Z
UID:697-1673857800-1673890200@www.silpa.org
SUMMARY:Corso Antincendio Livello II
DESCRIPTION:8 ore
URL:https://www.silpa.org/corso/corso-antincendio-livello-2-gennaio-2023/
LOCATION:Centro Addestramento Vimodrone\, Largo F.lli Cervi\, 8\, Vimodrone\, MI\, 20900\, Italia
ATTACH;FMTTYPE=image/jpeg:https://www.silpa.org/wp-content/uploads/2022/06/Silpa-Livello2.jpg
END:VEVENT
BEGIN:VEVENT
DTSTART;TZID=Europe/Helsinki:20230116T083000
DTEND;TZID=Europe/Helsinki:20230116T173000
DTSTAMP:20260425T021251
CREATED:20230110T112813Z
LAST-MODIFIED:20230110T112813Z
UID:1091-1673857800-1673890200@www.silpa.org
SUMMARY:Corso Antincendio Livello II
DESCRIPTION:8 ore
URL:https://www.silpa.org/corso/corso-antincendio-livello-2-gennaio-2023-2/
LOCATION:Centro Addestramento Vimodrone\, Largo F.lli Cervi\, 8\, Vimodrone\, MI\, 20900\, Italia
ATTACH;FMTTYPE=image/jpeg:https://www.silpa.org/wp-content/uploads/2022/06/Silpa-Livello2.jpg
END:VEVENT
BEGIN:VEVENT
DTSTART;TZID=Europe/Helsinki:20230116T083000
DTEND;TZID=Europe/Helsinki:20230116T173000
DTSTAMP:20260425T021251
CREATED:20230110T112813Z
LAST-MODIFIED:20230110T112813Z
UID:1186-1673857800-1673890200@www.silpa.org
SUMMARY:Corso Antincendio Livello II
DESCRIPTION:8 ore
URL:https://www.silpa.org/corso/corso-antincendio-livello-2-gennaio-2023-3/
LOCATION:Centro Addestramento Vimodrone\, Largo F.lli Cervi\, 8\, Vimodrone\, MI\, 20900\, Italia
ATTACH;FMTTYPE=image/jpeg:https://www.silpa.org/wp-content/uploads/2022/06/Silpa-Livello2.jpg
END:VEVENT
END:VCALENDAR