BEGIN:VCALENDAR
VERSION:2.0
PRODID:-//Silpa S.r.l. - ECPv6.15.16.1//NONSGML v1.0//EN
CALSCALE:GREGORIAN
METHOD:PUBLISH
X-WR-CALNAME:Silpa S.r.l.
X-ORIGINAL-URL:https://www.silpa.org
X-WR-CALDESC:Eventi per Silpa S.r.l.
REFRESH-INTERVAL;VALUE=DURATION:PT1H
X-Robots-Tag:noindex
X-PUBLISHED-TTL:PT1H
BEGIN:VTIMEZONE
TZID:Europe/Helsinki
BEGIN:DAYLIGHT
TZOFFSETFROM:+0200
TZOFFSETTO:+0300
TZNAME:EEST
DTSTART:20240331T010000
END:DAYLIGHT
BEGIN:STANDARD
TZOFFSETFROM:+0300
TZOFFSETTO:+0200
TZNAME:EET
DTSTART:20241027T010000
END:STANDARD
BEGIN:DAYLIGHT
TZOFFSETFROM:+0200
TZOFFSETTO:+0300
TZNAME:EEST
DTSTART:20250330T010000
END:DAYLIGHT
BEGIN:STANDARD
TZOFFSETFROM:+0300
TZOFFSETTO:+0200
TZNAME:EET
DTSTART:20251026T010000
END:STANDARD
BEGIN:DAYLIGHT
TZOFFSETFROM:+0200
TZOFFSETTO:+0300
TZNAME:EEST
DTSTART:20260329T010000
END:DAYLIGHT
BEGIN:STANDARD
TZOFFSETFROM:+0300
TZOFFSETTO:+0200
TZNAME:EET
DTSTART:20261025T010000
END:STANDARD
END:VTIMEZONE
BEGIN:VTIMEZONE
TZID:Europe/Paris
BEGIN:DAYLIGHT
TZOFFSETFROM:+0100
TZOFFSETTO:+0200
TZNAME:CEST
DTSTART:20240331T010000
END:DAYLIGHT
BEGIN:STANDARD
TZOFFSETFROM:+0200
TZOFFSETTO:+0100
TZNAME:CET
DTSTART:20241027T010000
END:STANDARD
BEGIN:DAYLIGHT
TZOFFSETFROM:+0100
TZOFFSETTO:+0200
TZNAME:CEST
DTSTART:20250330T010000
END:DAYLIGHT
BEGIN:STANDARD
TZOFFSETFROM:+0200
TZOFFSETTO:+0100
TZNAME:CET
DTSTART:20251026T010000
END:STANDARD
BEGIN:DAYLIGHT
TZOFFSETFROM:+0100
TZOFFSETTO:+0200
TZNAME:CEST
DTSTART:20260329T010000
END:DAYLIGHT
BEGIN:STANDARD
TZOFFSETFROM:+0200
TZOFFSETTO:+0100
TZNAME:CET
DTSTART:20261025T010000
END:STANDARD
END:VTIMEZONE
BEGIN:VEVENT
DTSTART;TZID=Europe/Helsinki:20250627T083000
DTEND;TZID=Europe/Helsinki:20250627T123000
DTSTAMP:20260421T172820
CREATED:20250513T142620Z
LAST-MODIFIED:20250513T142620Z
UID:1813-1751013000-1751027400@www.silpa.org
SUMMARY:Corso Aggiornamento Primo Soccorso per Aziende di Gruppo B e C
DESCRIPTION:4 ore \nRICHIEDI INFO
URL:https://www.silpa.org/corso/corso-aggiornamento-primo-soccorso-per-aziende-di-gruppo-b-c-giugno-2025/
LOCATION:Centro Addestramento Vimodrone\, Largo F.lli Cervi\, 8\, Vimodrone\, MI\, 20900\, Italia
ATTACH;FMTTYPE=image/jpeg:https://www.silpa.org/wp-content/uploads/2022/11/cpr-training.jpg
END:VEVENT
BEGIN:VEVENT
DTSTART;TZID=Europe/Helsinki:20250627T083000
DTEND;TZID=Europe/Helsinki:20250627T123000
DTSTAMP:20260421T172820
CREATED:20250513T142542Z
LAST-MODIFIED:20250513T142542Z
UID:1811-1751013000-1751027400@www.silpa.org
SUMMARY:Corso Base Primo Soccorso per Aziende di Gruppo B e C - 2°Giorno
DESCRIPTION:12 ore \nRICHIEDI INFO
URL:https://www.silpa.org/corso/corso-base-di-primo-soccorso-per-aziende-di-gruppo-b-c-giugno-2025-2giorno/
LOCATION:Centro Addestramento Vimodrone\, Largo F.lli Cervi\, 8\, Vimodrone\, MI\, 20900\, Italia
ATTACH;FMTTYPE=image/jpeg:https://www.silpa.org/wp-content/uploads/2022/11/cpr-training.jpg
END:VEVENT
BEGIN:VEVENT
DTSTART;TZID=Europe/Helsinki:20250626T083000
DTEND;TZID=Europe/Helsinki:20250626T173000
DTSTAMP:20260421T172820
CREATED:20250513T142717Z
LAST-MODIFIED:20250513T142717Z
UID:1815-1750926600-1750959000@www.silpa.org
SUMMARY:Corso Base di Primo Soccorso per Aziende di Gruppo A - 1°Giorno
DESCRIPTION:16 ore \nRICHIEDI INFO
URL:https://www.silpa.org/corso/corso-base-di-primo-soccorso-per-aziende-di-gruppo-a-giugno-2025-1giorno/
LOCATION:Centro Addestramento Vimodrone\, Largo F.lli Cervi\, 8\, Vimodrone\, MI\, 20900\, Italia
ATTACH;FMTTYPE=image/jpeg:https://www.silpa.org/wp-content/uploads/2022/11/cpr-training.jpg
END:VEVENT
BEGIN:VEVENT
DTSTART;TZID=Europe/Helsinki:20250626T083000
DTEND;TZID=Europe/Helsinki:20250626T173000
DTSTAMP:20260421T172820
CREATED:20250513T142513Z
LAST-MODIFIED:20250513T142513Z
UID:1809-1750926600-1750959000@www.silpa.org
SUMMARY:Corso Base Primo Soccorso per Aziende di Gruppo B e C - 1°Giorno
DESCRIPTION:16 ore \nRICHIEDI INFO
URL:https://www.silpa.org/corso/corso-base-di-primo-soccorso-per-aziende-di-gruppo-b-c-giugno-2025-1giorno/
LOCATION:Centro Addestramento Vimodrone\, Largo F.lli Cervi\, 8\, Vimodrone\, MI\, 20900\, Italia
ATTACH;FMTTYPE=image/jpeg:https://www.silpa.org/wp-content/uploads/2022/11/cpr-training.jpg
END:VEVENT
BEGIN:VEVENT
DTSTART;TZID=Europe/Helsinki:20250625T083000
DTEND;TZID=Europe/Helsinki:20250625T173000
DTSTAMP:20260421T172820
CREATED:20250513T141806Z
LAST-MODIFIED:20250513T141806Z
UID:1803-1750840200-1750872600@www.silpa.org
SUMMARY:Corso Antincendio Aggiornamento Livello III
DESCRIPTION:8 ore \nRICHIEDI INFO
URL:https://www.silpa.org/corso/corso-antincendio-aggiornamento-livello-3-giugno-2025/
LOCATION:Centro Addestramento Vimodrone\, Largo F.lli Cervi\, 8\, Vimodrone\, MI\, 20900\, Italia
ATTACH;FMTTYPE=image/jpeg:https://www.silpa.org/wp-content/uploads/2022/06/Silpa-Aggiornamento-Livello3.jpg
END:VEVENT
BEGIN:VEVENT
DTSTART;TZID=Europe/Paris:20250619T083000
DTEND;TZID=Europe/Paris:20250619T173000
DTSTAMP:20260421T172820
CREATED:20250513T141626Z
LAST-MODIFIED:20250513T141626Z
UID:1801-1750321800-1750354200@www.silpa.org
SUMMARY:Corso Antincendio Livello III - 2°Giorno
DESCRIPTION:16 ore \n\nRICHIEDI INFO
URL:https://www.silpa.org/corso/corso-antincendio-livello-3-giugno-2025-2giorno/
LOCATION:Centro Addestramento Vimodrone\, Largo F.lli Cervi\, 8\, Vimodrone\, MI\, 20900\, Italia
ATTACH;FMTTYPE=image/jpeg:https://www.silpa.org/wp-content/uploads/2022/06/Silpa-Livello3.jpg
END:VEVENT
BEGIN:VEVENT
DTSTART;TZID=Europe/Paris:20250618T083000
DTEND;TZID=Europe/Paris:20250618T173000
DTSTAMP:20260421T172820
CREATED:20250513T141548Z
LAST-MODIFIED:20250513T141548Z
UID:1799-1750235400-1750267800@www.silpa.org
SUMMARY:Corso Antincendio Livello III - 1°Giorno
DESCRIPTION:16 ore \n\nRICHIEDI INFO
URL:https://www.silpa.org/corso/corso-antincendio-livello-3-giugno-2025-1giorno/
LOCATION:Centro Addestramento Vimodrone\, Largo F.lli Cervi\, 8\, Vimodrone\, MI\, 20900\, Italia
ATTACH;FMTTYPE=image/jpeg:https://www.silpa.org/wp-content/uploads/2022/06/Silpa-Livello3.jpg
END:VEVENT
BEGIN:VEVENT
DTSTART;TZID=Europe/Paris:20250617T083000
DTEND;TZID=Europe/Paris:20250617T173000
DTSTAMP:20260421T172820
CREATED:20250513T142227Z
LAST-MODIFIED:20250513T142227Z
UID:1807-1750149000-1750181400@www.silpa.org
SUMMARY:Corso Antincendio Livello II
DESCRIPTION:8 ore \n\nRICHIEDI INFO
URL:https://www.silpa.org/corso/corso-antincendio-livello-2-giugno-2025/
LOCATION:Centro Addestramento Vimodrone\, Largo F.lli Cervi\, 8\, Vimodrone\, MI\, 20900\, Italia
ATTACH;FMTTYPE=image/jpeg:https://www.silpa.org/wp-content/uploads/2022/06/Silpa-Livello3.jpg
END:VEVENT
BEGIN:VEVENT
DTSTART;TZID=Europe/Helsinki:20250606T083000
DTEND;TZID=Europe/Helsinki:20250606T133000
DTSTAMP:20260421T172820
CREATED:20250513T142149Z
LAST-MODIFIED:20250513T142149Z
UID:1805-1749198600-1749216600@www.silpa.org
SUMMARY:Corso Antincendio Aggiornamento Livello II
DESCRIPTION:5 ore \nRICHIEDI INFO
URL:https://www.silpa.org/corso/corso-antincendio-aggiornamento-livello-2-giugno-2025/
LOCATION:Centro Addestramento Vimodrone\, Largo F.lli Cervi\, 8\, Vimodrone\, MI\, 20900\, Italia
ATTACH;FMTTYPE=image/jpeg:https://www.silpa.org/wp-content/uploads/2022/06/Silpa-Aggiornamento-Livello3.jpg
END:VEVENT
BEGIN:VEVENT
DTSTART;TZID=Europe/Helsinki:20250530T083000
DTEND;TZID=Europe/Helsinki:20250530T133000
DTSTAMP:20260421T172820
CREATED:20250410T150858Z
LAST-MODIFIED:20250410T150858Z
UID:1788-1748593800-1748611800@www.silpa.org
SUMMARY:Corso Antincendio Aggiornamento Livello II
DESCRIPTION:5 ore \nRICHIEDI INFO
URL:https://www.silpa.org/corso/corso-antincendio-aggiornamento-livello-2-maggio-2025/
LOCATION:Centro Addestramento Vimodrone\, Largo F.lli Cervi\, 8\, Vimodrone\, MI\, 20900\, Italia
ATTACH;FMTTYPE=image/jpeg:https://www.silpa.org/wp-content/uploads/2022/06/Silpa-Aggiornamento-Livello3.jpg
END:VEVENT
BEGIN:VEVENT
DTSTART;TZID=Europe/Helsinki:20250530T083000
DTEND;TZID=Europe/Helsinki:20250530T123000
DTSTAMP:20260421T172820
CREATED:20250410T151301Z
LAST-MODIFIED:20250410T151301Z
UID:1796-1748593800-1748608200@www.silpa.org
SUMMARY:Corso Aggiornamento Primo Soccorso per Aziende di Gruppo B e C
DESCRIPTION:4 ore \nRICHIEDI INFO
URL:https://www.silpa.org/corso/corso-aggiornamento-primo-soccorso-per-aziende-di-gruppo-b-c-maggio-2025/
LOCATION:Centro Addestramento Vimodrone\, Largo F.lli Cervi\, 8\, Vimodrone\, MI\, 20900\, Italia
ATTACH;FMTTYPE=image/jpeg:https://www.silpa.org/wp-content/uploads/2022/11/cpr-training.jpg
END:VEVENT
BEGIN:VEVENT
DTSTART;TZID=Europe/Helsinki:20250530T083000
DTEND;TZID=Europe/Helsinki:20250530T123000
DTSTAMP:20260421T172820
CREATED:20250410T151058Z
LAST-MODIFIED:20250410T151058Z
UID:1794-1748593800-1748608200@www.silpa.org
SUMMARY:Corso Base Primo Soccorso per Aziende di Gruppo B e C - 2°Giorno
DESCRIPTION:12 ore \nRICHIEDI INFO
URL:https://www.silpa.org/corso/corso-base-di-primo-soccorso-per-aziende-di-gruppo-b-c-maggio-2025-2giorno/
LOCATION:Centro Addestramento Vimodrone\, Largo F.lli Cervi\, 8\, Vimodrone\, MI\, 20900\, Italia
ATTACH;FMTTYPE=image/jpeg:https://www.silpa.org/wp-content/uploads/2022/11/cpr-training.jpg
END:VEVENT
BEGIN:VEVENT
DTSTART;TZID=Europe/Helsinki:20250529T083000
DTEND;TZID=Europe/Helsinki:20250529T173000
DTSTAMP:20260421T172820
CREATED:20250410T151025Z
LAST-MODIFIED:20250410T151025Z
UID:1792-1748507400-1748539800@www.silpa.org
SUMMARY:Corso Base Primo Soccorso per Aziende di Gruppo B e C - 1°Giorno
DESCRIPTION:16 ore \nRICHIEDI INFO
URL:https://www.silpa.org/corso/corso-base-di-primo-soccorso-per-aziende-di-gruppo-b-c-maggio-2025-1giorno/
LOCATION:Centro Addestramento Vimodrone\, Largo F.lli Cervi\, 8\, Vimodrone\, MI\, 20900\, Italia
ATTACH;FMTTYPE=image/jpeg:https://www.silpa.org/wp-content/uploads/2022/11/cpr-training.jpg
END:VEVENT
BEGIN:VEVENT
DTSTART;TZID=Europe/Paris:20250523T083000
DTEND;TZID=Europe/Paris:20250523T173000
DTSTAMP:20260421T172820
CREATED:20250410T150613Z
LAST-MODIFIED:20250410T150613Z
UID:1784-1747989000-1748021400@www.silpa.org
SUMMARY:Corso Antincendio Livello III - 2°Giorno
DESCRIPTION:16 ore \n\nRICHIEDI INFO
URL:https://www.silpa.org/corso/corso-antincendio-livello-3-maggio-2025-2giorno/
LOCATION:Centro Addestramento Vimodrone\, Largo F.lli Cervi\, 8\, Vimodrone\, MI\, 20900\, Italia
ATTACH;FMTTYPE=image/jpeg:https://www.silpa.org/wp-content/uploads/2022/06/Silpa-Livello3.jpg
END:VEVENT
BEGIN:VEVENT
DTSTART;TZID=Europe/Paris:20250522T083000
DTEND;TZID=Europe/Paris:20250522T173000
DTSTAMP:20260421T172820
CREATED:20250410T150542Z
LAST-MODIFIED:20250410T150542Z
UID:1782-1747902600-1747935000@www.silpa.org
SUMMARY:Corso Antincendio Livello III - 1°Giorno
DESCRIPTION:16 ore \n\nRICHIEDI INFO
URL:https://www.silpa.org/corso/corso-antincendio-livello-3-maggio-2025-1giorno/
LOCATION:Centro Addestramento Vimodrone\, Largo F.lli Cervi\, 8\, Vimodrone\, MI\, 20900\, Italia
ATTACH;FMTTYPE=image/jpeg:https://www.silpa.org/wp-content/uploads/2022/06/Silpa-Livello3.jpg
END:VEVENT
BEGIN:VEVENT
DTSTART;TZID=Europe/Paris:20250509T083000
DTEND;TZID=Europe/Paris:20250509T173000
DTSTAMP:20260421T172820
CREATED:20250410T150933Z
LAST-MODIFIED:20250410T150933Z
UID:1790-1746779400-1746811800@www.silpa.org
SUMMARY:Corso Antincendio Livello II
DESCRIPTION:8 ore \n\nRICHIEDI INFO
URL:https://www.silpa.org/corso/corso-antincendio-livello-2-maggio-2025/
LOCATION:Centro Addestramento Vimodrone\, Largo F.lli Cervi\, 8\, Vimodrone\, MI\, 20900\, Italia
ATTACH;FMTTYPE=image/jpeg:https://www.silpa.org/wp-content/uploads/2022/06/Silpa-Livello3.jpg
END:VEVENT
BEGIN:VEVENT
DTSTART;TZID=Europe/Helsinki:20250509T083000
DTEND;TZID=Europe/Helsinki:20250509T173000
DTSTAMP:20260421T172820
CREATED:20250410T150656Z
LAST-MODIFIED:20250410T150656Z
UID:1786-1746779400-1746811800@www.silpa.org
SUMMARY:Corso Antincendio Aggiornamento Livello III
DESCRIPTION:8 ore \nRICHIEDI INFO
URL:https://www.silpa.org/corso/corso-antincendio-aggiornamento-livello-3-maggio-2025/
LOCATION:Centro Addestramento Vimodrone\, Largo F.lli Cervi\, 8\, Vimodrone\, MI\, 20900\, Italia
ATTACH;FMTTYPE=image/jpeg:https://www.silpa.org/wp-content/uploads/2022/06/Silpa-Aggiornamento-Livello3.jpg
END:VEVENT
BEGIN:VEVENT
DTSTART;TZID=Europe/Helsinki:20250418T083000
DTEND;TZID=Europe/Helsinki:20250418T123000
DTSTAMP:20260421T172820
CREATED:20250221T130500Z
LAST-MODIFIED:20250221T130500Z
UID:1776-1744965000-1744979400@www.silpa.org
SUMMARY:Corso Aggiornamento Primo Soccorso per Aziende di Gruppo B e C
DESCRIPTION:4 ore \nRICHIEDI INFO
URL:https://www.silpa.org/corso/corso-aggiornamento-primo-soccorso-per-aziende-di-gruppo-b-c-aprile-2025/
LOCATION:Centro Addestramento Vimodrone\, Largo F.lli Cervi\, 8\, Vimodrone\, MI\, 20900\, Italia
ATTACH;FMTTYPE=image/jpeg:https://www.silpa.org/wp-content/uploads/2022/11/cpr-training.jpg
END:VEVENT
BEGIN:VEVENT
DTSTART;TZID=Europe/Helsinki:20250418T083000
DTEND;TZID=Europe/Helsinki:20250418T123000
DTSTAMP:20260421T172820
CREATED:20250221T130227Z
LAST-MODIFIED:20250221T130227Z
UID:1772-1744965000-1744979400@www.silpa.org
SUMMARY:Corso Base Primo Soccorso per Aziende di Gruppo B e C - 2°Giorno
DESCRIPTION:12 ore \nRICHIEDI INFO
URL:https://www.silpa.org/corso/corso-base-di-primo-soccorso-per-aziende-di-gruppo-b-c-aprile-2025-2giorno/
LOCATION:Centro Addestramento Vimodrone\, Largo F.lli Cervi\, 8\, Vimodrone\, MI\, 20900\, Italia
ATTACH;FMTTYPE=image/jpeg:https://www.silpa.org/wp-content/uploads/2022/11/cpr-training.jpg
END:VEVENT
BEGIN:VEVENT
DTSTART;TZID=Europe/Helsinki:20250417T083000
DTEND;TZID=Europe/Helsinki:20250417T173000
DTSTAMP:20260421T172820
CREATED:20250221T130148Z
LAST-MODIFIED:20250221T130335Z
UID:1770-1744878600-1744911000@www.silpa.org
SUMMARY:Corso Base Primo Soccorso per Aziende di Gruppo B e C - 1°Giorno
DESCRIPTION:16 ore \nRICHIEDI INFO
URL:https://www.silpa.org/corso/corso-base-di-primo-soccorso-per-aziende-di-gruppo-b-c-aprile-2025-2giorno-2/
LOCATION:Centro Addestramento Vimodrone\, Largo F.lli Cervi\, 8\, Vimodrone\, MI\, 20900\, Italia
ATTACH;FMTTYPE=image/jpeg:https://www.silpa.org/wp-content/uploads/2022/11/cpr-training.jpg
END:VEVENT
BEGIN:VEVENT
DTSTART;TZID=Europe/Paris:20250417T083000
DTEND;TZID=Europe/Paris:20250417T173000
DTSTAMP:20260421T172820
CREATED:20250221T123954Z
LAST-MODIFIED:20250221T123954Z
UID:1762-1744878600-1744911000@www.silpa.org
SUMMARY:Corso Antincendio Livello III - 2°Giorno
DESCRIPTION:16 ore \n\nRICHIEDI INFO
URL:https://www.silpa.org/corso/corso-antincendio-livello-3-aprile-2025-2giorno/
LOCATION:Centro Addestramento Vimodrone\, Largo F.lli Cervi\, 8\, Vimodrone\, MI\, 20900\, Italia
ATTACH;FMTTYPE=image/jpeg:https://www.silpa.org/wp-content/uploads/2022/06/Silpa-Livello3.jpg
END:VEVENT
BEGIN:VEVENT
DTSTART;TZID=Europe/Paris:20250416T083000
DTEND;TZID=Europe/Paris:20250416T173000
DTSTAMP:20260421T172820
CREATED:20250221T130105Z
LAST-MODIFIED:20250221T130105Z
UID:1768-1744792200-1744824600@www.silpa.org
SUMMARY:Corso Antincendio Livello II
DESCRIPTION:8 ore \n\nRICHIEDI INFO
URL:https://www.silpa.org/corso/corso-antincendio-livello-2-aprile-2025/
LOCATION:Centro Addestramento Vimodrone\, Largo F.lli Cervi\, 8\, Vimodrone\, MI\, 20900\, Italia
ATTACH;FMTTYPE=image/jpeg:https://www.silpa.org/wp-content/uploads/2022/06/Silpa-Livello3.jpg
END:VEVENT
BEGIN:VEVENT
DTSTART;TZID=Europe/Paris:20250416T083000
DTEND;TZID=Europe/Paris:20250416T173000
DTSTAMP:20260421T172820
CREATED:20250221T123918Z
LAST-MODIFIED:20250221T123918Z
UID:1760-1744792200-1744824600@www.silpa.org
SUMMARY:Corso Antincendio Livello III - 1°Giorno
DESCRIPTION:16 ore \n\nRICHIEDI INFO
URL:https://www.silpa.org/corso/corso-antincendio-livello-3-aprile-2025-1giorno/
LOCATION:Centro Addestramento Vimodrone\, Largo F.lli Cervi\, 8\, Vimodrone\, MI\, 20900\, Italia
ATTACH;FMTTYPE=image/jpeg:https://www.silpa.org/wp-content/uploads/2022/06/Silpa-Livello3.jpg
END:VEVENT
BEGIN:VEVENT
DTSTART;TZID=Europe/Helsinki:20250414T083000
DTEND;TZID=Europe/Helsinki:20250414T173000
DTSTAMP:20260421T172820
CREATED:20250221T125734Z
LAST-MODIFIED:20250221T125734Z
UID:1764-1744619400-1744651800@www.silpa.org
SUMMARY:Corso Antincendio Aggiornamento Livello III
DESCRIPTION:8 ore \nRICHIEDI INFO
URL:https://www.silpa.org/corso/corso-antincendio-aggiornamento-livello-3-aprile-2025/
LOCATION:Centro Addestramento Vimodrone\, Largo F.lli Cervi\, 8\, Vimodrone\, MI\, 20900\, Italia
ATTACH;FMTTYPE=image/jpeg:https://www.silpa.org/wp-content/uploads/2022/06/Silpa-Aggiornamento-Livello3.jpg
END:VEVENT
BEGIN:VEVENT
DTSTART;TZID=Europe/Helsinki:20250404T083000
DTEND;TZID=Europe/Helsinki:20250404T133000
DTSTAMP:20260421T172820
CREATED:20250221T125951Z
LAST-MODIFIED:20250221T125951Z
UID:1766-1743755400-1743773400@www.silpa.org
SUMMARY:Corso Antincendio Aggiornamento Livello II
DESCRIPTION:5 ore \nRICHIEDI INFO
URL:https://www.silpa.org/corso/corso-antincendio-aggiornamento-livello-2-aprile-2025/
LOCATION:Centro Addestramento Vimodrone\, Largo F.lli Cervi\, 8\, Vimodrone\, MI\, 20900\, Italia
ATTACH;FMTTYPE=image/jpeg:https://www.silpa.org/wp-content/uploads/2022/06/Silpa-Aggiornamento-Livello3.jpg
END:VEVENT
BEGIN:VEVENT
DTSTART;TZID=Europe/Helsinki:20250328T083000
DTEND;TZID=Europe/Helsinki:20250328T123000
DTSTAMP:20260421T172820
CREATED:20250221T123221Z
LAST-MODIFIED:20250221T123221Z
UID:1752-1743150600-1743165000@www.silpa.org
SUMMARY:Corso Aggiornamento Primo Soccorso per Aziende di Gruppo B e C
DESCRIPTION:4 ore \nRICHIEDI INFO
URL:https://www.silpa.org/corso/corso-aggiornamento-primo-soccorso-per-aziende-di-gruppo-b-c-marzo-2025/
LOCATION:Centro Addestramento Vimodrone\, Largo F.lli Cervi\, 8\, Vimodrone\, MI\, 20900\, Italia
ATTACH;FMTTYPE=image/jpeg:https://www.silpa.org/wp-content/uploads/2022/11/cpr-training.jpg
END:VEVENT
BEGIN:VEVENT
DTSTART;TZID=Europe/Helsinki:20250328T083000
DTEND;TZID=Europe/Helsinki:20250328T123000
DTSTAMP:20260421T172820
CREATED:20250221T123134Z
LAST-MODIFIED:20250221T123134Z
UID:1750-1743150600-1743165000@www.silpa.org
SUMMARY:Corso Base Primo Soccorso per Aziende di Gruppo B e C - 2°Giorno
DESCRIPTION:12 ore \nRICHIEDI INFO
URL:https://www.silpa.org/corso/corso-base-primo-soccorso-per-aziende-di-gruppo-b-c-marzo-2025-2giorno/
LOCATION:Centro Addestramento Vimodrone\, Largo F.lli Cervi\, 8\, Vimodrone\, MI\, 20900\, Italia
ATTACH;FMTTYPE=image/jpeg:https://www.silpa.org/wp-content/uploads/2022/11/cpr-training.jpg
END:VEVENT
BEGIN:VEVENT
DTSTART;TZID=Europe/Helsinki:20250327T083000
DTEND;TZID=Europe/Helsinki:20250327T173000
DTSTAMP:20260421T172820
CREATED:20250221T122807Z
LAST-MODIFIED:20250221T122807Z
UID:1742-1743064200-1743096600@www.silpa.org
SUMMARY:Corso Antincendio Aggiornamento Livello III
DESCRIPTION:8 ore \nRICHIEDI INFO
URL:https://www.silpa.org/corso/corso-antincendio-aggiornamento-livello-3-marzo-2025/
LOCATION:Centro Addestramento Vimodrone\, Largo F.lli Cervi\, 8\, Vimodrone\, MI\, 20900\, Italia
ATTACH;FMTTYPE=image/jpeg:https://www.silpa.org/wp-content/uploads/2022/06/Silpa-Aggiornamento-Livello3.jpg
END:VEVENT
BEGIN:VEVENT
DTSTART;TZID=Europe/Helsinki:20250327T083000
DTEND;TZID=Europe/Helsinki:20250327T153000
DTSTAMP:20260421T172820
CREATED:20250221T123455Z
LAST-MODIFIED:20250221T123455Z
UID:1758-1743064200-1743089400@www.silpa.org
SUMMARY:Corso Aggiornamento Primo Soccorso per Aziende di Gruppo A
DESCRIPTION:6 ore \nRICHIEDI INFO
URL:https://www.silpa.org/corso/corso-aggiornamento-primo-soccorso-per-aziende-di-gruppo-a-marzo-2025/
LOCATION:Centro Addestramento Vimodrone\, Largo F.lli Cervi\, 8\, Vimodrone\, MI\, 20900\, Italia
ATTACH;FMTTYPE=image/jpeg:https://www.silpa.org/wp-content/uploads/2022/11/cpr-training.jpg
END:VEVENT
BEGIN:VEVENT
DTSTART;TZID=Europe/Helsinki:20250325T083000
DTEND;TZID=Europe/Helsinki:20250325T173000
DTSTAMP:20260421T172820
CREATED:20250221T123404Z
LAST-MODIFIED:20250221T123404Z
UID:1756-1742891400-1742923800@www.silpa.org
SUMMARY:Corso Base di Primo Soccorso per Aziende di Gruppo A - 2°Giorno
DESCRIPTION:16 ore \nRICHIEDI INFO
URL:https://www.silpa.org/corso/corso-base-di-primo-soccorso-per-aziende-di-gruppo-a-marzo-2025-2giorno/
LOCATION:Centro Addestramento Vimodrone\, Largo F.lli Cervi\, 8\, Vimodrone\, MI\, 20900\, Italia
ATTACH;FMTTYPE=image/jpeg:https://www.silpa.org/wp-content/uploads/2022/11/cpr-training.jpg
END:VEVENT
END:VCALENDAR